BEGIN:VCALENDAR
VERSION:2.0
PRODID:-//Osterather Turnverein 1893 e.V. - ECPv6.15.15//NONSGML v1.0//EN
CALSCALE:GREGORIAN
METHOD:PUBLISH
X-ORIGINAL-URL:https://otv1893.de
X-WR-CALDESC:Veranstaltungen für Osterather Turnverein 1893 e.V.
REFRESH-INTERVAL;VALUE=DURATION:PT1H
X-Robots-Tag:noindex
X-PUBLISHED-TTL:PT1H
BEGIN:VTIMEZONE
TZID:Europe/Berlin
BEGIN:DAYLIGHT
TZOFFSETFROM:+0100
TZOFFSETTO:+0200
TZNAME:CEST
DTSTART:20280326T010000
END:DAYLIGHT
BEGIN:STANDARD
TZOFFSETFROM:+0200
TZOFFSETTO:+0100
TZNAME:CET
DTSTART:20281029T010000
END:STANDARD
BEGIN:DAYLIGHT
TZOFFSETFROM:+0100
TZOFFSETTO:+0200
TZNAME:CEST
DTSTART:20290325T010000
END:DAYLIGHT
BEGIN:STANDARD
TZOFFSETFROM:+0200
TZOFFSETTO:+0100
TZNAME:CET
DTSTART:20291028T010000
END:STANDARD
BEGIN:DAYLIGHT
TZOFFSETFROM:+0100
TZOFFSETTO:+0200
TZNAME:CEST
DTSTART:20300331T010000
END:DAYLIGHT
BEGIN:STANDARD
TZOFFSETFROM:+0200
TZOFFSETTO:+0100
TZNAME:CET
DTSTART:20301027T010000
END:STANDARD
END:VTIMEZONE
BEGIN:VEVENT
DTSTART;TZID=Europe/Berlin:20291001T101000
DTEND;TZID=Europe/Berlin:20291001T111000
DTSTAMP:20260421T072622
CREATED:20230417T142055Z
LAST-MODIFIED:20240223T135036Z
UID:10053651-1885543800-1885547400@otv1893.de
SUMMARY:Seniorensport ab 60 Jahre
DESCRIPTION:Kein Training in den Ferien oder an Feiertagen. \nFür Rückfragen  ÜL Monika Strotmann kontaktieren.
URL:https://otv1893.de/veranstaltung/seniorensport-ab-60-jahre/2029-10-01/
LOCATION:Gymnastikhalle /alte Realschulturnhalle\, Fröbelstr.\, NRW\, Deutschland
CATEGORIES:Gymnastik
GEO:51.4332367;7.6615938
END:VEVENT
BEGIN:VEVENT
DTSTART;TZID=Europe/Berlin:20291001T163000
DTEND;TZID=Europe/Berlin:20291001T174500
DTSTAMP:20260421T072622
CREATED:20210920T100817Z
LAST-MODIFIED:20250116T081103Z
UID:10044907-1885566600-1885571100@otv1893.de
SUMMARY:Kinder-Leichtathletik
DESCRIPTION:Kinder U8-10 \n7-9 Jahre\nÜL: Petra Gieseler-Hirsch \nIm Winter von 16:30-17:30 Turnhalle Wienenweg\nIm Sommer von 16:30-17:45 Sportanlage Krähenacker
URL:https://otv1893.de/veranstaltung/kinder-leichtathletik/2029-10-01/
LOCATION:Bezirkssportanlage Am Krähenacker\, Rudolf-Lensing-Ring 86\, Meerbusch\, NRW\, 40670\, Deutschland
CATEGORIES:Leichtathletik
GEO:51.2702381;6.6072093
X-APPLE-STRUCTURED-LOCATION;VALUE=URI;X-ADDRESS=Bezirkssportanlage Am Krähenacker Rudolf-Lensing-Ring 86 Meerbusch NRW 40670 Deutschland;X-APPLE-RADIUS=500;X-TITLE=Rudolf-Lensing-Ring 86:geo:6.6072093,51.2702381
END:VEVENT
BEGIN:VEVENT
DTSTART;TZID=Europe/Berlin:20291001T163000
DTEND;TZID=Europe/Berlin:20291001T180000
DTSTAMP:20260421T072622
CREATED:20220327T150027Z
LAST-MODIFIED:20230510T100214Z
UID:10048294-1885566600-1885572000@otv1893.de
SUMMARY:Fördertraining
DESCRIPTION:Ül.: Lydia Domisch
URL:https://otv1893.de/veranstaltung/foerdertraining-2/2029-10-01/
LOCATION:Alte Realschul-TH Fröbelstraße
CATEGORIES:Turnen
END:VEVENT
BEGIN:VEVENT
DTSTART;TZID=Europe/Berlin:20291001T164500
DTEND;TZID=Europe/Berlin:20291001T181500
DTSTAMP:20260421T072622
CREATED:20230326T124849Z
LAST-MODIFIED:20230326T124849Z
UID:10052329-1885567500-1885572900@otv1893.de
SUMMARY:U11-/ U13-Training
DESCRIPTION:
URL:https://otv1893.de/veranstaltung/u11-u13-training/2029-10-01/
LOCATION:2-fach Turnhalle Städt. Realschule Osterath\, Görresstr. 6\, Meerbusch-Osterath\, 40670\, Deutschland
CATEGORIES:Badminton
ORGANIZER;CN="OTV Abteilung Badminton":MAILTO:max.frickel@web.de
GEO:51.2715;6.617342
X-APPLE-STRUCTURED-LOCATION;VALUE=URI;X-ADDRESS=2-fach Turnhalle Städt. Realschule Osterath Görresstr. 6 Meerbusch-Osterath 40670 Deutschland;X-APPLE-RADIUS=500;X-TITLE=Görresstr. 6:geo:6.617342,51.2715
END:VEVENT
BEGIN:VEVENT
DTSTART;TZID=Europe/Berlin:20291001T173000
DTEND;TZID=Europe/Berlin:20291001T190000
DTSTAMP:20260421T072622
CREATED:20220516T155922Z
LAST-MODIFIED:20250116T080711Z
UID:10044831-1885570200-1885575600@otv1893.de
SUMMARY:Kinder-Leichtathletik
DESCRIPTION:Kinder U12 \n9-11 Jahre\nÜL: Petra Gieseler-Hirsch \nIm Winter von 17:30-18:30 Turnhalle Wienenweg\nIm Sommer von 17:45-19:00 Sportanlage Krähenacker
URL:https://otv1893.de/veranstaltung/kinder-leichtathletik-duplicate-1/2029-10-01/
LOCATION:Bezirkssportanlage Am Krähenacker\, Rudolf-Lensing-Ring 86\, Meerbusch\, NRW\, 40670\, Deutschland
CATEGORIES:Leichtathletik
GEO:51.2702381;6.6072093
X-APPLE-STRUCTURED-LOCATION;VALUE=URI;X-ADDRESS=Bezirkssportanlage Am Krähenacker Rudolf-Lensing-Ring 86 Meerbusch NRW 40670 Deutschland;X-APPLE-RADIUS=500;X-TITLE=Rudolf-Lensing-Ring 86:geo:6.6072093,51.2702381
END:VEVENT
BEGIN:VEVENT
DTSTART;TZID=Europe/Berlin:20291001T181500
DTEND;TZID=Europe/Berlin:20291001T191500
DTSTAMP:20260421T072622
CREATED:20230417T150236Z
LAST-MODIFIED:20240823T133746Z
UID:10053722-1885572900-1885576500@otv1893.de
SUMMARY:Gymnastik Damen 60 Plus
DESCRIPTION:ÜL: Heike Wolter. Offen für alle OTV-Mitglieder. \nKein Training in den Schulferien oder an Feiertagen. \nBei Rückfragen Heike Wolter kontaktieren.
URL:https://otv1893.de/veranstaltung/gymnastik-damen-60-plus/2029-10-01/
LOCATION:Alte Realschul-TH Fröbelstraße
CATEGORIES:Gymnastik
ORGANIZER;CN="OTV - Osterather Turnverein 1893 e.V.":MAILTO:buero@otv1893.de
END:VEVENT
BEGIN:VEVENT
DTSTART;TZID=Europe/Berlin:20291001T181500
DTEND;TZID=Europe/Berlin:20291001T194500
DTSTAMP:20260421T072622
CREATED:20230326T124517Z
LAST-MODIFIED:20230619T122431Z
UID:10052455-1885572900-1885578300@otv1893.de
SUMMARY:U15-/ U19-Training
DESCRIPTION:
URL:https://otv1893.de/veranstaltung/u15-u19-training-2-2/2029-10-01/
LOCATION:2-fach Turnhalle Städt. Realschule Osterath\, Görresstr. 6\, Meerbusch-Osterath\, 40670\, Deutschland
CATEGORIES:Badminton
ORGANIZER;CN="OTV Abteilung Badminton":MAILTO:max.frickel@web.de
GEO:51.2715;6.617342
X-APPLE-STRUCTURED-LOCATION;VALUE=URI;X-ADDRESS=2-fach Turnhalle Städt. Realschule Osterath Görresstr. 6 Meerbusch-Osterath 40670 Deutschland;X-APPLE-RADIUS=500;X-TITLE=Görresstr. 6:geo:6.617342,51.2715
END:VEVENT
BEGIN:VEVENT
DTSTART;TZID=Europe/Berlin:20291001T181500
DTEND;TZID=Europe/Berlin:20291001T200000
DTSTAMP:20260421T072622
CREATED:20250529T202009Z
LAST-MODIFIED:20250529T202009Z
UID:10046629-1885572900-1885579200@otv1893.de
SUMMARY:WU16
DESCRIPTION:
URL:https://otv1893.de/veranstaltung/wu16-2-2/2029-10-01/
LOCATION:2- und 3-fach Turnhallen Städt. Meerbusch Gymnasium\, Mönkesweg 58\, Meerbusch - Strümp\, NRW\, 40670\, Deutschland
CATEGORIES:Volleyball
GEO:51.27803;6.65001
X-APPLE-STRUCTURED-LOCATION;VALUE=URI;X-ADDRESS=2- und 3-fach Turnhallen Städt. Meerbusch Gymnasium Mönkesweg 58 Meerbusch - Strümp NRW 40670 Deutschland;X-APPLE-RADIUS=500;X-TITLE=Mönkesweg 58:geo:6.65001,51.27803
END:VEVENT
BEGIN:VEVENT
DTSTART;TZID=Europe/Berlin:20291001T181500
DTEND;TZID=Europe/Berlin:20291001T200000
DTSTAMP:20260421T072622
CREATED:20250529T202112Z
LAST-MODIFIED:20250529T202112Z
UID:10047147-1885572900-1885579200@otv1893.de
SUMMARY:WU18
DESCRIPTION:
URL:https://otv1893.de/veranstaltung/wu18-2-2/2029-10-01/
LOCATION:2- und 3-fach Turnhallen Städt. Meerbusch Gymnasium\, Mönkesweg 58\, Meerbusch - Strümp\, NRW\, 40670\, Deutschland
CATEGORIES:Volleyball
GEO:51.27803;6.65001
X-APPLE-STRUCTURED-LOCATION;VALUE=URI;X-ADDRESS=2- und 3-fach Turnhallen Städt. Meerbusch Gymnasium Mönkesweg 58 Meerbusch - Strümp NRW 40670 Deutschland;X-APPLE-RADIUS=500;X-TITLE=Mönkesweg 58:geo:6.65001,51.27803
END:VEVENT
BEGIN:VEVENT
DTSTART;TZID=Europe/Berlin:20291001T191500
DTEND;TZID=Europe/Berlin:20291001T201500
DTSTAMP:20260421T072622
CREATED:20230417T150731Z
LAST-MODIFIED:20240823T133335Z
UID:10053790-1885576500-1885580100@otv1893.de
SUMMARY:Body Workout
DESCRIPTION:Offen für alle OTV Mitglieder. Training für den ganzen Körper. \nÜL: Birgit Mehmel \nTraining in den Ferien nur nach Absprache mit der Übungsleiterin
URL:https://otv1893.de/veranstaltung/body-workout/2029-10-01/
LOCATION:Alte Realschul-TH Fröbelstraße
CATEGORIES:Gymnastik
ORGANIZER;CN="OTV - Osterather Turnverein 1893 e.V.":MAILTO:buero@otv1893.de
END:VEVENT
BEGIN:VEVENT
DTSTART;TZID=Europe/Berlin:20291001T194500
DTEND;TZID=Europe/Berlin:20291001T220000
DTSTAMP:20260421T072622
CREATED:20230326T125711Z
LAST-MODIFIED:20230326T125711Z
UID:10052794-1885578300-1885586400@otv1893.de
SUMMARY:Senioren-Training
DESCRIPTION:
URL:https://otv1893.de/veranstaltung/senioren-training/2029-10-01/
LOCATION:2-fach Turnhalle Städt. Realschule Osterath\, Görresstr. 6\, Meerbusch-Osterath\, 40670\, Deutschland
CATEGORIES:Badminton
ORGANIZER;CN="OTV Abteilung Badminton":MAILTO:max.frickel@web.de
GEO:51.2715;6.617342
X-APPLE-STRUCTURED-LOCATION;VALUE=URI;X-ADDRESS=2-fach Turnhalle Städt. Realschule Osterath Görresstr. 6 Meerbusch-Osterath 40670 Deutschland;X-APPLE-RADIUS=500;X-TITLE=Görresstr. 6:geo:6.617342,51.2715
END:VEVENT
BEGIN:VEVENT
DTSTART;TZID=Europe/Berlin:20291001T200000
DTEND;TZID=Europe/Berlin:20291001T220000
DTSTAMP:20260421T072622
CREATED:20230126T090216Z
LAST-MODIFIED:20230504T093215Z
UID:10051831-1885579200-1885586400@otv1893.de
SUMMARY:Hobbymixed 2
DESCRIPTION:
URL:https://otv1893.de/veranstaltung/hobbymixed-2/2029-10-01/
LOCATION:2- und 3-fach Turnhallen Städt. Meerbusch Gymnasium\, Mönkesweg 58\, Meerbusch - Strümp\, NRW\, 40670\, Deutschland
CATEGORIES:Volleyball
GEO:51.27803;6.65001
X-APPLE-STRUCTURED-LOCATION;VALUE=URI;X-ADDRESS=2- und 3-fach Turnhallen Städt. Meerbusch Gymnasium Mönkesweg 58 Meerbusch - Strümp NRW 40670 Deutschland;X-APPLE-RADIUS=500;X-TITLE=Mönkesweg 58:geo:6.65001,51.27803
END:VEVENT
BEGIN:VEVENT
DTSTART;TZID=Europe/Berlin:20291001T201500
DTEND;TZID=Europe/Berlin:20291001T211500
DTSTAMP:20260421T072622
CREATED:20230417T151307Z
LAST-MODIFIED:20240823T133435Z
UID:10053859-1885580100-1885583700@otv1893.de
SUMMARY:Body Workout
DESCRIPTION:offen für alle OTV Mitglieder. Training für den ganzen Körper. \nÜL: Birgit Mehmel. \nTraining in den Ferien nur nach Absprache mit der Übungsleiterin
URL:https://otv1893.de/veranstaltung/body-workout-2/2029-10-01/
LOCATION:Alte Realschul-TH Fröbelstraße
CATEGORIES:Gymnastik
ORGANIZER;CN="OTV - Osterather Turnverein 1893 e.V.":MAILTO:buero@otv1893.de
END:VEVENT
BEGIN:VEVENT
DTSTART;TZID=Europe/Berlin:20291002T090000
DTEND;TZID=Europe/Berlin:20291002T100000
DTSTAMP:20260421T072622
CREATED:20230417T152125Z
LAST-MODIFIED:20240823T134242Z
UID:10053926-1885626000-1885629600@otv1893.de
SUMMARY:Seniorensport "Aerobic und Gymnastik" ab 60 - für Sie und Ihn
DESCRIPTION:Übungsleiterin: Ulla Held \noffen für alle OTV-Mitglieder. Voraussetzung: Spaß an der Bewegung! Nach freien Plätzen fragen! \nggf. kein Training in den Schulferien. Trainingsstätte kann aktuell abweichen. Übungsleiterin kontaktieren!
URL:https://otv1893.de/veranstaltung/seniorensport-aerobic-und-gymnastik-ab-60-fuer-sie-und-ihn/2029-10-02/
LOCATION:Gymnastikhalle /alte Realschulturnhalle\, Fröbelstr.\, NRW\, Deutschland
CATEGORIES:Gymnastik
ORGANIZER;CN="OTV - Osterather Turnverein 1893 e.V.":MAILTO:buero@otv1893.de
GEO:51.4332367;7.6615938
END:VEVENT
BEGIN:VEVENT
DTSTART;TZID=Europe/Berlin:20291002T111500
DTEND;TZID=Europe/Berlin:20291002T121500
DTSTAMP:20260421T072622
CREATED:20251015T085509Z
LAST-MODIFIED:20251015T085519Z
UID:10050682-1885634100-1885637700@otv1893.de
SUMMARY:Orthopädie-Sportgruppe
DESCRIPTION:
URL:https://otv1893.de/veranstaltung/orthopaedie-sportgruppe-2/2029-10-02/
LOCATION:Gymnastikhalle Fröbelstraße\, Görresstr. 6\, 40670 Meerbusch\, NRW\, Deutschland
CATEGORIES:Reha-Sport
ATTACH;FMTTYPE=image/jpeg:https://otv1893.de/wp-content/uploads/2021/09/pexels-marta-wave-6454196web.jpg
GEO:51.4332367;7.6615938
X-APPLE-STRUCTURED-LOCATION;VALUE=URI;X-ADDRESS=Gymnastikhalle Fröbelstraße Görresstr. 6 40670 Meerbusch NRW Deutschland;X-APPLE-RADIUS=500;X-TITLE=Görresstr. 6:geo:7.6615938,51.4332367
END:VEVENT
BEGIN:VEVENT
DTSTART;TZID=Europe/Berlin:20291002T163000
DTEND;TZID=Europe/Berlin:20291002T171500
DTSTAMP:20260421T072622
CREATED:20230508T160002Z
LAST-MODIFIED:20230510T095102Z
UID:10054895-1885653000-1885655700@otv1893.de
SUMMARY:Familiengruppe 1-4 Jahre
DESCRIPTION:Ül.: Sabine Steitz
URL:https://otv1893.de/veranstaltung/familiengruppe-1-4-jahre-5-2/2029-10-02/
LOCATION:Turnhalle Städt. Gemeinschafts-Grundschule Wienenweg\, Wienenweg 38\, Meerbusch-Osterath\, NRW\, 40670\, Deutschland
CATEGORIES:Turnen
GEO:51.27029;6.63279
X-APPLE-STRUCTURED-LOCATION;VALUE=URI;X-ADDRESS=Turnhalle Städt. Gemeinschafts-Grundschule Wienenweg Wienenweg 38 Meerbusch-Osterath NRW 40670 Deutschland;X-APPLE-RADIUS=500;X-TITLE=Wienenweg 38:geo:6.63279,51.27029
END:VEVENT
BEGIN:VEVENT
DTSTART;TZID=Europe/Berlin:20291002T171500
DTEND;TZID=Europe/Berlin:20291002T180000
DTSTAMP:20260421T072622
CREATED:20230508T160113Z
LAST-MODIFIED:20230510T101218Z
UID:10055230-1885655700-1885658400@otv1893.de
SUMMARY:Familiengruppe 1-4 Jahre
DESCRIPTION:Ül.: Sabine Steitz
URL:https://otv1893.de/veranstaltung/familiengruppe-1-4-jahre-6-2/2029-10-02/
LOCATION:Turnhalle Städt. Gemeinschafts-Grundschule Wienenweg\, Wienenweg 38\, Meerbusch-Osterath\, NRW\, 40670\, Deutschland
CATEGORIES:Turnen
GEO:51.27029;6.63279
X-APPLE-STRUCTURED-LOCATION;VALUE=URI;X-ADDRESS=Turnhalle Städt. Gemeinschafts-Grundschule Wienenweg Wienenweg 38 Meerbusch-Osterath NRW 40670 Deutschland;X-APPLE-RADIUS=500;X-TITLE=Wienenweg 38:geo:6.63279,51.27029
END:VEVENT
BEGIN:VEVENT
DTSTART;TZID=Europe/Berlin:20291002T180000
DTEND;TZID=Europe/Berlin:20291002T193000
DTSTAMP:20260421T072622
CREATED:20210501T113747Z
LAST-MODIFIED:20220516T161358Z
UID:10048446-1885658400-1885663800@otv1893.de
SUMMARY:Sportabzeichen (Herren/Damen)
DESCRIPTION:Sportabzeichentraining / Leichtathletik (mit Möglichkeit zur Abnahme der Prüfung) \nGebühr für Nichtmitglieder: 35\,-- Euro
URL:https://otv1893.de/veranstaltung/sportabzeichen-herren-damen-2021-09-28/2029-10-02/
LOCATION:Bezirkssportanlage Am Krähenacker\, Rudolf-Lensing-Ring 86\, Meerbusch\, NRW\, 40670\, Deutschland
CATEGORIES:Leichtathletik
GEO:51.2702381;6.6072093
X-APPLE-STRUCTURED-LOCATION;VALUE=URI;X-ADDRESS=Bezirkssportanlage Am Krähenacker Rudolf-Lensing-Ring 86 Meerbusch NRW 40670 Deutschland;X-APPLE-RADIUS=500;X-TITLE=Rudolf-Lensing-Ring 86:geo:6.6072093,51.2702381
END:VEVENT
BEGIN:VEVENT
DTSTART;TZID=Europe/Berlin:20291002T180000
DTEND;TZID=Europe/Berlin:20291002T200000
DTSTAMP:20260421T072622
CREATED:20210501T113636Z
LAST-MODIFIED:20220514T075437Z
UID:10048674-1885658400-1885665600@otv1893.de
SUMMARY:Erwachsene/Jugend (Mittel- Langstrecke)
DESCRIPTION:Tempo- / Intervall-Training für Läufer mit Wettkampfambitionen
URL:https://otv1893.de/veranstaltung/erwachsene-jugend-2022-05-17/2029-10-02/
LOCATION:Bezirkssportanlage Am Krähenacker\, Rudolf-Lensing-Ring 86\, Meerbusch\, NRW\, 40670\, Deutschland
CATEGORIES:Leichtathletik
GEO:51.2702381;6.6072093
X-APPLE-STRUCTURED-LOCATION;VALUE=URI;X-ADDRESS=Bezirkssportanlage Am Krähenacker Rudolf-Lensing-Ring 86 Meerbusch NRW 40670 Deutschland;X-APPLE-RADIUS=500;X-TITLE=Rudolf-Lensing-Ring 86:geo:6.6072093,51.2702381
END:VEVENT
BEGIN:VEVENT
DTSTART;TZID=Europe/Berlin:20291002T180000
DTEND;TZID=Europe/Berlin:20291002T200000
DTSTAMP:20260421T072622
CREATED:20210501T113636Z
LAST-MODIFIED:20220514T074938Z
UID:10048560-1885658400-1885665600@otv1893.de
SUMMARY:Erwachsene/Jugend (Mittel- Langstrecke)
DESCRIPTION:Tempo- / Intervall-Training für Läufer mit Wettkampfambitionen
URL:https://otv1893.de/veranstaltung/erwachsene-jugend/2029-10-02/
LOCATION:Bezirkssportanlage Am Krähenacker\, Rudolf-Lensing-Ring 86\, Meerbusch\, NRW\, 40670\, Deutschland
CATEGORIES:Leichtathletik
GEO:51.2702381;6.6072093
X-APPLE-STRUCTURED-LOCATION;VALUE=URI;X-ADDRESS=Bezirkssportanlage Am Krähenacker Rudolf-Lensing-Ring 86 Meerbusch NRW 40670 Deutschland;X-APPLE-RADIUS=500;X-TITLE=Rudolf-Lensing-Ring 86:geo:6.6072093,51.2702381
END:VEVENT
BEGIN:VEVENT
DTSTART;TZID=Europe/Berlin:20291002T181500
DTEND;TZID=Europe/Berlin:20291002T194500
DTSTAMP:20260421T072622
CREATED:20251015T085552Z
LAST-MODIFIED:20251015T085607Z
UID:10051020-1885659300-1885664700@otv1893.de
SUMMARY:Herzsportgruppe
DESCRIPTION:
URL:https://otv1893.de/veranstaltung/herzsportgruppe-2/2029-10-02/
LOCATION:Turnhalle GGS Wienenweg\, Wienenweg 38\, 40670 Meerbusch\, NRW\, Deutschland
CATEGORIES:Reha-Sport
ATTACH;FMTTYPE=image/jpeg:https://otv1893.de/wp-content/uploads/2021/09/pexels-rodnae-productions-10031322web.jpg
GEO:51.2703186;6.6331219
X-APPLE-STRUCTURED-LOCATION;VALUE=URI;X-ADDRESS=Turnhalle GGS Wienenweg Wienenweg 38 40670 Meerbusch NRW Deutschland;X-APPLE-RADIUS=500;X-TITLE=Wienenweg 38:geo:6.6331219,51.2703186
END:VEVENT
BEGIN:VEVENT
DTSTART;TZID=Europe/Berlin:20291002T194500
DTEND;TZID=Europe/Berlin:20291002T211500
DTSTAMP:20260421T072622
CREATED:20211021T104047Z
LAST-MODIFIED:20230703T065051Z
UID:10048788-1885664700-1885670100@otv1893.de
SUMMARY:"Step Aerobic"
DESCRIPTION:Übungsleiterin: Petra Meyes-Braukmann \nOffen für alle OTV-Mitglieder \nggf. kein Training in den Schulferien - bei Fragen Petra M.-Braukmann kontaktieren
URL:https://otv1893.de/veranstaltung/step-aerobic/2029-10-02/
LOCATION:Turnhalle Städt. Gemeinschafts-Grundschule Wienenweg\, Wienenweg 38\, Meerbusch-Osterath\, NRW\, 40670\, Deutschland
CATEGORIES:Gymnastik
GEO:51.27029;6.63279
X-APPLE-STRUCTURED-LOCATION;VALUE=URI;X-ADDRESS=Turnhalle Städt. Gemeinschafts-Grundschule Wienenweg Wienenweg 38 Meerbusch-Osterath NRW 40670 Deutschland;X-APPLE-RADIUS=500;X-TITLE=Wienenweg 38:geo:6.63279,51.27029
END:VEVENT
BEGIN:VEVENT
DTSTART;TZID=Europe/Berlin:20291003T084500
DTEND;TZID=Europe/Berlin:20291003T101500
DTSTAMP:20260421T072622
CREATED:20211102T162758Z
LAST-MODIFIED:20240419T054516Z
UID:10048865-1885711500-1885716900@otv1893.de
SUMMARY:Vitality Body Mix
DESCRIPTION:ÜL: Birgit Mehmel . \noffen für alle OTV-Mitglieder (Damen) \nMix aus Pilates\, Yoga\, Rücken- u. Funktionsgymnastik u. Entspannung. Sanft aber effektiv. \nKein Training in den Schulferien oder an Feiertagen!
URL:https://otv1893.de/veranstaltung/vitality-body-mix-4/2029-10-03/
LOCATION:Gymnastikhalle /alte Realschulturnhalle\, Fröbelstr.\, NRW\, Deutschland
CATEGORIES:Gymnastik
ATTACH;FMTTYPE=image/jpeg:https://otv1893.de/wp-content/uploads/2021/09/pexels-marta-wave-6454196web.jpg
GEO:51.4332367;7.6615938
END:VEVENT
BEGIN:VEVENT
DTSTART;TZID=Europe/Berlin:20291003T111500
DTEND;TZID=Europe/Berlin:20291003T121500
DTSTAMP:20260421T072622
CREATED:20230417T160516Z
LAST-MODIFIED:20240419T055103Z
UID:10054015-1885720500-1885724100@otv1893.de
SUMMARY:Ganzheitliches Beckenbodentraining für Damen (Kursangebot)
DESCRIPTION:Kursangebot mit festen Anfangs-u. Endterminen. - Mit Zuzahlung. - Auch für Gäste. \nFür Kursdetails bitte Kursleiterin Ulla Held kontaktieren.
URL:https://otv1893.de/veranstaltung/ganzheitliches-beckenbodentraining-fuer-damen-kursangebot/2029-10-03/
LOCATION:Gymnastikhalle /alte Realschulturnhalle\, Fröbelstr.\, NRW\, Deutschland
CATEGORIES:Gymnastik
GEO:51.4332367;7.6615938
END:VEVENT
BEGIN:VEVENT
DTSTART;TZID=Europe/Berlin:20291003T122000
DTEND;TZID=Europe/Berlin:20291003T132000
DTSTAMP:20260421T072622
CREATED:20230417T160712Z
LAST-MODIFIED:20240419T055158Z
UID:10054099-1885724400-1885728000@otv1893.de
SUMMARY:Kraftvoller Rücken /entspannter Geist für Damen u. Herren (Kursangebot)
DESCRIPTION:Kursangebot mit festen Anfangs-u. Endterminen. - Mit Zuzahlung. - Auch für Gäste. Für Kursdetails bitte Kursleiterin Ulla Held kontaktieren.
URL:https://otv1893.de/veranstaltung/kraftvoller-ruecken-entspannter-geist-fuer-damen-u-herren-kursangebot/2029-10-03/
LOCATION:Gymnastikhalle /alte Realschulturnhalle\, Fröbelstr.\, NRW\, Deutschland
CATEGORIES:Gymnastik
ATTACH;FMTTYPE=image/jpeg:https://otv1893.de/wp-content/uploads/2021/12/Gruppe-WS-ulla.jpg
ORGANIZER;CN="OTV - Osterather Turnverein 1893 e.V.":MAILTO:buero@otv1893.de
GEO:51.4332367;7.6615938
END:VEVENT
BEGIN:VEVENT
DTSTART;TZID=Europe/Berlin:20291003T133000
DTEND;TZID=Europe/Berlin:20291003T144500
DTSTAMP:20260421T072622
CREATED:20251015T085306Z
LAST-MODIFIED:20251015T085423Z
UID:10050345-1885728600-1885733100@otv1893.de
SUMMARY:Diabetiker-Sportgruppe
DESCRIPTION:
URL:https://otv1893.de/veranstaltung/diabetiker-sportgruppe-2/2029-10-03/
LOCATION:Gymnastikhalle Fröbelstraße\, Görresstr. 6\, 40670 Meerbusch\, NRW\, Deutschland
CATEGORIES:Reha-Sport
ATTACH;FMTTYPE=image/jpeg:https://otv1893.de/wp-content/uploads/2021/09/pexels-karolina-grabowska-4498577web.jpg
GEO:51.4332367;7.6615938
X-APPLE-STRUCTURED-LOCATION;VALUE=URI;X-ADDRESS=Gymnastikhalle Fröbelstraße Görresstr. 6 40670 Meerbusch NRW Deutschland;X-APPLE-RADIUS=500;X-TITLE=Görresstr. 6:geo:7.6615938,51.4332367
END:VEVENT
BEGIN:VEVENT
DTSTART;TZID=Europe/Berlin:20291003T160000
DTEND;TZID=Europe/Berlin:20291003T171500
DTSTAMP:20260421T072622
CREATED:20220327T150332Z
LAST-MODIFIED:20230510T100316Z
UID:10048979-1885737600-1885742100@otv1893.de
SUMMARY:Geräte-Turnen ab 3. Klasse
DESCRIPTION:Ül.: Lydia Domisch
URL:https://otv1893.de/veranstaltung/geraete-turnen-ab-3-klasse-2/2029-10-03/
LOCATION:Alte Realschul-TH Fröbelstraße
CATEGORIES:Turnen
END:VEVENT
BEGIN:VEVENT
DTSTART;TZID=Europe/Berlin:20291003T163000
DTEND;TZID=Europe/Berlin:20291003T173000
DTSTAMP:20260421T072622
CREATED:20220327T143758Z
LAST-MODIFIED:20230510T100742Z
UID:10049093-1885739400-1885743000@otv1893.de
SUMMARY:Kinderturnen 3-4 Jahre
DESCRIPTION:Ül.: Birgit Heinz
URL:https://otv1893.de/veranstaltung/kinderturnen-3-4-jahre-2/2029-10-03/
LOCATION:Turnhalle Städt. Gemeinschafts-Grundschule Wienenweg\, Wienenweg 38\, Meerbusch-Osterath\, NRW\, 40670\, Deutschland
CATEGORIES:Turnen
GEO:51.27029;6.63279
X-APPLE-STRUCTURED-LOCATION;VALUE=URI;X-ADDRESS=Turnhalle Städt. Gemeinschafts-Grundschule Wienenweg Wienenweg 38 Meerbusch-Osterath NRW 40670 Deutschland;X-APPLE-RADIUS=500;X-TITLE=Wienenweg 38:geo:6.63279,51.27029
END:VEVENT
BEGIN:VEVENT
DTSTART;TZID=Europe/Berlin:20291003T173000
DTEND;TZID=Europe/Berlin:20291003T183000
DTSTAMP:20260421T072622
CREATED:20220327T145139Z
LAST-MODIFIED:20230510T095525Z
UID:10049207-1885743000-1885746600@otv1893.de
SUMMARY:Kinderturnen 5-6 Jahre
DESCRIPTION:Ül.: Birgit Heinz
URL:https://otv1893.de/veranstaltung/kinderturnen-5-6-jahre/2029-10-03/
LOCATION:Turnhalle Städt. Gemeinschafts-Grundschule Wienenweg\, Wienenweg 38\, Meerbusch-Osterath\, NRW\, 40670\, Deutschland
CATEGORIES:Turnen
GEO:51.27029;6.63279
X-APPLE-STRUCTURED-LOCATION;VALUE=URI;X-ADDRESS=Turnhalle Städt. Gemeinschafts-Grundschule Wienenweg Wienenweg 38 Meerbusch-Osterath NRW 40670 Deutschland;X-APPLE-RADIUS=500;X-TITLE=Wienenweg 38:geo:6.63279,51.27029
END:VEVENT
BEGIN:VEVENT
DTSTART;TZID=Europe/Berlin:20291003T173000
DTEND;TZID=Europe/Berlin:20291003T190000
DTSTAMP:20260421T072622
CREATED:20220327T150453Z
LAST-MODIFIED:20230510T100645Z
UID:10049321-1885743000-1885748400@otv1893.de
SUMMARY:Geräte-Turnen ab 5. Klasse
DESCRIPTION:Ül.:Lydia Domisch
URL:https://otv1893.de/veranstaltung/geraete-turnen-ab-5-klasse-2/2029-10-03/
LOCATION:Alte Realschul-TH Fröbelstraße
CATEGORIES:Turnen
END:VEVENT
END:VCALENDAR