BEGIN:VCALENDAR
VERSION:2.0
PRODID:-//Osterather Turnverein 1893 e.V. - ECPv6.15.15//NONSGML v1.0//EN
CALSCALE:GREGORIAN
METHOD:PUBLISH
X-WR-CALNAME:Osterather Turnverein 1893 e.V.
X-ORIGINAL-URL:https://otv1893.de
X-WR-CALDESC:Veranstaltungen für Osterather Turnverein 1893 e.V.
REFRESH-INTERVAL;VALUE=DURATION:PT1H
X-Robots-Tag:noindex
X-PUBLISHED-TTL:PT1H
BEGIN:VTIMEZONE
TZID:Europe/Berlin
BEGIN:DAYLIGHT
TZOFFSETFROM:+0100
TZOFFSETTO:+0200
TZNAME:CEST
DTSTART:20220327T010000
END:DAYLIGHT
BEGIN:STANDARD
TZOFFSETFROM:+0200
TZOFFSETTO:+0100
TZNAME:CET
DTSTART:20221030T010000
END:STANDARD
BEGIN:DAYLIGHT
TZOFFSETFROM:+0100
TZOFFSETTO:+0200
TZNAME:CEST
DTSTART:20230326T010000
END:DAYLIGHT
BEGIN:STANDARD
TZOFFSETFROM:+0200
TZOFFSETTO:+0100
TZNAME:CET
DTSTART:20231029T010000
END:STANDARD
BEGIN:DAYLIGHT
TZOFFSETFROM:+0100
TZOFFSETTO:+0200
TZNAME:CEST
DTSTART:20240331T010000
END:DAYLIGHT
BEGIN:STANDARD
TZOFFSETFROM:+0200
TZOFFSETTO:+0100
TZNAME:CET
DTSTART:20241027T010000
END:STANDARD
END:VTIMEZONE
BEGIN:VEVENT
DTSTART;TZID=Europe/Berlin:20231211T093000
DTEND;TZID=Europe/Berlin:20231211T110000
DTSTAMP:20260422T093241
CREATED:20230122T114217Z
LAST-MODIFIED:20230124T121201Z
UID:10014551-1702287000-1702292400@otv1893.de
SUMMARY:Walkingtreff
DESCRIPTION:ÜL: Lotti Maaßen
URL:https://otv1893.de/veranstaltung/walkingtreff-4/2023-12-11/
LOCATION:Waldparkplatz L476 (exB9)\, NRW\, Deutschland
CATEGORIES:Leichtathletik
GEO:51.2658118625;6.66405617915
END:VEVENT
BEGIN:VEVENT
DTSTART;TZID=Europe/Berlin:20231211T101000
DTEND;TZID=Europe/Berlin:20231211T111000
DTSTAMP:20260422T093241
CREATED:20230417T142055Z
LAST-MODIFIED:20240223T135036Z
UID:10034421-1702289400-1702293000@otv1893.de
SUMMARY:Seniorensport ab 60 Jahre
DESCRIPTION:Kein Training in den Ferien oder an Feiertagen. \nFür Rückfragen  ÜL Monika Strotmann kontaktieren.
URL:https://otv1893.de/veranstaltung/seniorensport-ab-60-jahre/2023-12-11/
LOCATION:Gymnastikhalle /alte Realschulturnhalle\, Fröbelstr.\, NRW\, Deutschland
CATEGORIES:Gymnastik
GEO:51.4332367;7.6615938
END:VEVENT
BEGIN:VEVENT
DTSTART;TZID=Europe/Berlin:20231211T111000
DTEND;TZID=Europe/Berlin:20231211T121000
DTSTAMP:20260422T093241
CREATED:20230417T142322Z
LAST-MODIFIED:20230629T180605Z
UID:10016781-1702293000-1702296600@otv1893.de
SUMMARY:Seniorensport ab 70 Jahre
DESCRIPTION:Für Sie und Ihn.  - Warteliste! \nKein Training in den Ferien oder an Feiertagen. \nFür Rückfragen ÜL Monika Strotmann kontaktieren.
URL:https://otv1893.de/veranstaltung/seniorensport-ab-70-jahre/2023-12-11/
LOCATION:Gymnastikhalle /alte Realschulturnhalle\, Fröbelstr.\, NRW\, Deutschland
CATEGORIES:Gymnastik
GEO:51.4332367;7.6615938
END:VEVENT
BEGIN:VEVENT
DTSTART;TZID=Europe/Berlin:20231211T163000
DTEND;TZID=Europe/Berlin:20231211T174500
DTSTAMP:20260422T093241
CREATED:20210920T100817Z
LAST-MODIFIED:20250116T081103Z
UID:10014396-1702312200-1702316700@otv1893.de
SUMMARY:Kinder-Leichtathletik
DESCRIPTION:Kinder U8-10 \n7-9 Jahre\nÜL: Petra Gieseler-Hirsch \nIm Winter von 16:30-17:30 Turnhalle Wienenweg\nIm Sommer von 16:30-17:45 Sportanlage Krähenacker
URL:https://otv1893.de/veranstaltung/kinder-leichtathletik/2023-12-11/
LOCATION:Bezirkssportanlage Am Krähenacker\, Rudolf-Lensing-Ring 86\, Meerbusch\, NRW\, 40670\, Deutschland
CATEGORIES:Leichtathletik
GEO:51.2702381;6.6072093
X-APPLE-STRUCTURED-LOCATION;VALUE=URI;X-ADDRESS=Bezirkssportanlage Am Krähenacker Rudolf-Lensing-Ring 86 Meerbusch NRW 40670 Deutschland;X-APPLE-RADIUS=500;X-TITLE=Rudolf-Lensing-Ring 86:geo:6.6072093,51.2702381
END:VEVENT
BEGIN:VEVENT
DTSTART;TZID=Europe/Berlin:20231211T163000
DTEND;TZID=Europe/Berlin:20231211T180000
DTSTAMP:20260422T093241
CREATED:20220327T150027Z
LAST-MODIFIED:20230510T100214Z
UID:10022857-1702312200-1702317600@otv1893.de
SUMMARY:Fördertraining
DESCRIPTION:Ül.: Lydia Domisch
URL:https://otv1893.de/veranstaltung/foerdertraining-2/2023-12-11/
LOCATION:Alte Realschul-TH Fröbelstraße
CATEGORIES:Turnen
END:VEVENT
BEGIN:VEVENT
DTSTART;TZID=Europe/Berlin:20231211T164500
DTEND;TZID=Europe/Berlin:20231211T181500
DTSTAMP:20260422T093241
CREATED:20230326T124849Z
LAST-MODIFIED:20230326T124849Z
UID:10015953-1702313100-1702318500@otv1893.de
SUMMARY:U11-/ U13-Training
DESCRIPTION:
URL:https://otv1893.de/veranstaltung/u11-u13-training/2023-12-11/
LOCATION:2-fach Turnhalle Städt. Realschule Osterath\, Görresstr. 6\, Meerbusch-Osterath\, 40670\, Deutschland
CATEGORIES:Badminton
ORGANIZER;CN="OTV Abteilung Badminton":MAILTO:max.frickel@web.de
GEO:51.2715;6.617342
X-APPLE-STRUCTURED-LOCATION;VALUE=URI;X-ADDRESS=2-fach Turnhalle Städt. Realschule Osterath Görresstr. 6 Meerbusch-Osterath 40670 Deutschland;X-APPLE-RADIUS=500;X-TITLE=Görresstr. 6:geo:6.617342,51.2715
END:VEVENT
BEGIN:VEVENT
DTSTART;TZID=Europe/Berlin:20231211T173000
DTEND;TZID=Europe/Berlin:20231211T183000
DTSTAMP:20260422T093241
CREATED:20230417T144853Z
LAST-MODIFIED:20230629T180532Z
UID:10025392-1702315800-1702319400@otv1893.de
SUMMARY:Wirbelsäulengymnastik
DESCRIPTION:Offen für alle OTV-Mitglieder. Für Sie und Ihn. \nNicht in den Schulferien oder an Feiertagen.  Sommerferien 2023 outdoor\, auf der Wiese neben der Turnhalle. \nWegen Urlaub der Übungsleiterin jedoch nicht in KW 32.-34 . \nBei Fragen ÜL Dagmar Paetzel kontaktieren.
URL:https://otv1893.de/veranstaltung/wirbelsaeulengymnastik/2023-12-11/
LOCATION:Turnhalle GGS Wienenweg\, Wienenweg 38\, 40670 Meerbusch\, NRW\, Deutschland
CATEGORIES:Gymnastik
GEO:51.2703186;6.6331219
X-APPLE-STRUCTURED-LOCATION;VALUE=URI;X-ADDRESS=Turnhalle GGS Wienenweg Wienenweg 38 40670 Meerbusch NRW Deutschland;X-APPLE-RADIUS=500;X-TITLE=Wienenweg 38:geo:6.6331219,51.2703186
END:VEVENT
BEGIN:VEVENT
DTSTART;TZID=Europe/Berlin:20231211T173000
DTEND;TZID=Europe/Berlin:20231211T184500
DTSTAMP:20260422T093241
CREATED:20231123T113955Z
LAST-MODIFIED:20240120T120919Z
UID:10030004-1702315800-1702320300@otv1893.de
SUMMARY:Pilates für Damen und Herren
DESCRIPTION:
URL:https://otv1893.de/veranstaltung/pilates-fuer-damen-und-herren/2023-12-11/
LOCATION:Gymnastikhalle Fröbelstraße\, Görresstr. 6\, 40670 Meerbusch\, NRW\, Deutschland
CATEGORIES:Gymnastik
GEO:51.4332367;7.6615938
X-APPLE-STRUCTURED-LOCATION;VALUE=URI;X-ADDRESS=Gymnastikhalle Fröbelstraße Görresstr. 6 40670 Meerbusch NRW Deutschland;X-APPLE-RADIUS=500;X-TITLE=Görresstr. 6:geo:7.6615938,51.4332367
END:VEVENT
BEGIN:VEVENT
DTSTART;TZID=Europe/Berlin:20231211T173000
DTEND;TZID=Europe/Berlin:20231211T190000
DTSTAMP:20260422T093241
CREATED:20220516T155922Z
LAST-MODIFIED:20250116T080711Z
UID:10044528-1702315800-1702321200@otv1893.de
SUMMARY:Kinder-Leichtathletik
DESCRIPTION:Kinder U12 \n9-11 Jahre\nÜL: Petra Gieseler-Hirsch \nIm Winter von 17:30-18:30 Turnhalle Wienenweg\nIm Sommer von 17:45-19:00 Sportanlage Krähenacker
URL:https://otv1893.de/veranstaltung/kinder-leichtathletik-duplicate-1/2023-12-11/
LOCATION:Bezirkssportanlage Am Krähenacker\, Rudolf-Lensing-Ring 86\, Meerbusch\, NRW\, 40670\, Deutschland
CATEGORIES:Leichtathletik
GEO:51.2702381;6.6072093
X-APPLE-STRUCTURED-LOCATION;VALUE=URI;X-ADDRESS=Bezirkssportanlage Am Krähenacker Rudolf-Lensing-Ring 86 Meerbusch NRW 40670 Deutschland;X-APPLE-RADIUS=500;X-TITLE=Rudolf-Lensing-Ring 86:geo:6.6072093,51.2702381
END:VEVENT
BEGIN:VEVENT
DTSTART;TZID=Europe/Berlin:20231211T180000
DTEND;TZID=Europe/Berlin:20231211T200000
DTSTAMP:20260422T093241
CREATED:20230801T170531Z
LAST-MODIFIED:20230801T170531Z
UID:10021161-1702317600-1702324800@otv1893.de
SUMMARY:WU20
DESCRIPTION:
URL:https://otv1893.de/veranstaltung/wu20/2023-12-11/
LOCATION:2- und 3-fach Turnhallen Städt. Meerbusch Gymnasium\, Mönkesweg 58\, Meerbusch - Strümp\, NRW\, 40670\, Deutschland
CATEGORIES:Volleyball
GEO:51.27803;6.65001
X-APPLE-STRUCTURED-LOCATION;VALUE=URI;X-ADDRESS=2- und 3-fach Turnhallen Städt. Meerbusch Gymnasium Mönkesweg 58 Meerbusch - Strümp NRW 40670 Deutschland;X-APPLE-RADIUS=500;X-TITLE=Mönkesweg 58:geo:6.65001,51.27803
END:VEVENT
BEGIN:VEVENT
DTSTART;TZID=Europe/Berlin:20231211T181500
DTEND;TZID=Europe/Berlin:20231211T191500
DTSTAMP:20260422T093241
CREATED:20230417T150236Z
LAST-MODIFIED:20240823T133746Z
UID:10016446-1702318500-1702322100@otv1893.de
SUMMARY:Gymnastik Damen 60 Plus
DESCRIPTION:ÜL: Heike Wolter. Offen für alle OTV-Mitglieder. \nKein Training in den Schulferien oder an Feiertagen. \nBei Rückfragen Heike Wolter kontaktieren.
URL:https://otv1893.de/veranstaltung/gymnastik-damen-60-plus/2023-12-11/
LOCATION:Alte Realschul-TH Fröbelstraße
CATEGORIES:Gymnastik
ORGANIZER;CN="OTV - Osterather Turnverein 1893 e.V.":MAILTO:buero@otv1893.de
END:VEVENT
BEGIN:VEVENT
DTSTART;TZID=Europe/Berlin:20231211T181500
DTEND;TZID=Europe/Berlin:20231211T193000
DTSTAMP:20260422T093241
CREATED:20230206T084754Z
LAST-MODIFIED:20230403T074929Z
UID:10015618-1702318500-1702323000@otv1893.de
SUMMARY:Lauftraining "Rund um Osterath"
DESCRIPTION:Laufstrecke: 10-15km je nach Saison / Wettkampfziel\nStartort: P&R Haltestelle Bovert\nAuf Anfrage \n 
URL:https://otv1893.de/veranstaltung/lauftraining-rund-um-osterath-2-2/2023-12-11/
LOCATION:P&R Haltestelle Bovert\, Meerbusch-Osterath\, NRW\, Deutschland
CATEGORIES:Leichtathletik
GEO:51.2667307831;6.6510214341
END:VEVENT
BEGIN:VEVENT
DTSTART;TZID=Europe/Berlin:20231211T181500
DTEND;TZID=Europe/Berlin:20231211T194500
DTSTAMP:20260422T093241
CREATED:20230326T124517Z
LAST-MODIFIED:20230619T122431Z
UID:10027516-1702318500-1702323900@otv1893.de
SUMMARY:U15-/ U19-Training
DESCRIPTION:
URL:https://otv1893.de/veranstaltung/u15-u19-training-2-2/2023-12-11/
LOCATION:2-fach Turnhalle Städt. Realschule Osterath\, Görresstr. 6\, Meerbusch-Osterath\, 40670\, Deutschland
CATEGORIES:Badminton
ORGANIZER;CN="OTV Abteilung Badminton":MAILTO:max.frickel@web.de
GEO:51.2715;6.617342
X-APPLE-STRUCTURED-LOCATION;VALUE=URI;X-ADDRESS=2-fach Turnhalle Städt. Realschule Osterath Görresstr. 6 Meerbusch-Osterath 40670 Deutschland;X-APPLE-RADIUS=500;X-TITLE=Görresstr. 6:geo:6.617342,51.2715
END:VEVENT
BEGIN:VEVENT
DTSTART;TZID=Europe/Berlin:20231211T191500
DTEND;TZID=Europe/Berlin:20231211T201500
DTSTAMP:20260422T093241
CREATED:20230417T150731Z
LAST-MODIFIED:20240823T133335Z
UID:10016386-1702322100-1702325700@otv1893.de
SUMMARY:Body Workout
DESCRIPTION:Offen für alle OTV Mitglieder. Training für den ganzen Körper. \nÜL: Birgit Mehmel \nTraining in den Ferien nur nach Absprache mit der Übungsleiterin
URL:https://otv1893.de/veranstaltung/body-workout/2023-12-11/
LOCATION:Alte Realschul-TH Fröbelstraße
CATEGORIES:Gymnastik
ORGANIZER;CN="OTV - Osterather Turnverein 1893 e.V.":MAILTO:buero@otv1893.de
END:VEVENT
BEGIN:VEVENT
DTSTART;TZID=Europe/Berlin:20231211T194500
DTEND;TZID=Europe/Berlin:20231211T220000
DTSTAMP:20260422T093241
CREATED:20230326T125711Z
LAST-MODIFIED:20230326T125711Z
UID:10016014-1702323900-1702332000@otv1893.de
SUMMARY:Senioren-Training
DESCRIPTION:
URL:https://otv1893.de/veranstaltung/senioren-training/2023-12-11/
LOCATION:2-fach Turnhalle Städt. Realschule Osterath\, Görresstr. 6\, Meerbusch-Osterath\, 40670\, Deutschland
CATEGORIES:Badminton
ORGANIZER;CN="OTV Abteilung Badminton":MAILTO:max.frickel@web.de
GEO:51.2715;6.617342
X-APPLE-STRUCTURED-LOCATION;VALUE=URI;X-ADDRESS=2-fach Turnhalle Städt. Realschule Osterath Görresstr. 6 Meerbusch-Osterath 40670 Deutschland;X-APPLE-RADIUS=500;X-TITLE=Görresstr. 6:geo:6.617342,51.2715
END:VEVENT
BEGIN:VEVENT
DTSTART;TZID=Europe/Berlin:20231211T200000
DTEND;TZID=Europe/Berlin:20231211T220000
DTSTAMP:20260422T093241
CREATED:20230126T090216Z
LAST-MODIFIED:20230504T093215Z
UID:10015346-1702324800-1702332000@otv1893.de
SUMMARY:Hobbymixed 2
DESCRIPTION:
URL:https://otv1893.de/veranstaltung/hobbymixed-2/2023-12-11/
LOCATION:2- und 3-fach Turnhallen Städt. Meerbusch Gymnasium\, Mönkesweg 58\, Meerbusch - Strümp\, NRW\, 40670\, Deutschland
CATEGORIES:Volleyball
GEO:51.27803;6.65001
X-APPLE-STRUCTURED-LOCATION;VALUE=URI;X-ADDRESS=2- und 3-fach Turnhallen Städt. Meerbusch Gymnasium Mönkesweg 58 Meerbusch - Strümp NRW 40670 Deutschland;X-APPLE-RADIUS=500;X-TITLE=Mönkesweg 58:geo:6.65001,51.27803
END:VEVENT
BEGIN:VEVENT
DTSTART;TZID=Europe/Berlin:20231211T201500
DTEND;TZID=Europe/Berlin:20231211T211500
DTSTAMP:20260422T093241
CREATED:20230417T151307Z
LAST-MODIFIED:20240823T133435Z
UID:10039590-1702325700-1702329300@otv1893.de
SUMMARY:Body Workout
DESCRIPTION:offen für alle OTV Mitglieder. Training für den ganzen Körper. \nÜL: Birgit Mehmel. \nTraining in den Ferien nur nach Absprache mit der Übungsleiterin
URL:https://otv1893.de/veranstaltung/body-workout-2/2023-12-11/
LOCATION:Alte Realschul-TH Fröbelstraße
CATEGORIES:Gymnastik
ORGANIZER;CN="OTV - Osterather Turnverein 1893 e.V.":MAILTO:buero@otv1893.de
END:VEVENT
BEGIN:VEVENT
DTSTART;TZID=Europe/Berlin:20231212T090000
DTEND;TZID=Europe/Berlin:20231212T100000
DTSTAMP:20260422T093241
CREATED:20230417T152125Z
LAST-MODIFIED:20240823T134242Z
UID:10016842-1702371600-1702375200@otv1893.de
SUMMARY:Seniorensport "Aerobic und Gymnastik" ab 60 - für Sie und Ihn
DESCRIPTION:Übungsleiterin: Ulla Held \noffen für alle OTV-Mitglieder. Voraussetzung: Spaß an der Bewegung! Nach freien Plätzen fragen! \nggf. kein Training in den Schulferien. Trainingsstätte kann aktuell abweichen. Übungsleiterin kontaktieren!
URL:https://otv1893.de/veranstaltung/seniorensport-aerobic-und-gymnastik-ab-60-fuer-sie-und-ihn/2023-12-12/
LOCATION:Gymnastikhalle /alte Realschulturnhalle\, Fröbelstr.\, NRW\, Deutschland
CATEGORIES:Gymnastik
ORGANIZER;CN="OTV - Osterather Turnverein 1893 e.V.":MAILTO:buero@otv1893.de
GEO:51.4332367;7.6615938
END:VEVENT
BEGIN:VEVENT
DTSTART;TZID=Europe/Berlin:20231212T111500
DTEND;TZID=Europe/Berlin:20231212T121500
DTSTAMP:20260422T093241
CREATED:20230425T145311Z
LAST-MODIFIED:20230510T094845Z
UID:10020887-1702379700-1702383300@otv1893.de
SUMMARY:Orthopädie-Sportgruppe
DESCRIPTION:
URL:https://otv1893.de/veranstaltung/orthopaedie-sportgruppe/2023-12-12/
LOCATION:Gymnastikhalle Fröbelstraße\, Görresstr. 6\, 40670 Meerbusch\, NRW\, Deutschland
CATEGORIES:Reha-Sport
ATTACH;FMTTYPE=image/jpeg:https://otv1893.de/wp-content/uploads/2021/09/pexels-marta-wave-6454196web.jpg
GEO:51.4332367;7.6615938
X-APPLE-STRUCTURED-LOCATION;VALUE=URI;X-ADDRESS=Gymnastikhalle Fröbelstraße Görresstr. 6 40670 Meerbusch NRW Deutschland;X-APPLE-RADIUS=500;X-TITLE=Görresstr. 6:geo:7.6615938,51.4332367
END:VEVENT
BEGIN:VEVENT
DTSTART;TZID=Europe/Berlin:20231212T161500
DTEND;TZID=Europe/Berlin:20231212T174500
DTSTAMP:20260422T093241
CREATED:20230919T112752Z
LAST-MODIFIED:20230919T114318Z
UID:10029549-1702397700-1702403100@otv1893.de
SUMMARY:Training gemischte E-Jugend
DESCRIPTION:
URL:https://otv1893.de/veranstaltung/handballtraining-gemischte-e-jugend/2023-12-12/
LOCATION:Realschule Meerbusch\, Görresstraße 6\, Meerbusch\, 40670\, Deutschland
CATEGORIES:Handball
GEO:51.2727393;6.6169382
X-APPLE-STRUCTURED-LOCATION;VALUE=URI;X-ADDRESS=Realschule Meerbusch Görresstraße 6 Meerbusch 40670 Deutschland;X-APPLE-RADIUS=500;X-TITLE=Görresstraße 6:geo:6.6169382,51.2727393
END:VEVENT
BEGIN:VEVENT
DTSTART;TZID=Europe/Berlin:20231212T161500
DTEND;TZID=Europe/Berlin:20231212T174500
DTSTAMP:20260422T093241
CREATED:20230919T113122Z
LAST-MODIFIED:20230919T114255Z
UID:10029579-1702397700-1702403100@otv1893.de
SUMMARY:Training gemischte F-Jugend und Minis
DESCRIPTION:
URL:https://otv1893.de/veranstaltung/handballtraining-gemischte-f-jugend-und-minis/2023-12-12/
LOCATION:Realschule Meerbusch\, Görresstraße 6\, Meerbusch\, 40670\, Deutschland
CATEGORIES:Handball
GEO:51.2727393;6.6169382
X-APPLE-STRUCTURED-LOCATION;VALUE=URI;X-ADDRESS=Realschule Meerbusch Görresstraße 6 Meerbusch 40670 Deutschland;X-APPLE-RADIUS=500;X-TITLE=Görresstraße 6:geo:6.6169382,51.2727393
END:VEVENT
BEGIN:VEVENT
DTSTART;TZID=Europe/Berlin:20231212T163000
DTEND;TZID=Europe/Berlin:20231212T171500
DTSTAMP:20260422T093241
CREATED:20230508T160002Z
LAST-MODIFIED:20230510T095102Z
UID:10021477-1702398600-1702401300@otv1893.de
SUMMARY:Familiengruppe 1-4 Jahre
DESCRIPTION:Ül.: Sabine Steitz
URL:https://otv1893.de/veranstaltung/familiengruppe-1-4-jahre-5-2/2023-12-12/
LOCATION:Turnhalle Städt. Gemeinschafts-Grundschule Wienenweg\, Wienenweg 38\, Meerbusch-Osterath\, NRW\, 40670\, Deutschland
CATEGORIES:Turnen
GEO:51.27029;6.63279
X-APPLE-STRUCTURED-LOCATION;VALUE=URI;X-ADDRESS=Turnhalle Städt. Gemeinschafts-Grundschule Wienenweg Wienenweg 38 Meerbusch-Osterath NRW 40670 Deutschland;X-APPLE-RADIUS=500;X-TITLE=Wienenweg 38:geo:6.63279,51.27029
END:VEVENT
BEGIN:VEVENT
DTSTART;TZID=Europe/Berlin:20231212T171500
DTEND;TZID=Europe/Berlin:20231212T180000
DTSTAMP:20260422T093241
CREATED:20230508T160113Z
LAST-MODIFIED:20230510T101218Z
UID:10022620-1702401300-1702404000@otv1893.de
SUMMARY:Familiengruppe 1-4 Jahre
DESCRIPTION:Ül.: Sabine Steitz
URL:https://otv1893.de/veranstaltung/familiengruppe-1-4-jahre-6-2/2023-12-12/
LOCATION:Turnhalle Städt. Gemeinschafts-Grundschule Wienenweg\, Wienenweg 38\, Meerbusch-Osterath\, NRW\, 40670\, Deutschland
CATEGORIES:Turnen
GEO:51.27029;6.63279
X-APPLE-STRUCTURED-LOCATION;VALUE=URI;X-ADDRESS=Turnhalle Städt. Gemeinschafts-Grundschule Wienenweg Wienenweg 38 Meerbusch-Osterath NRW 40670 Deutschland;X-APPLE-RADIUS=500;X-TITLE=Wienenweg 38:geo:6.63279,51.27029
END:VEVENT
BEGIN:VEVENT
DTSTART;TZID=Europe/Berlin:20231212T174500
DTEND;TZID=Europe/Berlin:20231212T190000
DTSTAMP:20260422T093241
CREATED:20230919T112412Z
LAST-MODIFIED:20230919T114227Z
UID:10029519-1702403100-1702407600@otv1893.de
SUMMARY:Training männliche C-Jugend
DESCRIPTION:
URL:https://otv1893.de/veranstaltung/handballtraining-maennliche-c-jugend/2023-12-12/
LOCATION:Realschule Meerbusch\, Görresstraße 6\, Meerbusch\, 40670\, Deutschland
CATEGORIES:Handball
GEO:51.2727393;6.6169382
X-APPLE-STRUCTURED-LOCATION;VALUE=URI;X-ADDRESS=Realschule Meerbusch Görresstraße 6 Meerbusch 40670 Deutschland;X-APPLE-RADIUS=500;X-TITLE=Görresstraße 6:geo:6.6169382,51.2727393
END:VEVENT
BEGIN:VEVENT
DTSTART;TZID=Europe/Berlin:20231212T180000
DTEND;TZID=Europe/Berlin:20231212T193000
DTSTAMP:20260422T093241
CREATED:20210501T113747Z
LAST-MODIFIED:20220516T161358Z
UID:10024076-1702404000-1702409400@otv1893.de
SUMMARY:Sportabzeichen (Herren/Damen)
DESCRIPTION:Sportabzeichentraining / Leichtathletik (mit Möglichkeit zur Abnahme der Prüfung) \nGebühr für Nichtmitglieder: 35\,-- Euro
URL:https://otv1893.de/veranstaltung/sportabzeichen-herren-damen-2021-09-28/2023-12-12/
LOCATION:Bezirkssportanlage Am Krähenacker\, Rudolf-Lensing-Ring 86\, Meerbusch\, NRW\, 40670\, Deutschland
CATEGORIES:Leichtathletik
GEO:51.2702381;6.6072093
X-APPLE-STRUCTURED-LOCATION;VALUE=URI;X-ADDRESS=Bezirkssportanlage Am Krähenacker Rudolf-Lensing-Ring 86 Meerbusch NRW 40670 Deutschland;X-APPLE-RADIUS=500;X-TITLE=Rudolf-Lensing-Ring 86:geo:6.6072093,51.2702381
END:VEVENT
BEGIN:VEVENT
DTSTART;TZID=Europe/Berlin:20231212T180000
DTEND;TZID=Europe/Berlin:20231212T200000
DTSTAMP:20260422T093241
CREATED:20210501T113636Z
LAST-MODIFIED:20220514T074938Z
UID:10014434-1702404000-1702411200@otv1893.de
SUMMARY:Erwachsene/Jugend (Mittel- Langstrecke)
DESCRIPTION:Tempo- / Intervall-Training für Läufer mit Wettkampfambitionen
URL:https://otv1893.de/veranstaltung/erwachsene-jugend/2023-12-12/
LOCATION:Bezirkssportanlage Am Krähenacker\, Rudolf-Lensing-Ring 86\, Meerbusch\, NRW\, 40670\, Deutschland
CATEGORIES:Leichtathletik
GEO:51.2702381;6.6072093
X-APPLE-STRUCTURED-LOCATION;VALUE=URI;X-ADDRESS=Bezirkssportanlage Am Krähenacker Rudolf-Lensing-Ring 86 Meerbusch NRW 40670 Deutschland;X-APPLE-RADIUS=500;X-TITLE=Rudolf-Lensing-Ring 86:geo:6.6072093,51.2702381
END:VEVENT
BEGIN:VEVENT
DTSTART;TZID=Europe/Berlin:20231212T180000
DTEND;TZID=Europe/Berlin:20231212T200000
DTSTAMP:20260422T093241
CREATED:20210501T113636Z
LAST-MODIFIED:20220514T075437Z
UID:10027774-1702404000-1702411200@otv1893.de
SUMMARY:Erwachsene/Jugend (Mittel- Langstrecke)
DESCRIPTION:Tempo- / Intervall-Training für Läufer mit Wettkampfambitionen
URL:https://otv1893.de/veranstaltung/erwachsene-jugend-2022-05-17/2023-12-12/
LOCATION:Bezirkssportanlage Am Krähenacker\, Rudolf-Lensing-Ring 86\, Meerbusch\, NRW\, 40670\, Deutschland
CATEGORIES:Leichtathletik
GEO:51.2702381;6.6072093
X-APPLE-STRUCTURED-LOCATION;VALUE=URI;X-ADDRESS=Bezirkssportanlage Am Krähenacker Rudolf-Lensing-Ring 86 Meerbusch NRW 40670 Deutschland;X-APPLE-RADIUS=500;X-TITLE=Rudolf-Lensing-Ring 86:geo:6.6072093,51.2702381
END:VEVENT
BEGIN:VEVENT
DTSTART;TZID=Europe/Berlin:20231212T181500
DTEND;TZID=Europe/Berlin:20231212T194500
DTSTAMP:20260422T093241
CREATED:20230425T141244Z
LAST-MODIFIED:20230510T094756Z
UID:10020940-1702404900-1702410300@otv1893.de
SUMMARY:Herzsportgruppe
DESCRIPTION:
URL:https://otv1893.de/veranstaltung/herzsportgruppe/2023-12-12/
LOCATION:Turnhalle GGS Wienenweg\, Wienenweg 38\, 40670 Meerbusch\, NRW\, Deutschland
CATEGORIES:Reha-Sport
ATTACH;FMTTYPE=image/jpeg:https://otv1893.de/wp-content/uploads/2021/09/pexels-rodnae-productions-10031322web.jpg
GEO:51.2703186;6.6331219
X-APPLE-STRUCTURED-LOCATION;VALUE=URI;X-ADDRESS=Turnhalle GGS Wienenweg Wienenweg 38 40670 Meerbusch NRW Deutschland;X-APPLE-RADIUS=500;X-TITLE=Wienenweg 38:geo:6.6331219,51.2703186
END:VEVENT
BEGIN:VEVENT
DTSTART;TZID=Europe/Berlin:20231212T183000
DTEND;TZID=Europe/Berlin:20231212T213000
DTSTAMP:20260422T093241
CREATED:20211001T070755Z
LAST-MODIFIED:20211001T120110Z
UID:10002510-1702405800-1702416600@otv1893.de
SUMMARY:Senioren
DESCRIPTION:
URL:https://otv1893.de/veranstaltung/senioren/2023-12-12/
LOCATION:Schiesssportanlage Krähenacker\, Rudolf-Lensing-Ring 86\, Meerbusch\, 40670\, Deutschland
CATEGORIES:Schießen
GEO:51.2702381;6.6072093
X-APPLE-STRUCTURED-LOCATION;VALUE=URI;X-ADDRESS=Schiesssportanlage Krähenacker Rudolf-Lensing-Ring 86 Meerbusch 40670 Deutschland;X-APPLE-RADIUS=500;X-TITLE=Rudolf-Lensing-Ring 86:geo:6.6072093,51.2702381
END:VEVENT
BEGIN:VEVENT
DTSTART;TZID=Europe/Berlin:20231212T190000
DTEND;TZID=Europe/Berlin:20231212T201500
DTSTAMP:20260422T093241
CREATED:20230919T111809Z
LAST-MODIFIED:20230919T114205Z
UID:10029477-1702407600-1702412100@otv1893.de
SUMMARY:Training männliche B-Jugend
DESCRIPTION:
URL:https://otv1893.de/veranstaltung/handballtraining-maennliche-b-jugend/2023-12-12/
LOCATION:Realschule Meerbusch\, Görresstraße 6\, Meerbusch\, 40670\, Deutschland
CATEGORIES:Handball
GEO:51.2727393;6.6169382
X-APPLE-STRUCTURED-LOCATION;VALUE=URI;X-ADDRESS=Realschule Meerbusch Görresstraße 6 Meerbusch 40670 Deutschland;X-APPLE-RADIUS=500;X-TITLE=Görresstraße 6:geo:6.6169382,51.2727393
END:VEVENT
END:VCALENDAR