BEGIN:VCALENDAR
VERSION:2.0
PRODID:-//Osterather Turnverein 1893 e.V. - ECPv6.15.15//NONSGML v1.0//EN
CALSCALE:GREGORIAN
METHOD:PUBLISH
X-WR-CALNAME:Osterather Turnverein 1893 e.V.
X-ORIGINAL-URL:https://otv1893.de
X-WR-CALDESC:Veranstaltungen für Osterather Turnverein 1893 e.V.
REFRESH-INTERVAL;VALUE=DURATION:PT1H
X-Robots-Tag:noindex
X-PUBLISHED-TTL:PT1H
BEGIN:VTIMEZONE
TZID:Europe/Berlin
BEGIN:DAYLIGHT
TZOFFSETFROM:+0100
TZOFFSETTO:+0200
TZNAME:CEST
DTSTART:20240331T010000
END:DAYLIGHT
BEGIN:STANDARD
TZOFFSETFROM:+0200
TZOFFSETTO:+0100
TZNAME:CET
DTSTART:20241027T010000
END:STANDARD
BEGIN:DAYLIGHT
TZOFFSETFROM:+0100
TZOFFSETTO:+0200
TZNAME:CEST
DTSTART:20250330T010000
END:DAYLIGHT
BEGIN:STANDARD
TZOFFSETFROM:+0200
TZOFFSETTO:+0100
TZNAME:CET
DTSTART:20251026T010000
END:STANDARD
BEGIN:DAYLIGHT
TZOFFSETFROM:+0100
TZOFFSETTO:+0200
TZNAME:CEST
DTSTART:20260329T010000
END:DAYLIGHT
BEGIN:STANDARD
TZOFFSETFROM:+0200
TZOFFSETTO:+0100
TZNAME:CET
DTSTART:20261025T010000
END:STANDARD
END:VTIMEZONE
BEGIN:VEVENT
DTSTART;TZID=Europe/Berlin:20251001T133000
DTEND;TZID=Europe/Berlin:20251001T144500
DTSTAMP:20260419T223353
CREATED:20251015T085306Z
LAST-MODIFIED:20251015T085423Z
UID:10050136-1759325400-1759329900@otv1893.de
SUMMARY:Diabetiker-Sportgruppe
DESCRIPTION:
URL:https://otv1893.de/veranstaltung/diabetiker-sportgruppe-2/2025-10-01/
LOCATION:Gymnastikhalle Fröbelstraße\, Görresstr. 6\, 40670 Meerbusch\, NRW\, Deutschland
CATEGORIES:Reha-Sport
ATTACH;FMTTYPE=image/jpeg:https://otv1893.de/wp-content/uploads/2021/09/pexels-karolina-grabowska-4498577web.jpg
GEO:51.4332367;7.6615938
X-APPLE-STRUCTURED-LOCATION;VALUE=URI;X-ADDRESS=Gymnastikhalle Fröbelstraße Görresstr. 6 40670 Meerbusch NRW Deutschland;X-APPLE-RADIUS=500;X-TITLE=Görresstr. 6:geo:7.6615938,51.4332367
END:VEVENT
BEGIN:VEVENT
DTSTART;TZID=Europe/Berlin:20251007T111500
DTEND;TZID=Europe/Berlin:20251007T121500
DTSTAMP:20260419T223353
CREATED:20251015T085509Z
LAST-MODIFIED:20251015T085519Z
UID:10050474-1759835700-1759839300@otv1893.de
SUMMARY:Orthopädie-Sportgruppe
DESCRIPTION:
URL:https://otv1893.de/veranstaltung/orthopaedie-sportgruppe-2/2025-10-07/
LOCATION:Gymnastikhalle Fröbelstraße\, Görresstr. 6\, 40670 Meerbusch\, NRW\, Deutschland
CATEGORIES:Reha-Sport
ATTACH;FMTTYPE=image/jpeg:https://otv1893.de/wp-content/uploads/2021/09/pexels-marta-wave-6454196web.jpg
GEO:51.4332367;7.6615938
X-APPLE-STRUCTURED-LOCATION;VALUE=URI;X-ADDRESS=Gymnastikhalle Fröbelstraße Görresstr. 6 40670 Meerbusch NRW Deutschland;X-APPLE-RADIUS=500;X-TITLE=Görresstr. 6:geo:7.6615938,51.4332367
END:VEVENT
BEGIN:VEVENT
DTSTART;TZID=Europe/Berlin:20251007T181500
DTEND;TZID=Europe/Berlin:20251007T194500
DTSTAMP:20260419T223353
CREATED:20251015T085552Z
LAST-MODIFIED:20251015T085607Z
UID:10050812-1759860900-1759866300@otv1893.de
SUMMARY:Herzsportgruppe
DESCRIPTION:
URL:https://otv1893.de/veranstaltung/herzsportgruppe-2/2025-10-07/
LOCATION:Turnhalle GGS Wienenweg\, Wienenweg 38\, 40670 Meerbusch\, NRW\, Deutschland
CATEGORIES:Reha-Sport
ATTACH;FMTTYPE=image/jpeg:https://otv1893.de/wp-content/uploads/2021/09/pexels-rodnae-productions-10031322web.jpg
GEO:51.2703186;6.6331219
X-APPLE-STRUCTURED-LOCATION;VALUE=URI;X-ADDRESS=Turnhalle GGS Wienenweg Wienenweg 38 40670 Meerbusch NRW Deutschland;X-APPLE-RADIUS=500;X-TITLE=Wienenweg 38:geo:6.6331219,51.2703186
END:VEVENT
BEGIN:VEVENT
DTSTART;TZID=Europe/Berlin:20251008T133000
DTEND;TZID=Europe/Berlin:20251008T144500
DTSTAMP:20260419T223353
CREATED:20251015T085306Z
LAST-MODIFIED:20251015T085423Z
UID:10050137-1759930200-1759934700@otv1893.de
SUMMARY:Diabetiker-Sportgruppe
DESCRIPTION:
URL:https://otv1893.de/veranstaltung/diabetiker-sportgruppe-2/2025-10-08/
LOCATION:Gymnastikhalle Fröbelstraße\, Görresstr. 6\, 40670 Meerbusch\, NRW\, Deutschland
CATEGORIES:Reha-Sport
ATTACH;FMTTYPE=image/jpeg:https://otv1893.de/wp-content/uploads/2021/09/pexels-karolina-grabowska-4498577web.jpg
GEO:51.4332367;7.6615938
X-APPLE-STRUCTURED-LOCATION;VALUE=URI;X-ADDRESS=Gymnastikhalle Fröbelstraße Görresstr. 6 40670 Meerbusch NRW Deutschland;X-APPLE-RADIUS=500;X-TITLE=Görresstr. 6:geo:7.6615938,51.4332367
END:VEVENT
BEGIN:VEVENT
DTSTART;TZID=Europe/Berlin:20251014T111500
DTEND;TZID=Europe/Berlin:20251014T121500
DTSTAMP:20260419T223353
CREATED:20251015T085509Z
LAST-MODIFIED:20251015T085519Z
UID:10050475-1760440500-1760444100@otv1893.de
SUMMARY:Orthopädie-Sportgruppe
DESCRIPTION:
URL:https://otv1893.de/veranstaltung/orthopaedie-sportgruppe-2/2025-10-14/
LOCATION:Gymnastikhalle Fröbelstraße\, Görresstr. 6\, 40670 Meerbusch\, NRW\, Deutschland
CATEGORIES:Reha-Sport
ATTACH;FMTTYPE=image/jpeg:https://otv1893.de/wp-content/uploads/2021/09/pexels-marta-wave-6454196web.jpg
GEO:51.4332367;7.6615938
X-APPLE-STRUCTURED-LOCATION;VALUE=URI;X-ADDRESS=Gymnastikhalle Fröbelstraße Görresstr. 6 40670 Meerbusch NRW Deutschland;X-APPLE-RADIUS=500;X-TITLE=Görresstr. 6:geo:7.6615938,51.4332367
END:VEVENT
BEGIN:VEVENT
DTSTART;TZID=Europe/Berlin:20251014T181500
DTEND;TZID=Europe/Berlin:20251014T194500
DTSTAMP:20260419T223353
CREATED:20251015T085552Z
LAST-MODIFIED:20251015T085607Z
UID:10050813-1760465700-1760471100@otv1893.de
SUMMARY:Herzsportgruppe
DESCRIPTION:
URL:https://otv1893.de/veranstaltung/herzsportgruppe-2/2025-10-14/
LOCATION:Turnhalle GGS Wienenweg\, Wienenweg 38\, 40670 Meerbusch\, NRW\, Deutschland
CATEGORIES:Reha-Sport
ATTACH;FMTTYPE=image/jpeg:https://otv1893.de/wp-content/uploads/2021/09/pexels-rodnae-productions-10031322web.jpg
GEO:51.2703186;6.6331219
X-APPLE-STRUCTURED-LOCATION;VALUE=URI;X-ADDRESS=Turnhalle GGS Wienenweg Wienenweg 38 40670 Meerbusch NRW Deutschland;X-APPLE-RADIUS=500;X-TITLE=Wienenweg 38:geo:6.6331219,51.2703186
END:VEVENT
BEGIN:VEVENT
DTSTART;TZID=Europe/Berlin:20251015T133000
DTEND;TZID=Europe/Berlin:20251015T144500
DTSTAMP:20260419T223353
CREATED:20251015T085306Z
LAST-MODIFIED:20251015T085423Z
UID:10050138-1760535000-1760539500@otv1893.de
SUMMARY:Diabetiker-Sportgruppe
DESCRIPTION:
URL:https://otv1893.de/veranstaltung/diabetiker-sportgruppe-2/2025-10-15/
LOCATION:Gymnastikhalle Fröbelstraße\, Görresstr. 6\, 40670 Meerbusch\, NRW\, Deutschland
CATEGORIES:Reha-Sport
ATTACH;FMTTYPE=image/jpeg:https://otv1893.de/wp-content/uploads/2021/09/pexels-karolina-grabowska-4498577web.jpg
GEO:51.4332367;7.6615938
X-APPLE-STRUCTURED-LOCATION;VALUE=URI;X-ADDRESS=Gymnastikhalle Fröbelstraße Görresstr. 6 40670 Meerbusch NRW Deutschland;X-APPLE-RADIUS=500;X-TITLE=Görresstr. 6:geo:7.6615938,51.4332367
END:VEVENT
BEGIN:VEVENT
DTSTART;TZID=Europe/Berlin:20251021T111500
DTEND;TZID=Europe/Berlin:20251021T121500
DTSTAMP:20260419T223353
CREATED:20251015T085509Z
LAST-MODIFIED:20251015T085519Z
UID:10050476-1761045300-1761048900@otv1893.de
SUMMARY:Orthopädie-Sportgruppe
DESCRIPTION:
URL:https://otv1893.de/veranstaltung/orthopaedie-sportgruppe-2/2025-10-21/
LOCATION:Gymnastikhalle Fröbelstraße\, Görresstr. 6\, 40670 Meerbusch\, NRW\, Deutschland
CATEGORIES:Reha-Sport
ATTACH;FMTTYPE=image/jpeg:https://otv1893.de/wp-content/uploads/2021/09/pexels-marta-wave-6454196web.jpg
GEO:51.4332367;7.6615938
X-APPLE-STRUCTURED-LOCATION;VALUE=URI;X-ADDRESS=Gymnastikhalle Fröbelstraße Görresstr. 6 40670 Meerbusch NRW Deutschland;X-APPLE-RADIUS=500;X-TITLE=Görresstr. 6:geo:7.6615938,51.4332367
END:VEVENT
BEGIN:VEVENT
DTSTART;TZID=Europe/Berlin:20251021T181500
DTEND;TZID=Europe/Berlin:20251021T194500
DTSTAMP:20260419T223353
CREATED:20251015T085552Z
LAST-MODIFIED:20251015T085607Z
UID:10050814-1761070500-1761075900@otv1893.de
SUMMARY:Herzsportgruppe
DESCRIPTION:
URL:https://otv1893.de/veranstaltung/herzsportgruppe-2/2025-10-21/
LOCATION:Turnhalle GGS Wienenweg\, Wienenweg 38\, 40670 Meerbusch\, NRW\, Deutschland
CATEGORIES:Reha-Sport
ATTACH;FMTTYPE=image/jpeg:https://otv1893.de/wp-content/uploads/2021/09/pexels-rodnae-productions-10031322web.jpg
GEO:51.2703186;6.6331219
X-APPLE-STRUCTURED-LOCATION;VALUE=URI;X-ADDRESS=Turnhalle GGS Wienenweg Wienenweg 38 40670 Meerbusch NRW Deutschland;X-APPLE-RADIUS=500;X-TITLE=Wienenweg 38:geo:6.6331219,51.2703186
END:VEVENT
BEGIN:VEVENT
DTSTART;TZID=Europe/Berlin:20251022T133000
DTEND;TZID=Europe/Berlin:20251022T144500
DTSTAMP:20260419T223353
CREATED:20251015T085306Z
LAST-MODIFIED:20251015T085423Z
UID:10050139-1761139800-1761144300@otv1893.de
SUMMARY:Diabetiker-Sportgruppe
DESCRIPTION:
URL:https://otv1893.de/veranstaltung/diabetiker-sportgruppe-2/2025-10-22/
LOCATION:Gymnastikhalle Fröbelstraße\, Görresstr. 6\, 40670 Meerbusch\, NRW\, Deutschland
CATEGORIES:Reha-Sport
ATTACH;FMTTYPE=image/jpeg:https://otv1893.de/wp-content/uploads/2021/09/pexels-karolina-grabowska-4498577web.jpg
GEO:51.4332367;7.6615938
X-APPLE-STRUCTURED-LOCATION;VALUE=URI;X-ADDRESS=Gymnastikhalle Fröbelstraße Görresstr. 6 40670 Meerbusch NRW Deutschland;X-APPLE-RADIUS=500;X-TITLE=Görresstr. 6:geo:7.6615938,51.4332367
END:VEVENT
BEGIN:VEVENT
DTSTART;TZID=Europe/Berlin:20251028T111500
DTEND;TZID=Europe/Berlin:20251028T121500
DTSTAMP:20260419T223353
CREATED:20251015T085509Z
LAST-MODIFIED:20251015T085519Z
UID:10050477-1761650100-1761653700@otv1893.de
SUMMARY:Orthopädie-Sportgruppe
DESCRIPTION:
URL:https://otv1893.de/veranstaltung/orthopaedie-sportgruppe-2/2025-10-28/
LOCATION:Gymnastikhalle Fröbelstraße\, Görresstr. 6\, 40670 Meerbusch\, NRW\, Deutschland
CATEGORIES:Reha-Sport
ATTACH;FMTTYPE=image/jpeg:https://otv1893.de/wp-content/uploads/2021/09/pexels-marta-wave-6454196web.jpg
GEO:51.4332367;7.6615938
X-APPLE-STRUCTURED-LOCATION;VALUE=URI;X-ADDRESS=Gymnastikhalle Fröbelstraße Görresstr. 6 40670 Meerbusch NRW Deutschland;X-APPLE-RADIUS=500;X-TITLE=Görresstr. 6:geo:7.6615938,51.4332367
END:VEVENT
BEGIN:VEVENT
DTSTART;TZID=Europe/Berlin:20251028T181500
DTEND;TZID=Europe/Berlin:20251028T194500
DTSTAMP:20260419T223353
CREATED:20251015T085552Z
LAST-MODIFIED:20251015T085607Z
UID:10050815-1761675300-1761680700@otv1893.de
SUMMARY:Herzsportgruppe
DESCRIPTION:
URL:https://otv1893.de/veranstaltung/herzsportgruppe-2/2025-10-28/
LOCATION:Turnhalle GGS Wienenweg\, Wienenweg 38\, 40670 Meerbusch\, NRW\, Deutschland
CATEGORIES:Reha-Sport
ATTACH;FMTTYPE=image/jpeg:https://otv1893.de/wp-content/uploads/2021/09/pexels-rodnae-productions-10031322web.jpg
GEO:51.2703186;6.6331219
X-APPLE-STRUCTURED-LOCATION;VALUE=URI;X-ADDRESS=Turnhalle GGS Wienenweg Wienenweg 38 40670 Meerbusch NRW Deutschland;X-APPLE-RADIUS=500;X-TITLE=Wienenweg 38:geo:6.6331219,51.2703186
END:VEVENT
BEGIN:VEVENT
DTSTART;TZID=Europe/Berlin:20251029T133000
DTEND;TZID=Europe/Berlin:20251029T144500
DTSTAMP:20260419T223353
CREATED:20251015T085306Z
LAST-MODIFIED:20251015T085423Z
UID:10050140-1761744600-1761749100@otv1893.de
SUMMARY:Diabetiker-Sportgruppe
DESCRIPTION:
URL:https://otv1893.de/veranstaltung/diabetiker-sportgruppe-2/2025-10-29/
LOCATION:Gymnastikhalle Fröbelstraße\, Görresstr. 6\, 40670 Meerbusch\, NRW\, Deutschland
CATEGORIES:Reha-Sport
ATTACH;FMTTYPE=image/jpeg:https://otv1893.de/wp-content/uploads/2021/09/pexels-karolina-grabowska-4498577web.jpg
GEO:51.4332367;7.6615938
X-APPLE-STRUCTURED-LOCATION;VALUE=URI;X-ADDRESS=Gymnastikhalle Fröbelstraße Görresstr. 6 40670 Meerbusch NRW Deutschland;X-APPLE-RADIUS=500;X-TITLE=Görresstr. 6:geo:7.6615938,51.4332367
END:VEVENT
END:VCALENDAR