BEGIN:VCALENDAR
VERSION:2.0
PRODID:-//Osterather Turnverein 1893 e.V. - ECPv6.15.15//NONSGML v1.0//EN
CALSCALE:GREGORIAN
METHOD:PUBLISH
X-ORIGINAL-URL:https://otv1893.de
X-WR-CALDESC:Veranstaltungen für Osterather Turnverein 1893 e.V.
REFRESH-INTERVAL;VALUE=DURATION:PT1H
X-Robots-Tag:noindex
X-PUBLISHED-TTL:PT1H
BEGIN:VTIMEZONE
TZID:Europe/Berlin
BEGIN:DAYLIGHT
TZOFFSETFROM:+0100
TZOFFSETTO:+0200
TZNAME:CEST
DTSTART:20240331T010000
END:DAYLIGHT
BEGIN:STANDARD
TZOFFSETFROM:+0200
TZOFFSETTO:+0100
TZNAME:CET
DTSTART:20241027T010000
END:STANDARD
BEGIN:DAYLIGHT
TZOFFSETFROM:+0100
TZOFFSETTO:+0200
TZNAME:CEST
DTSTART:20250330T010000
END:DAYLIGHT
BEGIN:STANDARD
TZOFFSETFROM:+0200
TZOFFSETTO:+0100
TZNAME:CET
DTSTART:20251026T010000
END:STANDARD
BEGIN:DAYLIGHT
TZOFFSETFROM:+0100
TZOFFSETTO:+0200
TZNAME:CEST
DTSTART:20260329T010000
END:DAYLIGHT
BEGIN:STANDARD
TZOFFSETFROM:+0200
TZOFFSETTO:+0100
TZNAME:CET
DTSTART:20261025T010000
END:STANDARD
END:VTIMEZONE
BEGIN:VEVENT
DTSTART;TZID=Europe/Berlin:20250401T111500
DTEND;TZID=Europe/Berlin:20250401T121500
DTSTAMP:20260420T133421
CREATED:20251015T085509Z
LAST-MODIFIED:20251015T085519Z
UID:10050447-1743506100-1743509700@otv1893.de
SUMMARY:Orthopädie-Sportgruppe
DESCRIPTION:
URL:https://otv1893.de/veranstaltung/orthopaedie-sportgruppe-2/2025-04-01/
LOCATION:Gymnastikhalle Fröbelstraße\, Görresstr. 6\, 40670 Meerbusch\, NRW\, Deutschland
CATEGORIES:Reha-Sport
ATTACH;FMTTYPE=image/jpeg:https://otv1893.de/wp-content/uploads/2021/09/pexels-marta-wave-6454196web.jpg
GEO:51.4332367;7.6615938
X-APPLE-STRUCTURED-LOCATION;VALUE=URI;X-ADDRESS=Gymnastikhalle Fröbelstraße Görresstr. 6 40670 Meerbusch NRW Deutschland;X-APPLE-RADIUS=500;X-TITLE=Görresstr. 6:geo:7.6615938,51.4332367
END:VEVENT
BEGIN:VEVENT
DTSTART;TZID=Europe/Berlin:20250401T181500
DTEND;TZID=Europe/Berlin:20250401T194500
DTSTAMP:20260420T133421
CREATED:20251015T085552Z
LAST-MODIFIED:20251015T085607Z
UID:10050785-1743531300-1743536700@otv1893.de
SUMMARY:Herzsportgruppe
DESCRIPTION:
URL:https://otv1893.de/veranstaltung/herzsportgruppe-2/2025-04-01/
LOCATION:Turnhalle GGS Wienenweg\, Wienenweg 38\, 40670 Meerbusch\, NRW\, Deutschland
CATEGORIES:Reha-Sport
ATTACH;FMTTYPE=image/jpeg:https://otv1893.de/wp-content/uploads/2021/09/pexels-rodnae-productions-10031322web.jpg
GEO:51.2703186;6.6331219
X-APPLE-STRUCTURED-LOCATION;VALUE=URI;X-ADDRESS=Turnhalle GGS Wienenweg Wienenweg 38 40670 Meerbusch NRW Deutschland;X-APPLE-RADIUS=500;X-TITLE=Wienenweg 38:geo:6.6331219,51.2703186
END:VEVENT
BEGIN:VEVENT
DTSTART;TZID=Europe/Berlin:20250402T133000
DTEND;TZID=Europe/Berlin:20250402T144500
DTSTAMP:20260420T133421
CREATED:20251015T085306Z
LAST-MODIFIED:20251015T085423Z
UID:10050110-1743600600-1743605100@otv1893.de
SUMMARY:Diabetiker-Sportgruppe
DESCRIPTION:
URL:https://otv1893.de/veranstaltung/diabetiker-sportgruppe-2/2025-04-02/
LOCATION:Gymnastikhalle Fröbelstraße\, Görresstr. 6\, 40670 Meerbusch\, NRW\, Deutschland
CATEGORIES:Reha-Sport
ATTACH;FMTTYPE=image/jpeg:https://otv1893.de/wp-content/uploads/2021/09/pexels-karolina-grabowska-4498577web.jpg
GEO:51.4332367;7.6615938
X-APPLE-STRUCTURED-LOCATION;VALUE=URI;X-ADDRESS=Gymnastikhalle Fröbelstraße Görresstr. 6 40670 Meerbusch NRW Deutschland;X-APPLE-RADIUS=500;X-TITLE=Görresstr. 6:geo:7.6615938,51.4332367
END:VEVENT
BEGIN:VEVENT
DTSTART;TZID=Europe/Berlin:20250408T111500
DTEND;TZID=Europe/Berlin:20250408T121500
DTSTAMP:20260420T133421
CREATED:20251015T085509Z
LAST-MODIFIED:20251015T085519Z
UID:10050448-1744110900-1744114500@otv1893.de
SUMMARY:Orthopädie-Sportgruppe
DESCRIPTION:
URL:https://otv1893.de/veranstaltung/orthopaedie-sportgruppe-2/2025-04-08/
LOCATION:Gymnastikhalle Fröbelstraße\, Görresstr. 6\, 40670 Meerbusch\, NRW\, Deutschland
CATEGORIES:Reha-Sport
ATTACH;FMTTYPE=image/jpeg:https://otv1893.de/wp-content/uploads/2021/09/pexels-marta-wave-6454196web.jpg
GEO:51.4332367;7.6615938
X-APPLE-STRUCTURED-LOCATION;VALUE=URI;X-ADDRESS=Gymnastikhalle Fröbelstraße Görresstr. 6 40670 Meerbusch NRW Deutschland;X-APPLE-RADIUS=500;X-TITLE=Görresstr. 6:geo:7.6615938,51.4332367
END:VEVENT
BEGIN:VEVENT
DTSTART;TZID=Europe/Berlin:20250408T181500
DTEND;TZID=Europe/Berlin:20250408T194500
DTSTAMP:20260420T133421
CREATED:20251015T085552Z
LAST-MODIFIED:20251015T085607Z
UID:10050786-1744136100-1744141500@otv1893.de
SUMMARY:Herzsportgruppe
DESCRIPTION:
URL:https://otv1893.de/veranstaltung/herzsportgruppe-2/2025-04-08/
LOCATION:Turnhalle GGS Wienenweg\, Wienenweg 38\, 40670 Meerbusch\, NRW\, Deutschland
CATEGORIES:Reha-Sport
ATTACH;FMTTYPE=image/jpeg:https://otv1893.de/wp-content/uploads/2021/09/pexels-rodnae-productions-10031322web.jpg
GEO:51.2703186;6.6331219
X-APPLE-STRUCTURED-LOCATION;VALUE=URI;X-ADDRESS=Turnhalle GGS Wienenweg Wienenweg 38 40670 Meerbusch NRW Deutschland;X-APPLE-RADIUS=500;X-TITLE=Wienenweg 38:geo:6.6331219,51.2703186
END:VEVENT
BEGIN:VEVENT
DTSTART;TZID=Europe/Berlin:20250409T133000
DTEND;TZID=Europe/Berlin:20250409T144500
DTSTAMP:20260420T133421
CREATED:20251015T085306Z
LAST-MODIFIED:20251015T085423Z
UID:10050111-1744205400-1744209900@otv1893.de
SUMMARY:Diabetiker-Sportgruppe
DESCRIPTION:
URL:https://otv1893.de/veranstaltung/diabetiker-sportgruppe-2/2025-04-09/
LOCATION:Gymnastikhalle Fröbelstraße\, Görresstr. 6\, 40670 Meerbusch\, NRW\, Deutschland
CATEGORIES:Reha-Sport
ATTACH;FMTTYPE=image/jpeg:https://otv1893.de/wp-content/uploads/2021/09/pexels-karolina-grabowska-4498577web.jpg
GEO:51.4332367;7.6615938
X-APPLE-STRUCTURED-LOCATION;VALUE=URI;X-ADDRESS=Gymnastikhalle Fröbelstraße Görresstr. 6 40670 Meerbusch NRW Deutschland;X-APPLE-RADIUS=500;X-TITLE=Görresstr. 6:geo:7.6615938,51.4332367
END:VEVENT
BEGIN:VEVENT
DTSTART;TZID=Europe/Berlin:20250415T111500
DTEND;TZID=Europe/Berlin:20250415T121500
DTSTAMP:20260420T133421
CREATED:20251015T085509Z
LAST-MODIFIED:20251015T085519Z
UID:10050449-1744715700-1744719300@otv1893.de
SUMMARY:Orthopädie-Sportgruppe
DESCRIPTION:
URL:https://otv1893.de/veranstaltung/orthopaedie-sportgruppe-2/2025-04-15/
LOCATION:Gymnastikhalle Fröbelstraße\, Görresstr. 6\, 40670 Meerbusch\, NRW\, Deutschland
CATEGORIES:Reha-Sport
ATTACH;FMTTYPE=image/jpeg:https://otv1893.de/wp-content/uploads/2021/09/pexels-marta-wave-6454196web.jpg
GEO:51.4332367;7.6615938
X-APPLE-STRUCTURED-LOCATION;VALUE=URI;X-ADDRESS=Gymnastikhalle Fröbelstraße Görresstr. 6 40670 Meerbusch NRW Deutschland;X-APPLE-RADIUS=500;X-TITLE=Görresstr. 6:geo:7.6615938,51.4332367
END:VEVENT
BEGIN:VEVENT
DTSTART;TZID=Europe/Berlin:20250415T181500
DTEND;TZID=Europe/Berlin:20250415T194500
DTSTAMP:20260420T133421
CREATED:20251015T085552Z
LAST-MODIFIED:20251015T085607Z
UID:10050787-1744740900-1744746300@otv1893.de
SUMMARY:Herzsportgruppe
DESCRIPTION:
URL:https://otv1893.de/veranstaltung/herzsportgruppe-2/2025-04-15/
LOCATION:Turnhalle GGS Wienenweg\, Wienenweg 38\, 40670 Meerbusch\, NRW\, Deutschland
CATEGORIES:Reha-Sport
ATTACH;FMTTYPE=image/jpeg:https://otv1893.de/wp-content/uploads/2021/09/pexels-rodnae-productions-10031322web.jpg
GEO:51.2703186;6.6331219
X-APPLE-STRUCTURED-LOCATION;VALUE=URI;X-ADDRESS=Turnhalle GGS Wienenweg Wienenweg 38 40670 Meerbusch NRW Deutschland;X-APPLE-RADIUS=500;X-TITLE=Wienenweg 38:geo:6.6331219,51.2703186
END:VEVENT
BEGIN:VEVENT
DTSTART;TZID=Europe/Berlin:20250416T133000
DTEND;TZID=Europe/Berlin:20250416T144500
DTSTAMP:20260420T133421
CREATED:20251015T085306Z
LAST-MODIFIED:20251015T085423Z
UID:10050112-1744810200-1744814700@otv1893.de
SUMMARY:Diabetiker-Sportgruppe
DESCRIPTION:
URL:https://otv1893.de/veranstaltung/diabetiker-sportgruppe-2/2025-04-16/
LOCATION:Gymnastikhalle Fröbelstraße\, Görresstr. 6\, 40670 Meerbusch\, NRW\, Deutschland
CATEGORIES:Reha-Sport
ATTACH;FMTTYPE=image/jpeg:https://otv1893.de/wp-content/uploads/2021/09/pexels-karolina-grabowska-4498577web.jpg
GEO:51.4332367;7.6615938
X-APPLE-STRUCTURED-LOCATION;VALUE=URI;X-ADDRESS=Gymnastikhalle Fröbelstraße Görresstr. 6 40670 Meerbusch NRW Deutschland;X-APPLE-RADIUS=500;X-TITLE=Görresstr. 6:geo:7.6615938,51.4332367
END:VEVENT
BEGIN:VEVENT
DTSTART;TZID=Europe/Berlin:20250422T111500
DTEND;TZID=Europe/Berlin:20250422T121500
DTSTAMP:20260420T133421
CREATED:20251015T085509Z
LAST-MODIFIED:20251015T085519Z
UID:10050450-1745320500-1745324100@otv1893.de
SUMMARY:Orthopädie-Sportgruppe
DESCRIPTION:
URL:https://otv1893.de/veranstaltung/orthopaedie-sportgruppe-2/2025-04-22/
LOCATION:Gymnastikhalle Fröbelstraße\, Görresstr. 6\, 40670 Meerbusch\, NRW\, Deutschland
CATEGORIES:Reha-Sport
ATTACH;FMTTYPE=image/jpeg:https://otv1893.de/wp-content/uploads/2021/09/pexels-marta-wave-6454196web.jpg
GEO:51.4332367;7.6615938
X-APPLE-STRUCTURED-LOCATION;VALUE=URI;X-ADDRESS=Gymnastikhalle Fröbelstraße Görresstr. 6 40670 Meerbusch NRW Deutschland;X-APPLE-RADIUS=500;X-TITLE=Görresstr. 6:geo:7.6615938,51.4332367
END:VEVENT
BEGIN:VEVENT
DTSTART;TZID=Europe/Berlin:20250422T181500
DTEND;TZID=Europe/Berlin:20250422T194500
DTSTAMP:20260420T133421
CREATED:20251015T085552Z
LAST-MODIFIED:20251015T085607Z
UID:10050788-1745345700-1745351100@otv1893.de
SUMMARY:Herzsportgruppe
DESCRIPTION:
URL:https://otv1893.de/veranstaltung/herzsportgruppe-2/2025-04-22/
LOCATION:Turnhalle GGS Wienenweg\, Wienenweg 38\, 40670 Meerbusch\, NRW\, Deutschland
CATEGORIES:Reha-Sport
ATTACH;FMTTYPE=image/jpeg:https://otv1893.de/wp-content/uploads/2021/09/pexels-rodnae-productions-10031322web.jpg
GEO:51.2703186;6.6331219
X-APPLE-STRUCTURED-LOCATION;VALUE=URI;X-ADDRESS=Turnhalle GGS Wienenweg Wienenweg 38 40670 Meerbusch NRW Deutschland;X-APPLE-RADIUS=500;X-TITLE=Wienenweg 38:geo:6.6331219,51.2703186
END:VEVENT
BEGIN:VEVENT
DTSTART;TZID=Europe/Berlin:20250423T133000
DTEND;TZID=Europe/Berlin:20250423T144500
DTSTAMP:20260420T133421
CREATED:20251015T085306Z
LAST-MODIFIED:20251015T085423Z
UID:10050113-1745415000-1745419500@otv1893.de
SUMMARY:Diabetiker-Sportgruppe
DESCRIPTION:
URL:https://otv1893.de/veranstaltung/diabetiker-sportgruppe-2/2025-04-23/
LOCATION:Gymnastikhalle Fröbelstraße\, Görresstr. 6\, 40670 Meerbusch\, NRW\, Deutschland
CATEGORIES:Reha-Sport
ATTACH;FMTTYPE=image/jpeg:https://otv1893.de/wp-content/uploads/2021/09/pexels-karolina-grabowska-4498577web.jpg
GEO:51.4332367;7.6615938
X-APPLE-STRUCTURED-LOCATION;VALUE=URI;X-ADDRESS=Gymnastikhalle Fröbelstraße Görresstr. 6 40670 Meerbusch NRW Deutschland;X-APPLE-RADIUS=500;X-TITLE=Görresstr. 6:geo:7.6615938,51.4332367
END:VEVENT
BEGIN:VEVENT
DTSTART;TZID=Europe/Berlin:20250429T111500
DTEND;TZID=Europe/Berlin:20250429T121500
DTSTAMP:20260420T133421
CREATED:20251015T085509Z
LAST-MODIFIED:20251015T085519Z
UID:10050451-1745925300-1745928900@otv1893.de
SUMMARY:Orthopädie-Sportgruppe
DESCRIPTION:
URL:https://otv1893.de/veranstaltung/orthopaedie-sportgruppe-2/2025-04-29/
LOCATION:Gymnastikhalle Fröbelstraße\, Görresstr. 6\, 40670 Meerbusch\, NRW\, Deutschland
CATEGORIES:Reha-Sport
ATTACH;FMTTYPE=image/jpeg:https://otv1893.de/wp-content/uploads/2021/09/pexels-marta-wave-6454196web.jpg
GEO:51.4332367;7.6615938
X-APPLE-STRUCTURED-LOCATION;VALUE=URI;X-ADDRESS=Gymnastikhalle Fröbelstraße Görresstr. 6 40670 Meerbusch NRW Deutschland;X-APPLE-RADIUS=500;X-TITLE=Görresstr. 6:geo:7.6615938,51.4332367
END:VEVENT
BEGIN:VEVENT
DTSTART;TZID=Europe/Berlin:20250429T181500
DTEND;TZID=Europe/Berlin:20250429T194500
DTSTAMP:20260420T133421
CREATED:20251015T085552Z
LAST-MODIFIED:20251015T085607Z
UID:10050789-1745950500-1745955900@otv1893.de
SUMMARY:Herzsportgruppe
DESCRIPTION:
URL:https://otv1893.de/veranstaltung/herzsportgruppe-2/2025-04-29/
LOCATION:Turnhalle GGS Wienenweg\, Wienenweg 38\, 40670 Meerbusch\, NRW\, Deutschland
CATEGORIES:Reha-Sport
ATTACH;FMTTYPE=image/jpeg:https://otv1893.de/wp-content/uploads/2021/09/pexels-rodnae-productions-10031322web.jpg
GEO:51.2703186;6.6331219
X-APPLE-STRUCTURED-LOCATION;VALUE=URI;X-ADDRESS=Turnhalle GGS Wienenweg Wienenweg 38 40670 Meerbusch NRW Deutschland;X-APPLE-RADIUS=500;X-TITLE=Wienenweg 38:geo:6.6331219,51.2703186
END:VEVENT
BEGIN:VEVENT
DTSTART;TZID=Europe/Berlin:20250430T133000
DTEND;TZID=Europe/Berlin:20250430T144500
DTSTAMP:20260420T133421
CREATED:20251015T085306Z
LAST-MODIFIED:20251015T085423Z
UID:10050114-1746019800-1746024300@otv1893.de
SUMMARY:Diabetiker-Sportgruppe
DESCRIPTION:
URL:https://otv1893.de/veranstaltung/diabetiker-sportgruppe-2/2025-04-30/
LOCATION:Gymnastikhalle Fröbelstraße\, Görresstr. 6\, 40670 Meerbusch\, NRW\, Deutschland
CATEGORIES:Reha-Sport
ATTACH;FMTTYPE=image/jpeg:https://otv1893.de/wp-content/uploads/2021/09/pexels-karolina-grabowska-4498577web.jpg
GEO:51.4332367;7.6615938
X-APPLE-STRUCTURED-LOCATION;VALUE=URI;X-ADDRESS=Gymnastikhalle Fröbelstraße Görresstr. 6 40670 Meerbusch NRW Deutschland;X-APPLE-RADIUS=500;X-TITLE=Görresstr. 6:geo:7.6615938,51.4332367
END:VEVENT
END:VCALENDAR