BEGIN:VCALENDAR
VERSION:2.0
PRODID:-//Osterather Turnverein 1893 e.V. - ECPv6.15.15//NONSGML v1.0//EN
CALSCALE:GREGORIAN
METHOD:PUBLISH
X-ORIGINAL-URL:https://otv1893.de
X-WR-CALDESC:Veranstaltungen für Osterather Turnverein 1893 e.V.
REFRESH-INTERVAL;VALUE=DURATION:PT1H
X-Robots-Tag:noindex
X-PUBLISHED-TTL:PT1H
BEGIN:VTIMEZONE
TZID:Europe/Berlin
BEGIN:DAYLIGHT
TZOFFSETFROM:+0100
TZOFFSETTO:+0200
TZNAME:CEST
DTSTART:20230326T010000
END:DAYLIGHT
BEGIN:STANDARD
TZOFFSETFROM:+0200
TZOFFSETTO:+0100
TZNAME:CET
DTSTART:20231029T010000
END:STANDARD
BEGIN:DAYLIGHT
TZOFFSETFROM:+0100
TZOFFSETTO:+0200
TZNAME:CEST
DTSTART:20240331T010000
END:DAYLIGHT
BEGIN:STANDARD
TZOFFSETFROM:+0200
TZOFFSETTO:+0100
TZNAME:CET
DTSTART:20241027T010000
END:STANDARD
BEGIN:DAYLIGHT
TZOFFSETFROM:+0100
TZOFFSETTO:+0200
TZNAME:CEST
DTSTART:20250330T010000
END:DAYLIGHT
BEGIN:STANDARD
TZOFFSETFROM:+0200
TZOFFSETTO:+0100
TZNAME:CET
DTSTART:20251026T010000
END:STANDARD
END:VTIMEZONE
BEGIN:VEVENT
DTSTART;TZID=Europe/Berlin:20241101T090000
DTEND;TZID=Europe/Berlin:20241101T100000
DTSTAMP:20260421T073723
CREATED:20220327T142835Z
LAST-MODIFIED:20230510T095904Z
UID:10026464-1730451600-1730455200@otv1893.de
SUMMARY:Eltern-Kind-Turnen ab 15 Mon.
DESCRIPTION:Ül.: Marie Basels
URL:https://otv1893.de/veranstaltung/eltern-kind-turnen-ab-15-mon/2024-11-01/
LOCATION:Gymnastikhalle /alte Realschulturnhalle\, Fröbelstr.\, NRW\, Deutschland
CATEGORIES:Turnen
GEO:51.4332367;7.6615938
END:VEVENT
BEGIN:VEVENT
DTSTART;TZID=Europe/Berlin:20241101T090000
DTEND;TZID=Europe/Berlin:20241101T100000
DTSTAMP:20260421T073723
CREATED:20240903T135141Z
LAST-MODIFIED:20240903T135141Z
UID:10043400-1730451600-1730455200@otv1893.de
SUMMARY:Slow Jogging - Anfänger
DESCRIPTION:Slow Jogging Angebot für Anfänger
URL:https://otv1893.de/veranstaltung/slow-jogging-anfaenger/2024-11-01/
LOCATION:Parkplatz Latumer See\, Meerbusch Lank\, Latumer See\, Meerbusch\, NRW\, 40670\, Deutschland
CATEGORIES:Leichtathletik
ORGANIZER;CN="Gabi Wiemer":MAILTO:Gabi.wiemer@t-online.de
GEO:51.3040535;6.6678503
X-APPLE-STRUCTURED-LOCATION;VALUE=URI;X-ADDRESS=Parkplatz Latumer See Meerbusch Lank Latumer See Meerbusch NRW 40670 Deutschland;X-APPLE-RADIUS=500;X-TITLE=Latumer See:geo:6.6678503,51.3040535
END:VEVENT
BEGIN:VEVENT
DTSTART;TZID=Europe/Berlin:20241101T100000
DTEND;TZID=Europe/Berlin:20241101T110000
DTSTAMP:20260421T073723
CREATED:20220330T185559Z
LAST-MODIFIED:20230510T101051Z
UID:10026669-1730455200-1730458800@otv1893.de
SUMMARY:Eltern-Kind-Turnen ab 15 Mon. b
DESCRIPTION:Ül.: Maria Basels
URL:https://otv1893.de/veranstaltung/eltern-kind-turnen-ab-15-mon-2/2024-11-01/
LOCATION:Gymnastikhalle /alte Realschulturnhalle\, Fröbelstr.\, NRW\, Deutschland
CATEGORIES:Turnen
GEO:51.4332367;7.6615938
END:VEVENT
BEGIN:VEVENT
DTSTART;TZID=Europe/Berlin:20241101T110000
DTEND;TZID=Europe/Berlin:20241101T120000
DTSTAMP:20260421T073723
CREATED:20220330T201349Z
LAST-MODIFIED:20230510T095741Z
UID:10026874-1730458800-1730462400@otv1893.de
SUMMARY:Eltern-Kind-Turnen ab 15 Mon.
DESCRIPTION:Ül.: Maria Basels
URL:https://otv1893.de/veranstaltung/eltern-kind-turnen-ab-15-mon-3/2024-11-01/
CATEGORIES:Turnen
END:VEVENT
BEGIN:VEVENT
DTSTART;TZID=Europe/Berlin:20241101T163000
DTEND;TZID=Europe/Berlin:20241101T180000
DTSTAMP:20260421T073723
CREATED:20230124T230330Z
LAST-MODIFIED:20240301T105429Z
UID:10034983-1730478600-1730484000@otv1893.de
SUMMARY:Volley-Kids
DESCRIPTION:
URL:https://otv1893.de/veranstaltung/volley-kids/2024-11-01/
LOCATION:Turnhalle Städt. Gemeinschafts-Grundschule Wienenweg\, Wienenweg 38\, Meerbusch-Osterath\, NRW\, 40670\, Deutschland
CATEGORIES:Volleyball
GEO:51.27029;6.63279
X-APPLE-STRUCTURED-LOCATION;VALUE=URI;X-ADDRESS=Turnhalle Städt. Gemeinschafts-Grundschule Wienenweg Wienenweg 38 Meerbusch-Osterath NRW 40670 Deutschland;X-APPLE-RADIUS=500;X-TITLE=Wienenweg 38:geo:6.63279,51.27029
END:VEVENT
BEGIN:VEVENT
DTSTART;TZID=Europe/Berlin:20241101T170000
DTEND;TZID=Europe/Berlin:20241101T190000
DTSTAMP:20260421T073723
CREATED:20231019T192729Z
LAST-MODIFIED:20231019T192829Z
UID:10029761-1730480400-1730487600@otv1893.de
SUMMARY:Jugendtraining
DESCRIPTION:
URL:https://otv1893.de/veranstaltung/jugendtraining/2024-11-01/
LOCATION:2-fach Turnhallen Städt. Meerbusch Gymnasium\, Mönkesweg 58\, Meerbusch\, NRW\, 40670\, Deutschland
ORGANIZER;CN="OTV Abteilung Badminton":MAILTO:max.frickel@web.de
GEO:51.2780502;6.6495199
X-APPLE-STRUCTURED-LOCATION;VALUE=URI;X-ADDRESS=2-fach Turnhallen Städt. Meerbusch Gymnasium Mönkesweg 58 Meerbusch NRW 40670 Deutschland;X-APPLE-RADIUS=500;X-TITLE=Mönkesweg 58:geo:6.6495199,51.2780502
END:VEVENT
BEGIN:VEVENT
DTSTART;TZID=Europe/Berlin:20241101T180000
DTEND;TZID=Europe/Berlin:20241101T190000
DTSTAMP:20260421T073723
CREATED:20240103T151832Z
LAST-MODIFIED:20250416T090334Z
UID:10030973-1730484000-1730487600@otv1893.de
SUMMARY:Lauftreff
DESCRIPTION:Der OTV-Lauftreff ist eine Veranstaltung für Jedermann. Eine Vereinsmitgliedschaft ist nicht erforderlich!
URL:https://otv1893.de/veranstaltung/lauftreff/2024-11-01/
LOCATION:Insterburgerstraße (Parkplatz der Kleingartenanlage)\, NRW\, Deutschland
CATEGORIES:Leichtathletik
GEO:51.265242147;6.63097819881
END:VEVENT
BEGIN:VEVENT
DTSTART;TZID=Europe/Berlin:20241101T180000
DTEND;TZID=Europe/Berlin:20241101T200000
DTSTAMP:20260421T073723
CREATED:20240301T105336Z
LAST-MODIFIED:20250529T202239Z
UID:10034726-1730484000-1730491200@otv1893.de
SUMMARY:Jugend-Nachwuchsgruppe
DESCRIPTION:
URL:https://otv1893.de/veranstaltung/jugend-nachwuchsgruppe-2/2024-11-01/
LOCATION:Turnhalle Städt. Gemeinschafts-Grundschule Wienenweg\, Wienenweg 38\, Meerbusch-Osterath\, NRW\, 40670\, Deutschland
CATEGORIES:Volleyball
GEO:51.27029;6.63279
X-APPLE-STRUCTURED-LOCATION;VALUE=URI;X-ADDRESS=Turnhalle Städt. Gemeinschafts-Grundschule Wienenweg Wienenweg 38 Meerbusch-Osterath NRW 40670 Deutschland;X-APPLE-RADIUS=500;X-TITLE=Wienenweg 38:geo:6.63279,51.27029
END:VEVENT
BEGIN:VEVENT
DTSTART;TZID=Europe/Berlin:20241101T190000
DTEND;TZID=Europe/Berlin:20241101T220000
DTSTAMP:20260421T073723
CREATED:20230326T130338Z
LAST-MODIFIED:20230326T130357Z
UID:10052878-1730487600-1730498400@otv1893.de
SUMMARY:Senioren-Training
DESCRIPTION:
URL:https://otv1893.de/veranstaltung/senioren-training-2/2024-11-01/
LOCATION:2-fach Turnhallen Städt. Meerbusch Gymnasium\, Mönkesweg 58\, Meerbusch\, NRW\, 40670\, Deutschland
CATEGORIES:Badminton
ORGANIZER;CN="OTV Abteilung Badminton":MAILTO:max.frickel@web.de
GEO:51.2780502;6.6495199
X-APPLE-STRUCTURED-LOCATION;VALUE=URI;X-ADDRESS=2-fach Turnhallen Städt. Meerbusch Gymnasium Mönkesweg 58 Meerbusch NRW 40670 Deutschland;X-APPLE-RADIUS=500;X-TITLE=Mönkesweg 58:geo:6.6495199,51.2780502
END:VEVENT
BEGIN:VEVENT
DTSTART;TZID=Europe/Berlin:20241101T200000
DTEND;TZID=Europe/Berlin:20241101T220000
DTSTAMP:20260421T073723
CREATED:20230810T201143Z
LAST-MODIFIED:20230810T201143Z
UID:10028902-1730491200-1730498400@otv1893.de
SUMMARY:Damen
DESCRIPTION:
URL:https://otv1893.de/veranstaltung/damen-2/2024-11-01/
LOCATION:Turnhalle Städt. Gemeinschafts-Grundschule Wienenweg\, Wienenweg 38\, Meerbusch-Osterath\, NRW\, 40670\, Deutschland
CATEGORIES:Volleyball
GEO:51.27029;6.63279
X-APPLE-STRUCTURED-LOCATION;VALUE=URI;X-ADDRESS=Turnhalle Städt. Gemeinschafts-Grundschule Wienenweg Wienenweg 38 Meerbusch-Osterath NRW 40670 Deutschland;X-APPLE-RADIUS=500;X-TITLE=Wienenweg 38:geo:6.63279,51.27029
END:VEVENT
BEGIN:VEVENT
DTSTART;TZID=Europe/Berlin:20241102T100000
DTEND;TZID=Europe/Berlin:20241102T130000
DTSTAMP:20260421T073723
CREATED:20210921T103532Z
LAST-MODIFIED:20210923T090419Z
UID:10023231-1730541600-1730552400@otv1893.de
SUMMARY:Long Run (Halb-) Marathon-Training
DESCRIPTION:Je nach Saison werden lange Läufe (15-35km) gelaufen
URL:https://otv1893.de/veranstaltung/long-run-halb-marathon-training/2024-11-02/
LOCATION:P&R Haltestelle Bovert\, Meerbusch-Osterath\, NRW\, Deutschland
CATEGORIES:Leichtathletik
GEO:51.2667307831;6.6510214341
END:VEVENT
BEGIN:VEVENT
DTSTART;TZID=Europe/Berlin:20241103T090000
DTEND;TZID=Europe/Berlin:20241103T103000
DTSTAMP:20260421T073723
CREATED:20240903T135531Z
LAST-MODIFIED:20240903T135531Z
UID:10043661-1730624400-1730629800@otv1893.de
SUMMARY:Slow Jogging - Fortgeschrittene
DESCRIPTION:Slow Jogging für Fortgeschrittene mit längeren Läufen und erhöhtem Tempo.
URL:https://otv1893.de/veranstaltung/slow-jogging-fortgeschrittene-2/2024-11-03/
LOCATION:Parkplatz Latumer See\, Meerbusch Lank\, Latumer See\, Meerbusch\, NRW\, 40670\, Deutschland
CATEGORIES:Leichtathletik
GEO:51.3040535;6.6678503
X-APPLE-STRUCTURED-LOCATION;VALUE=URI;X-ADDRESS=Parkplatz Latumer See Meerbusch Lank Latumer See Meerbusch NRW 40670 Deutschland;X-APPLE-RADIUS=500;X-TITLE=Latumer See:geo:6.6678503,51.3040535
END:VEVENT
BEGIN:VEVENT
DTSTART;TZID=Europe/Berlin:20241103T100000
DTEND;TZID=Europe/Berlin:20241103T110000
DTSTAMP:20260421T073723
CREATED:20230122T102920Z
LAST-MODIFIED:20240103T150258Z
UID:10030381-1730628000-1730631600@otv1893.de
SUMMARY:Lauftreff
DESCRIPTION:Der OTV-Lauftreff ist eine Veranstaltung für Jedermann. Eine Vereinsmitgliedschaft ist nicht erforderlich!
URL:https://otv1893.de/veranstaltung/lauftreff-2-3/2024-11-03/
LOCATION:Waldparkplatz L476 (exB9)\, NRW\, Deutschland
CATEGORIES:Leichtathletik
GEO:51.2658118625;6.66405617915
END:VEVENT
BEGIN:VEVENT
DTSTART;TZID=Europe/Berlin:20241104T090000
DTEND;TZID=Europe/Berlin:20241104T103000
DTSTAMP:20260421T073723
CREATED:20240903T134126Z
LAST-MODIFIED:20240903T134126Z
UID:10042878-1730710800-1730716200@otv1893.de
SUMMARY:Slow Jogging - Anfänger u. leicht Fortgeschrittene
DESCRIPTION:Slow Jogging für Anfänger und leicht Fortgeschrittene. \nRegeltermin am Montagmorgen
URL:https://otv1893.de/veranstaltung/slow-jogging-anfaenger-u-leicht-fortgeschrittene/2024-11-04/
LOCATION:Waldparkplatz L476 (exB9)\, NRW\, Deutschland
CATEGORIES:Leichtathletik
ORGANIZER;CN="Gabi Wiemer":MAILTO:Gabi.wiemer@t-online.de
GEO:51.2658118625;6.66405617915
END:VEVENT
BEGIN:VEVENT
DTSTART;TZID=Europe/Berlin:20241104T093000
DTEND;TZID=Europe/Berlin:20241104T113000
DTSTAMP:20260421T073723
CREATED:20240805T152451Z
LAST-MODIFIED:20240805T152712Z
UID:10037991-1730712600-1730719800@otv1893.de
SUMMARY:Walkingtreff (Mo.)
DESCRIPTION:
URL:https://otv1893.de/veranstaltung/walkingtreff-mo/2024-11-04/
LOCATION:Waldparkplatz L476 (exB9)\, NRW\, Deutschland
CATEGORIES:Lauftreffs,Leichtathletik
GEO:51.2658118625;6.66405617915
END:VEVENT
BEGIN:VEVENT
DTSTART;TZID=Europe/Berlin:20241104T101000
DTEND;TZID=Europe/Berlin:20241104T111000
DTSTAMP:20260421T073723
CREATED:20230417T142055Z
LAST-MODIFIED:20240223T135036Z
UID:10034467-1730715000-1730718600@otv1893.de
SUMMARY:Seniorensport ab 60 Jahre
DESCRIPTION:Kein Training in den Ferien oder an Feiertagen. \nFür Rückfragen  ÜL Monika Strotmann kontaktieren.
URL:https://otv1893.de/veranstaltung/seniorensport-ab-60-jahre/2024-11-04/
LOCATION:Gymnastikhalle /alte Realschulturnhalle\, Fröbelstr.\, NRW\, Deutschland
CATEGORIES:Gymnastik
GEO:51.4332367;7.6615938
END:VEVENT
BEGIN:VEVENT
DTSTART;TZID=Europe/Berlin:20241104T111000
DTEND;TZID=Europe/Berlin:20241104T121000
DTSTAMP:20260421T073723
CREATED:20240120T130433Z
LAST-MODIFIED:20240223T134328Z
UID:10034157-1730718600-1730722200@otv1893.de
SUMMARY:Seniorensport ab 70 Jahre
DESCRIPTION:Kein Training in den Ferien oder an Feiertagen. \nFür Rückfragen ÜL Monika Strotmann kontaktieren.
URL:https://otv1893.de/veranstaltung/seniorensport-ab-70-jahre-2/2024-11-04/
LOCATION:Gymnastikhalle /alte Realschulturnhalle\, Fröbelstr.\, NRW\, Deutschland
CATEGORIES:Gymnastik
GEO:51.4332367;7.6615938
END:VEVENT
BEGIN:VEVENT
DTSTART;TZID=Europe/Berlin:20241104T121000
DTEND;TZID=Europe/Berlin:20241104T131000
DTSTAMP:20260421T073723
CREATED:20240120T130701Z
LAST-MODIFIED:20240223T134052Z
UID:10033890-1730722200-1730725800@otv1893.de
SUMMARY:Seniorensport ab 60
DESCRIPTION:
URL:https://otv1893.de/veranstaltung/seniorensport-ab-60/2024-11-04/
LOCATION:Gymnastikhalle Fröbelstraße\, Görresstr. 6\, 40670 Meerbusch\, NRW\, Deutschland
CATEGORIES:Gymnastik
GEO:51.4332367;7.6615938
X-APPLE-STRUCTURED-LOCATION;VALUE=URI;X-ADDRESS=Gymnastikhalle Fröbelstraße Görresstr. 6 40670 Meerbusch NRW Deutschland;X-APPLE-RADIUS=500;X-TITLE=Görresstr. 6:geo:7.6615938,51.4332367
END:VEVENT
BEGIN:VEVENT
DTSTART;TZID=Europe/Berlin:20241104T163000
DTEND;TZID=Europe/Berlin:20241104T173000
DTSTAMP:20260421T073723
CREATED:20240823T133934Z
LAST-MODIFIED:20240823T133934Z
UID:10040166-1730737800-1730741400@otv1893.de
SUMMARY:Wirbelsäulengymnastik
DESCRIPTION:Offen für alle OTV-Mitglieder. Für Sie und Ihn. \nNicht in den Schulferien oder an Feiertagen.  Sommerferien outdoor auf der Wiese neben der Turnhalle. \nBei Fragen ÜL Dagmar Paetzel kontaktieren.
URL:https://otv1893.de/veranstaltung/wirbelsaeulengymnastik-2/2024-11-04/
LOCATION:Turnhalle GGS Wienenweg\, Wienenweg 38\, 40670 Meerbusch\, NRW\, Deutschland
CATEGORIES:Gymnastik
GEO:51.2703186;6.6331219
X-APPLE-STRUCTURED-LOCATION;VALUE=URI;X-ADDRESS=Turnhalle GGS Wienenweg Wienenweg 38 40670 Meerbusch NRW Deutschland;X-APPLE-RADIUS=500;X-TITLE=Wienenweg 38:geo:6.6331219,51.2703186
END:VEVENT
BEGIN:VEVENT
DTSTART;TZID=Europe/Berlin:20241104T163000
DTEND;TZID=Europe/Berlin:20241104T174500
DTSTAMP:20260421T073723
CREATED:20210920T100817Z
LAST-MODIFIED:20250116T081103Z
UID:10023450-1730737800-1730742300@otv1893.de
SUMMARY:Kinder-Leichtathletik
DESCRIPTION:Kinder U8-10 \n7-9 Jahre\nÜL: Petra Gieseler-Hirsch \nIm Winter von 16:30-17:30 Turnhalle Wienenweg\nIm Sommer von 16:30-17:45 Sportanlage Krähenacker
URL:https://otv1893.de/veranstaltung/kinder-leichtathletik/2024-11-04/
LOCATION:Bezirkssportanlage Am Krähenacker\, Rudolf-Lensing-Ring 86\, Meerbusch\, NRW\, 40670\, Deutschland
CATEGORIES:Leichtathletik
GEO:51.2702381;6.6072093
X-APPLE-STRUCTURED-LOCATION;VALUE=URI;X-ADDRESS=Bezirkssportanlage Am Krähenacker Rudolf-Lensing-Ring 86 Meerbusch NRW 40670 Deutschland;X-APPLE-RADIUS=500;X-TITLE=Rudolf-Lensing-Ring 86:geo:6.6072093,51.2702381
END:VEVENT
BEGIN:VEVENT
DTSTART;TZID=Europe/Berlin:20241104T163000
DTEND;TZID=Europe/Berlin:20241104T180000
DTSTAMP:20260421T073723
CREATED:20220327T150027Z
LAST-MODIFIED:20230510T100214Z
UID:10024961-1730737800-1730743200@otv1893.de
SUMMARY:Fördertraining
DESCRIPTION:Ül.: Lydia Domisch
URL:https://otv1893.de/veranstaltung/foerdertraining-2/2024-11-04/
LOCATION:Alte Realschul-TH Fröbelstraße
CATEGORIES:Turnen
END:VEVENT
BEGIN:VEVENT
DTSTART;TZID=Europe/Berlin:20241104T164500
DTEND;TZID=Europe/Berlin:20241104T181500
DTSTAMP:20260421T073723
CREATED:20230326T124849Z
LAST-MODIFIED:20230326T124849Z
UID:10052073-1730738700-1730744100@otv1893.de
SUMMARY:U11-/ U13-Training
DESCRIPTION:
URL:https://otv1893.de/veranstaltung/u11-u13-training/2024-11-04/
LOCATION:2-fach Turnhalle Städt. Realschule Osterath\, Görresstr. 6\, Meerbusch-Osterath\, 40670\, Deutschland
CATEGORIES:Badminton
ORGANIZER;CN="OTV Abteilung Badminton":MAILTO:max.frickel@web.de
GEO:51.2715;6.617342
X-APPLE-STRUCTURED-LOCATION;VALUE=URI;X-ADDRESS=2-fach Turnhalle Städt. Realschule Osterath Görresstr. 6 Meerbusch-Osterath 40670 Deutschland;X-APPLE-RADIUS=500;X-TITLE=Görresstr. 6:geo:6.617342,51.2715
END:VEVENT
BEGIN:VEVENT
DTSTART;TZID=Europe/Berlin:20241104T173000
DTEND;TZID=Europe/Berlin:20241104T184500
DTSTAMP:20260421T073723
CREATED:20240823T134047Z
LAST-MODIFIED:20240823T134047Z
UID:10030051-1730741400-1730745900@otv1893.de
SUMMARY:Pilates für Damen und Herren
DESCRIPTION:
URL:https://otv1893.de/veranstaltung/pilates-fuer-damen-und-herren-2/2024-11-04/
LOCATION:Turnhalle GGS Wienenweg\, Wienenweg 38\, 40670 Meerbusch\, NRW\, Deutschland
CATEGORIES:Gymnastik
GEO:51.2703186;6.6331219
X-APPLE-STRUCTURED-LOCATION;VALUE=URI;X-ADDRESS=Turnhalle GGS Wienenweg Wienenweg 38 40670 Meerbusch NRW Deutschland;X-APPLE-RADIUS=500;X-TITLE=Wienenweg 38:geo:6.6331219,51.2703186
END:VEVENT
BEGIN:VEVENT
DTSTART;TZID=Europe/Berlin:20241104T173000
DTEND;TZID=Europe/Berlin:20241104T190000
DTSTAMP:20260421T073723
CREATED:20220516T155922Z
LAST-MODIFIED:20250116T080711Z
UID:10044575-1730741400-1730746800@otv1893.de
SUMMARY:Kinder-Leichtathletik
DESCRIPTION:Kinder U12 \n9-11 Jahre\nÜL: Petra Gieseler-Hirsch \nIm Winter von 17:30-18:30 Turnhalle Wienenweg\nIm Sommer von 17:45-19:00 Sportanlage Krähenacker
URL:https://otv1893.de/veranstaltung/kinder-leichtathletik-duplicate-1/2024-11-04/
LOCATION:Bezirkssportanlage Am Krähenacker\, Rudolf-Lensing-Ring 86\, Meerbusch\, NRW\, 40670\, Deutschland
CATEGORIES:Leichtathletik
GEO:51.2702381;6.6072093
X-APPLE-STRUCTURED-LOCATION;VALUE=URI;X-ADDRESS=Bezirkssportanlage Am Krähenacker Rudolf-Lensing-Ring 86 Meerbusch NRW 40670 Deutschland;X-APPLE-RADIUS=500;X-TITLE=Rudolf-Lensing-Ring 86:geo:6.6072093,51.2702381
END:VEVENT
BEGIN:VEVENT
DTSTART;TZID=Europe/Berlin:20241104T180000
DTEND;TZID=Europe/Berlin:20241104T200000
DTSTAMP:20260421T073723
CREATED:20240826T165430Z
LAST-MODIFIED:20250529T200937Z
UID:10028222-1730743200-1730750400@otv1893.de
SUMMARY:WU20 / Damen 2
DESCRIPTION:
URL:https://otv1893.de/veranstaltung/wu20-2/2024-11-04/
LOCATION:2- und 3-fach Turnhallen Städt. Meerbusch Gymnasium\, Mönkesweg 58\, Meerbusch - Strümp\, NRW\, 40670\, Deutschland
CATEGORIES:Volleyball
GEO:51.27803;6.65001
X-APPLE-STRUCTURED-LOCATION;VALUE=URI;X-ADDRESS=2- und 3-fach Turnhallen Städt. Meerbusch Gymnasium Mönkesweg 58 Meerbusch - Strümp NRW 40670 Deutschland;X-APPLE-RADIUS=500;X-TITLE=Mönkesweg 58:geo:6.65001,51.27803
END:VEVENT
BEGIN:VEVENT
DTSTART;TZID=Europe/Berlin:20241104T180000
DTEND;TZID=Europe/Berlin:20241104T200000
DTSTAMP:20260421T073723
CREATED:20240826T165747Z
LAST-MODIFIED:20240826T165932Z
UID:10042619-1730743200-1730750400@otv1893.de
SUMMARY:WU16
DESCRIPTION:
URL:https://otv1893.de/veranstaltung/wu16-2/2024-11-04/
LOCATION:2- und 3-fach Turnhallen Städt. Meerbusch Gymnasium\, Mönkesweg 58\, Meerbusch - Strümp\, NRW\, 40670\, Deutschland
CATEGORIES:Volleyball
GEO:51.27803;6.65001
X-APPLE-STRUCTURED-LOCATION;VALUE=URI;X-ADDRESS=2- und 3-fach Turnhallen Städt. Meerbusch Gymnasium Mönkesweg 58 Meerbusch - Strümp NRW 40670 Deutschland;X-APPLE-RADIUS=500;X-TITLE=Mönkesweg 58:geo:6.65001,51.27803
END:VEVENT
BEGIN:VEVENT
DTSTART;TZID=Europe/Berlin:20241104T181500
DTEND;TZID=Europe/Berlin:20241104T191500
DTSTAMP:20260421T073723
CREATED:20230417T150236Z
LAST-MODIFIED:20240823T133746Z
UID:10039906-1730744100-1730747700@otv1893.de
SUMMARY:Gymnastik Damen 60 Plus
DESCRIPTION:ÜL: Heike Wolter. Offen für alle OTV-Mitglieder. \nKein Training in den Schulferien oder an Feiertagen. \nBei Rückfragen Heike Wolter kontaktieren.
URL:https://otv1893.de/veranstaltung/gymnastik-damen-60-plus/2024-11-04/
LOCATION:Alte Realschul-TH Fröbelstraße
CATEGORIES:Gymnastik
ORGANIZER;CN="OTV - Osterather Turnverein 1893 e.V.":MAILTO:buero@otv1893.de
END:VEVENT
BEGIN:VEVENT
DTSTART;TZID=Europe/Berlin:20241104T181500
DTEND;TZID=Europe/Berlin:20241104T194500
DTSTAMP:20260421T073723
CREATED:20230326T124517Z
LAST-MODIFIED:20230619T122431Z
UID:10027563-1730744100-1730749500@otv1893.de
SUMMARY:U15-/ U19-Training
DESCRIPTION:
URL:https://otv1893.de/veranstaltung/u15-u19-training-2-2/2024-11-04/
LOCATION:2-fach Turnhalle Städt. Realschule Osterath\, Görresstr. 6\, Meerbusch-Osterath\, 40670\, Deutschland
CATEGORIES:Badminton
ORGANIZER;CN="OTV Abteilung Badminton":MAILTO:max.frickel@web.de
GEO:51.2715;6.617342
X-APPLE-STRUCTURED-LOCATION;VALUE=URI;X-ADDRESS=2-fach Turnhalle Städt. Realschule Osterath Görresstr. 6 Meerbusch-Osterath 40670 Deutschland;X-APPLE-RADIUS=500;X-TITLE=Görresstr. 6:geo:6.617342,51.2715
END:VEVENT
BEGIN:VEVENT
DTSTART;TZID=Europe/Berlin:20241104T191500
DTEND;TZID=Europe/Berlin:20241104T201500
DTSTAMP:20260421T073723
CREATED:20230417T150731Z
LAST-MODIFIED:20240823T133335Z
UID:10039305-1730747700-1730751300@otv1893.de
SUMMARY:Body Workout
DESCRIPTION:Offen für alle OTV Mitglieder. Training für den ganzen Körper. \nÜL: Birgit Mehmel \nTraining in den Ferien nur nach Absprache mit der Übungsleiterin
URL:https://otv1893.de/veranstaltung/body-workout/2024-11-04/
LOCATION:Alte Realschul-TH Fröbelstraße
CATEGORIES:Gymnastik
ORGANIZER;CN="OTV - Osterather Turnverein 1893 e.V.":MAILTO:buero@otv1893.de
END:VEVENT
BEGIN:VEVENT
DTSTART;TZID=Europe/Berlin:20241104T194500
DTEND;TZID=Europe/Berlin:20241104T220000
DTSTAMP:20260421T073723
CREATED:20230326T125711Z
LAST-MODIFIED:20230326T125711Z
UID:10052538-1730749500-1730757600@otv1893.de
SUMMARY:Senioren-Training
DESCRIPTION:
URL:https://otv1893.de/veranstaltung/senioren-training/2024-11-04/
LOCATION:2-fach Turnhalle Städt. Realschule Osterath\, Görresstr. 6\, Meerbusch-Osterath\, 40670\, Deutschland
CATEGORIES:Badminton
ORGANIZER;CN="OTV Abteilung Badminton":MAILTO:max.frickel@web.de
GEO:51.2715;6.617342
X-APPLE-STRUCTURED-LOCATION;VALUE=URI;X-ADDRESS=2-fach Turnhalle Städt. Realschule Osterath Görresstr. 6 Meerbusch-Osterath 40670 Deutschland;X-APPLE-RADIUS=500;X-TITLE=Görresstr. 6:geo:6.617342,51.2715
END:VEVENT
END:VCALENDAR