BEGIN:VCALENDAR
VERSION:2.0
PRODID:-//Osterather Turnverein 1893 e.V. - ECPv6.15.15//NONSGML v1.0//EN
CALSCALE:GREGORIAN
METHOD:PUBLISH
X-ORIGINAL-URL:https://otv1893.de
X-WR-CALDESC:Veranstaltungen für Osterather Turnverein 1893 e.V.
REFRESH-INTERVAL;VALUE=DURATION:PT1H
X-Robots-Tag:noindex
X-PUBLISHED-TTL:PT1H
BEGIN:VTIMEZONE
TZID:Europe/Berlin
BEGIN:DAYLIGHT
TZOFFSETFROM:+0100
TZOFFSETTO:+0200
TZNAME:CEST
DTSTART:20230326T010000
END:DAYLIGHT
BEGIN:STANDARD
TZOFFSETFROM:+0200
TZOFFSETTO:+0100
TZNAME:CET
DTSTART:20231029T010000
END:STANDARD
BEGIN:DAYLIGHT
TZOFFSETFROM:+0100
TZOFFSETTO:+0200
TZNAME:CEST
DTSTART:20240331T010000
END:DAYLIGHT
BEGIN:STANDARD
TZOFFSETFROM:+0200
TZOFFSETTO:+0100
TZNAME:CET
DTSTART:20241027T010000
END:STANDARD
BEGIN:DAYLIGHT
TZOFFSETFROM:+0100
TZOFFSETTO:+0200
TZNAME:CEST
DTSTART:20250330T010000
END:DAYLIGHT
BEGIN:STANDARD
TZOFFSETFROM:+0200
TZOFFSETTO:+0100
TZNAME:CET
DTSTART:20251026T010000
END:STANDARD
END:VTIMEZONE
BEGIN:VEVENT
DTSTART;TZID=Europe/Berlin:20240501T133000
DTEND;TZID=Europe/Berlin:20240501T144500
DTSTAMP:20260425T153508
CREATED:20251015T085306Z
LAST-MODIFIED:20251015T085423Z
UID:10050062-1714570200-1714574700@otv1893.de
SUMMARY:Diabetiker-Sportgruppe
DESCRIPTION:
URL:https://otv1893.de/veranstaltung/diabetiker-sportgruppe-2/2024-05-01/
LOCATION:Gymnastikhalle Fröbelstraße\, Görresstr. 6\, 40670 Meerbusch\, NRW\, Deutschland
CATEGORIES:Reha-Sport
ATTACH;FMTTYPE=image/jpeg:https://otv1893.de/wp-content/uploads/2021/09/pexels-karolina-grabowska-4498577web.jpg
GEO:51.4332367;7.6615938
X-APPLE-STRUCTURED-LOCATION;VALUE=URI;X-ADDRESS=Gymnastikhalle Fröbelstraße Görresstr. 6 40670 Meerbusch NRW Deutschland;X-APPLE-RADIUS=500;X-TITLE=Görresstr. 6:geo:7.6615938,51.4332367
END:VEVENT
BEGIN:VEVENT
DTSTART;TZID=Europe/Berlin:20240507T111500
DTEND;TZID=Europe/Berlin:20240507T121500
DTSTAMP:20260425T153508
CREATED:20251015T085509Z
LAST-MODIFIED:20251015T085519Z
UID:10050400-1715080500-1715084100@otv1893.de
SUMMARY:Orthopädie-Sportgruppe
DESCRIPTION:
URL:https://otv1893.de/veranstaltung/orthopaedie-sportgruppe-2/2024-05-07/
LOCATION:Gymnastikhalle Fröbelstraße\, Görresstr. 6\, 40670 Meerbusch\, NRW\, Deutschland
CATEGORIES:Reha-Sport
ATTACH;FMTTYPE=image/jpeg:https://otv1893.de/wp-content/uploads/2021/09/pexels-marta-wave-6454196web.jpg
GEO:51.4332367;7.6615938
X-APPLE-STRUCTURED-LOCATION;VALUE=URI;X-ADDRESS=Gymnastikhalle Fröbelstraße Görresstr. 6 40670 Meerbusch NRW Deutschland;X-APPLE-RADIUS=500;X-TITLE=Görresstr. 6:geo:7.6615938,51.4332367
END:VEVENT
BEGIN:VEVENT
DTSTART;TZID=Europe/Berlin:20240507T181500
DTEND;TZID=Europe/Berlin:20240507T194500
DTSTAMP:20260425T153508
CREATED:20251015T085552Z
LAST-MODIFIED:20251015T085607Z
UID:10050738-1715105700-1715111100@otv1893.de
SUMMARY:Herzsportgruppe
DESCRIPTION:
URL:https://otv1893.de/veranstaltung/herzsportgruppe-2/2024-05-07/
LOCATION:Turnhalle GGS Wienenweg\, Wienenweg 38\, 40670 Meerbusch\, NRW\, Deutschland
CATEGORIES:Reha-Sport
ATTACH;FMTTYPE=image/jpeg:https://otv1893.de/wp-content/uploads/2021/09/pexels-rodnae-productions-10031322web.jpg
GEO:51.2703186;6.6331219
X-APPLE-STRUCTURED-LOCATION;VALUE=URI;X-ADDRESS=Turnhalle GGS Wienenweg Wienenweg 38 40670 Meerbusch NRW Deutschland;X-APPLE-RADIUS=500;X-TITLE=Wienenweg 38:geo:6.6331219,51.2703186
END:VEVENT
BEGIN:VEVENT
DTSTART;TZID=Europe/Berlin:20240508T133000
DTEND;TZID=Europe/Berlin:20240508T144500
DTSTAMP:20260425T153508
CREATED:20251015T085306Z
LAST-MODIFIED:20251015T085423Z
UID:10050063-1715175000-1715179500@otv1893.de
SUMMARY:Diabetiker-Sportgruppe
DESCRIPTION:
URL:https://otv1893.de/veranstaltung/diabetiker-sportgruppe-2/2024-05-08/
LOCATION:Gymnastikhalle Fröbelstraße\, Görresstr. 6\, 40670 Meerbusch\, NRW\, Deutschland
CATEGORIES:Reha-Sport
ATTACH;FMTTYPE=image/jpeg:https://otv1893.de/wp-content/uploads/2021/09/pexels-karolina-grabowska-4498577web.jpg
GEO:51.4332367;7.6615938
X-APPLE-STRUCTURED-LOCATION;VALUE=URI;X-ADDRESS=Gymnastikhalle Fröbelstraße Görresstr. 6 40670 Meerbusch NRW Deutschland;X-APPLE-RADIUS=500;X-TITLE=Görresstr. 6:geo:7.6615938,51.4332367
END:VEVENT
BEGIN:VEVENT
DTSTART;TZID=Europe/Berlin:20240514T111500
DTEND;TZID=Europe/Berlin:20240514T121500
DTSTAMP:20260425T153508
CREATED:20251015T085509Z
LAST-MODIFIED:20251015T085519Z
UID:10050401-1715685300-1715688900@otv1893.de
SUMMARY:Orthopädie-Sportgruppe
DESCRIPTION:
URL:https://otv1893.de/veranstaltung/orthopaedie-sportgruppe-2/2024-05-14/
LOCATION:Gymnastikhalle Fröbelstraße\, Görresstr. 6\, 40670 Meerbusch\, NRW\, Deutschland
CATEGORIES:Reha-Sport
ATTACH;FMTTYPE=image/jpeg:https://otv1893.de/wp-content/uploads/2021/09/pexels-marta-wave-6454196web.jpg
GEO:51.4332367;7.6615938
X-APPLE-STRUCTURED-LOCATION;VALUE=URI;X-ADDRESS=Gymnastikhalle Fröbelstraße Görresstr. 6 40670 Meerbusch NRW Deutschland;X-APPLE-RADIUS=500;X-TITLE=Görresstr. 6:geo:7.6615938,51.4332367
END:VEVENT
BEGIN:VEVENT
DTSTART;TZID=Europe/Berlin:20240514T181500
DTEND;TZID=Europe/Berlin:20240514T194500
DTSTAMP:20260425T153508
CREATED:20251015T085552Z
LAST-MODIFIED:20251015T085607Z
UID:10050739-1715710500-1715715900@otv1893.de
SUMMARY:Herzsportgruppe
DESCRIPTION:
URL:https://otv1893.de/veranstaltung/herzsportgruppe-2/2024-05-14/
LOCATION:Turnhalle GGS Wienenweg\, Wienenweg 38\, 40670 Meerbusch\, NRW\, Deutschland
CATEGORIES:Reha-Sport
ATTACH;FMTTYPE=image/jpeg:https://otv1893.de/wp-content/uploads/2021/09/pexels-rodnae-productions-10031322web.jpg
GEO:51.2703186;6.6331219
X-APPLE-STRUCTURED-LOCATION;VALUE=URI;X-ADDRESS=Turnhalle GGS Wienenweg Wienenweg 38 40670 Meerbusch NRW Deutschland;X-APPLE-RADIUS=500;X-TITLE=Wienenweg 38:geo:6.6331219,51.2703186
END:VEVENT
BEGIN:VEVENT
DTSTART;TZID=Europe/Berlin:20240515T133000
DTEND;TZID=Europe/Berlin:20240515T144500
DTSTAMP:20260425T153508
CREATED:20251015T085306Z
LAST-MODIFIED:20251015T085423Z
UID:10050064-1715779800-1715784300@otv1893.de
SUMMARY:Diabetiker-Sportgruppe
DESCRIPTION:
URL:https://otv1893.de/veranstaltung/diabetiker-sportgruppe-2/2024-05-15/
LOCATION:Gymnastikhalle Fröbelstraße\, Görresstr. 6\, 40670 Meerbusch\, NRW\, Deutschland
CATEGORIES:Reha-Sport
ATTACH;FMTTYPE=image/jpeg:https://otv1893.de/wp-content/uploads/2021/09/pexels-karolina-grabowska-4498577web.jpg
GEO:51.4332367;7.6615938
X-APPLE-STRUCTURED-LOCATION;VALUE=URI;X-ADDRESS=Gymnastikhalle Fröbelstraße Görresstr. 6 40670 Meerbusch NRW Deutschland;X-APPLE-RADIUS=500;X-TITLE=Görresstr. 6:geo:7.6615938,51.4332367
END:VEVENT
BEGIN:VEVENT
DTSTART;TZID=Europe/Berlin:20240521T111500
DTEND;TZID=Europe/Berlin:20240521T121500
DTSTAMP:20260425T153508
CREATED:20251015T085509Z
LAST-MODIFIED:20251015T085519Z
UID:10050402-1716290100-1716293700@otv1893.de
SUMMARY:Orthopädie-Sportgruppe
DESCRIPTION:
URL:https://otv1893.de/veranstaltung/orthopaedie-sportgruppe-2/2024-05-21/
LOCATION:Gymnastikhalle Fröbelstraße\, Görresstr. 6\, 40670 Meerbusch\, NRW\, Deutschland
CATEGORIES:Reha-Sport
ATTACH;FMTTYPE=image/jpeg:https://otv1893.de/wp-content/uploads/2021/09/pexels-marta-wave-6454196web.jpg
GEO:51.4332367;7.6615938
X-APPLE-STRUCTURED-LOCATION;VALUE=URI;X-ADDRESS=Gymnastikhalle Fröbelstraße Görresstr. 6 40670 Meerbusch NRW Deutschland;X-APPLE-RADIUS=500;X-TITLE=Görresstr. 6:geo:7.6615938,51.4332367
END:VEVENT
BEGIN:VEVENT
DTSTART;TZID=Europe/Berlin:20240521T181500
DTEND;TZID=Europe/Berlin:20240521T194500
DTSTAMP:20260425T153508
CREATED:20251015T085552Z
LAST-MODIFIED:20251015T085607Z
UID:10050740-1716315300-1716320700@otv1893.de
SUMMARY:Herzsportgruppe
DESCRIPTION:
URL:https://otv1893.de/veranstaltung/herzsportgruppe-2/2024-05-21/
LOCATION:Turnhalle GGS Wienenweg\, Wienenweg 38\, 40670 Meerbusch\, NRW\, Deutschland
CATEGORIES:Reha-Sport
ATTACH;FMTTYPE=image/jpeg:https://otv1893.de/wp-content/uploads/2021/09/pexels-rodnae-productions-10031322web.jpg
GEO:51.2703186;6.6331219
X-APPLE-STRUCTURED-LOCATION;VALUE=URI;X-ADDRESS=Turnhalle GGS Wienenweg Wienenweg 38 40670 Meerbusch NRW Deutschland;X-APPLE-RADIUS=500;X-TITLE=Wienenweg 38:geo:6.6331219,51.2703186
END:VEVENT
BEGIN:VEVENT
DTSTART;TZID=Europe/Berlin:20240522T133000
DTEND;TZID=Europe/Berlin:20240522T144500
DTSTAMP:20260425T153508
CREATED:20251015T085306Z
LAST-MODIFIED:20251015T085423Z
UID:10050065-1716384600-1716389100@otv1893.de
SUMMARY:Diabetiker-Sportgruppe
DESCRIPTION:
URL:https://otv1893.de/veranstaltung/diabetiker-sportgruppe-2/2024-05-22/
LOCATION:Gymnastikhalle Fröbelstraße\, Görresstr. 6\, 40670 Meerbusch\, NRW\, Deutschland
CATEGORIES:Reha-Sport
ATTACH;FMTTYPE=image/jpeg:https://otv1893.de/wp-content/uploads/2021/09/pexels-karolina-grabowska-4498577web.jpg
GEO:51.4332367;7.6615938
X-APPLE-STRUCTURED-LOCATION;VALUE=URI;X-ADDRESS=Gymnastikhalle Fröbelstraße Görresstr. 6 40670 Meerbusch NRW Deutschland;X-APPLE-RADIUS=500;X-TITLE=Görresstr. 6:geo:7.6615938,51.4332367
END:VEVENT
BEGIN:VEVENT
DTSTART;TZID=Europe/Berlin:20240528T111500
DTEND;TZID=Europe/Berlin:20240528T121500
DTSTAMP:20260425T153508
CREATED:20251015T085509Z
LAST-MODIFIED:20251015T085519Z
UID:10050403-1716894900-1716898500@otv1893.de
SUMMARY:Orthopädie-Sportgruppe
DESCRIPTION:
URL:https://otv1893.de/veranstaltung/orthopaedie-sportgruppe-2/2024-05-28/
LOCATION:Gymnastikhalle Fröbelstraße\, Görresstr. 6\, 40670 Meerbusch\, NRW\, Deutschland
CATEGORIES:Reha-Sport
ATTACH;FMTTYPE=image/jpeg:https://otv1893.de/wp-content/uploads/2021/09/pexels-marta-wave-6454196web.jpg
GEO:51.4332367;7.6615938
X-APPLE-STRUCTURED-LOCATION;VALUE=URI;X-ADDRESS=Gymnastikhalle Fröbelstraße Görresstr. 6 40670 Meerbusch NRW Deutschland;X-APPLE-RADIUS=500;X-TITLE=Görresstr. 6:geo:7.6615938,51.4332367
END:VEVENT
BEGIN:VEVENT
DTSTART;TZID=Europe/Berlin:20240528T181500
DTEND;TZID=Europe/Berlin:20240528T194500
DTSTAMP:20260425T153508
CREATED:20251015T085552Z
LAST-MODIFIED:20251015T085607Z
UID:10050741-1716920100-1716925500@otv1893.de
SUMMARY:Herzsportgruppe
DESCRIPTION:
URL:https://otv1893.de/veranstaltung/herzsportgruppe-2/2024-05-28/
LOCATION:Turnhalle GGS Wienenweg\, Wienenweg 38\, 40670 Meerbusch\, NRW\, Deutschland
CATEGORIES:Reha-Sport
ATTACH;FMTTYPE=image/jpeg:https://otv1893.de/wp-content/uploads/2021/09/pexels-rodnae-productions-10031322web.jpg
GEO:51.2703186;6.6331219
X-APPLE-STRUCTURED-LOCATION;VALUE=URI;X-ADDRESS=Turnhalle GGS Wienenweg Wienenweg 38 40670 Meerbusch NRW Deutschland;X-APPLE-RADIUS=500;X-TITLE=Wienenweg 38:geo:6.6331219,51.2703186
END:VEVENT
BEGIN:VEVENT
DTSTART;TZID=Europe/Berlin:20240529T133000
DTEND;TZID=Europe/Berlin:20240529T144500
DTSTAMP:20260425T153508
CREATED:20251015T085306Z
LAST-MODIFIED:20251015T085423Z
UID:10050066-1716989400-1716993900@otv1893.de
SUMMARY:Diabetiker-Sportgruppe
DESCRIPTION:
URL:https://otv1893.de/veranstaltung/diabetiker-sportgruppe-2/2024-05-29/
LOCATION:Gymnastikhalle Fröbelstraße\, Görresstr. 6\, 40670 Meerbusch\, NRW\, Deutschland
CATEGORIES:Reha-Sport
ATTACH;FMTTYPE=image/jpeg:https://otv1893.de/wp-content/uploads/2021/09/pexels-karolina-grabowska-4498577web.jpg
GEO:51.4332367;7.6615938
X-APPLE-STRUCTURED-LOCATION;VALUE=URI;X-ADDRESS=Gymnastikhalle Fröbelstraße Görresstr. 6 40670 Meerbusch NRW Deutschland;X-APPLE-RADIUS=500;X-TITLE=Görresstr. 6:geo:7.6615938,51.4332367
END:VEVENT
END:VCALENDAR