BEGIN:VCALENDAR
VERSION:2.0
PRODID:-//Osterather Turnverein 1893 e.V. - ECPv6.15.15//NONSGML v1.0//EN
CALSCALE:GREGORIAN
METHOD:PUBLISH
X-ORIGINAL-URL:https://otv1893.de
X-WR-CALDESC:Veranstaltungen für Osterather Turnverein 1893 e.V.
REFRESH-INTERVAL;VALUE=DURATION:PT1H
X-Robots-Tag:noindex
X-PUBLISHED-TTL:PT1H
BEGIN:VTIMEZONE
TZID:Europe/Berlin
BEGIN:DAYLIGHT
TZOFFSETFROM:+0100
TZOFFSETTO:+0200
TZNAME:CEST
DTSTART:20230326T010000
END:DAYLIGHT
BEGIN:STANDARD
TZOFFSETFROM:+0200
TZOFFSETTO:+0100
TZNAME:CET
DTSTART:20231029T010000
END:STANDARD
BEGIN:DAYLIGHT
TZOFFSETFROM:+0100
TZOFFSETTO:+0200
TZNAME:CEST
DTSTART:20240331T010000
END:DAYLIGHT
BEGIN:STANDARD
TZOFFSETFROM:+0200
TZOFFSETTO:+0100
TZNAME:CET
DTSTART:20241027T010000
END:STANDARD
BEGIN:DAYLIGHT
TZOFFSETFROM:+0100
TZOFFSETTO:+0200
TZNAME:CEST
DTSTART:20250330T010000
END:DAYLIGHT
BEGIN:STANDARD
TZOFFSETFROM:+0200
TZOFFSETTO:+0100
TZNAME:CET
DTSTART:20251026T010000
END:STANDARD
END:VTIMEZONE
BEGIN:VEVENT
DTSTART;TZID=Europe/Berlin:20240301T090000
DTEND;TZID=Europe/Berlin:20240301T100000
DTSTAMP:20260419T153128
CREATED:20220327T142835Z
LAST-MODIFIED:20230510T095904Z
UID:10022766-1709283600-1709287200@otv1893.de
SUMMARY:Eltern-Kind-Turnen ab 15 Mon.
DESCRIPTION:Ül.: Marie Basels
URL:https://otv1893.de/veranstaltung/eltern-kind-turnen-ab-15-mon/2024-03-01/
LOCATION:Gymnastikhalle /alte Realschulturnhalle\, Fröbelstr.\, NRW\, Deutschland
CATEGORIES:Turnen
GEO:51.4332367;7.6615938
END:VEVENT
BEGIN:VEVENT
DTSTART;TZID=Europe/Berlin:20240301T100000
DTEND;TZID=Europe/Berlin:20240301T110000
DTSTAMP:20260419T153128
CREATED:20220330T185559Z
LAST-MODIFIED:20230510T101051Z
UID:10022732-1709287200-1709290800@otv1893.de
SUMMARY:Eltern-Kind-Turnen ab 15 Mon. b
DESCRIPTION:Ül.: Maria Basels
URL:https://otv1893.de/veranstaltung/eltern-kind-turnen-ab-15-mon-2/2024-03-01/
LOCATION:Gymnastikhalle /alte Realschulturnhalle\, Fröbelstr.\, NRW\, Deutschland
CATEGORIES:Turnen
GEO:51.4332367;7.6615938
END:VEVENT
BEGIN:VEVENT
DTSTART;TZID=Europe/Berlin:20240301T110000
DTEND;TZID=Europe/Berlin:20240301T120000
DTSTAMP:20260419T153128
CREATED:20220330T201349Z
LAST-MODIFIED:20230510T095741Z
UID:10022698-1709290800-1709294400@otv1893.de
SUMMARY:Eltern-Kind-Turnen ab 15 Mon.
DESCRIPTION:Ül.: Maria Basels
URL:https://otv1893.de/veranstaltung/eltern-kind-turnen-ab-15-mon-3/2024-03-01/
LOCATION:NRW
CATEGORIES:Turnen
END:VEVENT
BEGIN:VEVENT
DTSTART;TZID=Europe/Berlin:20240301T163000
DTEND;TZID=Europe/Berlin:20240301T180000
DTSTAMP:20260419T153128
CREATED:20230124T230330Z
LAST-MODIFIED:20240301T105429Z
UID:10015075-1709310600-1709316000@otv1893.de
SUMMARY:Volley-Kids
DESCRIPTION:
URL:https://otv1893.de/veranstaltung/volley-kids/2024-03-01/
LOCATION:Turnhalle Städt. Gemeinschafts-Grundschule Wienenweg\, Wienenweg 38\, Meerbusch-Osterath\, NRW\, 40670\, Deutschland
CATEGORIES:Volleyball
GEO:51.27029;6.63279
X-APPLE-STRUCTURED-LOCATION;VALUE=URI;X-ADDRESS=Turnhalle Städt. Gemeinschafts-Grundschule Wienenweg Wienenweg 38 Meerbusch-Osterath NRW 40670 Deutschland;X-APPLE-RADIUS=500;X-TITLE=Wienenweg 38:geo:6.63279,51.27029
END:VEVENT
BEGIN:VEVENT
DTSTART;TZID=Europe/Berlin:20240301T170000
DTEND;TZID=Europe/Berlin:20240301T190000
DTSTAMP:20260419T153128
CREATED:20231019T192729Z
LAST-MODIFIED:20231019T192829Z
UID:10029726-1709312400-1709319600@otv1893.de
SUMMARY:Jugendtraining
DESCRIPTION:
URL:https://otv1893.de/veranstaltung/jugendtraining/2024-03-01/
LOCATION:2-fach Turnhallen Städt. Meerbusch Gymnasium\, Mönkesweg 58\, Meerbusch\, NRW\, 40670\, Deutschland
ORGANIZER;CN="OTV Abteilung Badminton":MAILTO:max.frickel@web.de
GEO:51.2780502;6.6495199
X-APPLE-STRUCTURED-LOCATION;VALUE=URI;X-ADDRESS=2-fach Turnhallen Städt. Meerbusch Gymnasium Mönkesweg 58 Meerbusch NRW 40670 Deutschland;X-APPLE-RADIUS=500;X-TITLE=Mönkesweg 58:geo:6.6495199,51.2780502
END:VEVENT
BEGIN:VEVENT
DTSTART;TZID=Europe/Berlin:20240301T180000
DTEND;TZID=Europe/Berlin:20240301T190000
DTSTAMP:20260419T153128
CREATED:20240103T151832Z
LAST-MODIFIED:20250416T090334Z
UID:10030938-1709316000-1709319600@otv1893.de
SUMMARY:Lauftreff
DESCRIPTION:Der OTV-Lauftreff ist eine Veranstaltung für Jedermann. Eine Vereinsmitgliedschaft ist nicht erforderlich!
URL:https://otv1893.de/veranstaltung/lauftreff/2024-03-01/
LOCATION:Insterburgerstraße (Parkplatz der Kleingartenanlage)\, NRW\, Deutschland
CATEGORIES:Leichtathletik
GEO:51.265242147;6.63097819881
END:VEVENT
BEGIN:VEVENT
DTSTART;TZID=Europe/Berlin:20240301T180000
DTEND;TZID=Europe/Berlin:20240301T200000
DTSTAMP:20260419T153128
CREATED:20240301T105336Z
LAST-MODIFIED:20250529T202239Z
UID:10015144-1709316000-1709323200@otv1893.de
SUMMARY:Jugend-Nachwuchsgruppe
DESCRIPTION:
URL:https://otv1893.de/veranstaltung/jugend-nachwuchsgruppe-2/2024-03-01/
LOCATION:Turnhalle Städt. Gemeinschafts-Grundschule Wienenweg\, Wienenweg 38\, Meerbusch-Osterath\, NRW\, 40670\, Deutschland
CATEGORIES:Volleyball
GEO:51.27029;6.63279
X-APPLE-STRUCTURED-LOCATION;VALUE=URI;X-ADDRESS=Turnhalle Städt. Gemeinschafts-Grundschule Wienenweg Wienenweg 38 Meerbusch-Osterath NRW 40670 Deutschland;X-APPLE-RADIUS=500;X-TITLE=Wienenweg 38:geo:6.63279,51.27029
END:VEVENT
BEGIN:VEVENT
DTSTART;TZID=Europe/Berlin:20240301T190000
DTEND;TZID=Europe/Berlin:20240301T220000
DTSTAMP:20260419T153128
CREATED:20230326T130338Z
LAST-MODIFIED:20230326T130357Z
UID:10016086-1709319600-1709330400@otv1893.de
SUMMARY:Senioren-Training
DESCRIPTION:
URL:https://otv1893.de/veranstaltung/senioren-training-2/2024-03-01/
LOCATION:2-fach Turnhallen Städt. Meerbusch Gymnasium\, Mönkesweg 58\, Meerbusch\, NRW\, 40670\, Deutschland
CATEGORIES:Badminton
ORGANIZER;CN="OTV Abteilung Badminton":MAILTO:max.frickel@web.de
GEO:51.2780502;6.6495199
X-APPLE-STRUCTURED-LOCATION;VALUE=URI;X-ADDRESS=2-fach Turnhallen Städt. Meerbusch Gymnasium Mönkesweg 58 Meerbusch NRW 40670 Deutschland;X-APPLE-RADIUS=500;X-TITLE=Mönkesweg 58:geo:6.6495199,51.2780502
END:VEVENT
BEGIN:VEVENT
DTSTART;TZID=Europe/Berlin:20240301T200000
DTEND;TZID=Europe/Berlin:20240301T220000
DTSTAMP:20260419T153128
CREATED:20230810T201143Z
LAST-MODIFIED:20230810T201143Z
UID:10028867-1709323200-1709330400@otv1893.de
SUMMARY:Damen
DESCRIPTION:
URL:https://otv1893.de/veranstaltung/damen-2/2024-03-01/
LOCATION:Turnhalle Städt. Gemeinschafts-Grundschule Wienenweg\, Wienenweg 38\, Meerbusch-Osterath\, NRW\, 40670\, Deutschland
CATEGORIES:Volleyball
GEO:51.27029;6.63279
X-APPLE-STRUCTURED-LOCATION;VALUE=URI;X-ADDRESS=Turnhalle Städt. Gemeinschafts-Grundschule Wienenweg Wienenweg 38 Meerbusch-Osterath NRW 40670 Deutschland;X-APPLE-RADIUS=500;X-TITLE=Wienenweg 38:geo:6.63279,51.27029
END:VEVENT
BEGIN:VEVENT
DTSTART;TZID=Europe/Berlin:20240302T080000
DTEND;TZID=Europe/Berlin:20240303T170000
DTSTAMP:20260419T153128
CREATED:20240107T121756Z
LAST-MODIFIED:20240308T105528Z
UID:10030284-1709366400-1709485200@otv1893.de
SUMMARY:WEM U15 Dormagen (02.-03. MÄR)
DESCRIPTION:
URL:https://otv1893.de/veranstaltung/westdeutsche-einzelmeisterschaften-u15-02-03-maerz/
LOCATION:NRW
CATEGORIES:Judo
ATTACH;FMTTYPE=image/jpeg:https://otv1893.de/wp-content/uploads/2022/03/Mona2-WdEM-U15-2022-scaled.jpg
END:VEVENT
BEGIN:VEVENT
DTSTART;TZID=Europe/Berlin:20240302T100000
DTEND;TZID=Europe/Berlin:20240302T130000
DTSTAMP:20260419T153128
CREATED:20210921T103532Z
LAST-MODIFIED:20210923T090419Z
UID:10023196-1709373600-1709384400@otv1893.de
SUMMARY:Long Run (Halb-) Marathon-Training
DESCRIPTION:Je nach Saison werden lange Läufe (15-35km) gelaufen
URL:https://otv1893.de/veranstaltung/long-run-halb-marathon-training/2024-03-02/
LOCATION:P&R Haltestelle Bovert\, Meerbusch-Osterath\, NRW\, Deutschland
CATEGORIES:Leichtathletik
GEO:51.2667307831;6.6510214341
END:VEVENT
BEGIN:VEVENT
DTSTART;TZID=Europe/Berlin:20240302T110000
DTEND;TZID=Europe/Berlin:20240302T130000
DTSTAMP:20260419T153128
CREATED:20230722T124506Z
LAST-MODIFIED:20230722T130525Z
UID:10028157-1709377200-1709384400@otv1893.de
SUMMARY:OTV vs. TV Mönchengladbach Hardt
DESCRIPTION:
URL:https://otv1893.de/veranstaltung/otv-vs-tv-moenchengladbach-hardt/
LOCATION:2- und 3-fach Turnhallen Städt. Meerbusch Gymnasium\, Mönkesweg 58\, Meerbusch - Strümp\, NRW\, 40670\, Deutschland
CATEGORIES:Volleyball
GEO:51.27803;6.65001
X-APPLE-STRUCTURED-LOCATION;VALUE=URI;X-ADDRESS=2- und 3-fach Turnhallen Städt. Meerbusch Gymnasium Mönkesweg 58 Meerbusch - Strümp NRW 40670 Deutschland;X-APPLE-RADIUS=500;X-TITLE=Mönkesweg 58:geo:6.65001,51.27803
END:VEVENT
BEGIN:VEVENT
DTSTART;TZID=Europe/Berlin:20240302T190000
DTEND;TZID=Europe/Berlin:20240302T190000
DTSTAMP:20260419T153128
CREATED:20230722T115543Z
LAST-MODIFIED:20230722T115543Z
UID:10028114-1709406000-1709406000@otv1893.de
SUMMARY:Eintracht Spontent vs OTV
DESCRIPTION:Hulda Pankok Gesamtschule (40225 Düsseldorf)
URL:https://otv1893.de/veranstaltung/eintracht-spontent-vs-otv/
LOCATION:NRW
END:VEVENT
BEGIN:VEVENT
DTSTART;TZID=Europe/Berlin:20240302T190000
DTEND;TZID=Europe/Berlin:20240302T210000
DTSTAMP:20260419T153128
CREATED:20230722T123028Z
LAST-MODIFIED:20230722T123215Z
UID:10028139-1709406000-1709413200@otv1893.de
SUMMARY:Eintracht Spontent vs OTV
DESCRIPTION:Hulda Pankok Gesamtschule (40225 Düsseldorf)
URL:https://otv1893.de/veranstaltung/eintracht-spontent-vs-otv-2/
LOCATION:NRW
CATEGORIES:Volleyball
END:VEVENT
BEGIN:VEVENT
DTSTART;TZID=Europe/Berlin:20240303T100000
DTEND;TZID=Europe/Berlin:20240303T110000
DTSTAMP:20260419T153128
CREATED:20230122T102920Z
LAST-MODIFIED:20240103T150258Z
UID:10030346-1709460000-1709463600@otv1893.de
SUMMARY:Lauftreff
DESCRIPTION:Der OTV-Lauftreff ist eine Veranstaltung für Jedermann. Eine Vereinsmitgliedschaft ist nicht erforderlich!
URL:https://otv1893.de/veranstaltung/lauftreff-2-3/2024-03-03/
LOCATION:Waldparkplatz L476 (exB9)\, NRW\, Deutschland
CATEGORIES:Leichtathletik
GEO:51.2658118625;6.66405617915
END:VEVENT
BEGIN:VEVENT
DTSTART;TZID=Europe/Berlin:20240304T101000
DTEND;TZID=Europe/Berlin:20240304T111000
DTSTAMP:20260419T153128
CREATED:20230417T142055Z
LAST-MODIFIED:20240223T135036Z
UID:10034432-1709547000-1709550600@otv1893.de
SUMMARY:Seniorensport ab 60 Jahre
DESCRIPTION:Kein Training in den Ferien oder an Feiertagen. \nFür Rückfragen  ÜL Monika Strotmann kontaktieren.
URL:https://otv1893.de/veranstaltung/seniorensport-ab-60-jahre/2024-03-04/
LOCATION:Gymnastikhalle /alte Realschulturnhalle\, Fröbelstr.\, NRW\, Deutschland
CATEGORIES:Gymnastik
GEO:51.4332367;7.6615938
END:VEVENT
BEGIN:VEVENT
DTSTART;TZID=Europe/Berlin:20240304T111000
DTEND;TZID=Europe/Berlin:20240304T121000
DTSTAMP:20260419T153128
CREATED:20240120T130433Z
LAST-MODIFIED:20240223T134328Z
UID:10034122-1709550600-1709554200@otv1893.de
SUMMARY:Seniorensport ab 70 Jahre
DESCRIPTION:Kein Training in den Ferien oder an Feiertagen. \nFür Rückfragen ÜL Monika Strotmann kontaktieren.
URL:https://otv1893.de/veranstaltung/seniorensport-ab-70-jahre-2/2024-03-04/
LOCATION:Gymnastikhalle /alte Realschulturnhalle\, Fröbelstr.\, NRW\, Deutschland
CATEGORIES:Gymnastik
GEO:51.4332367;7.6615938
END:VEVENT
BEGIN:VEVENT
DTSTART;TZID=Europe/Berlin:20240304T121000
DTEND;TZID=Europe/Berlin:20240304T131000
DTSTAMP:20260419T153128
CREATED:20240120T130701Z
LAST-MODIFIED:20240223T134052Z
UID:10033855-1709554200-1709557800@otv1893.de
SUMMARY:Seniorensport ab 60
DESCRIPTION:
URL:https://otv1893.de/veranstaltung/seniorensport-ab-60/2024-03-04/
LOCATION:Gymnastikhalle Fröbelstraße\, Görresstr. 6\, 40670 Meerbusch\, NRW\, Deutschland
CATEGORIES:Gymnastik
GEO:51.4332367;7.6615938
X-APPLE-STRUCTURED-LOCATION;VALUE=URI;X-ADDRESS=Gymnastikhalle Fröbelstraße Görresstr. 6 40670 Meerbusch NRW Deutschland;X-APPLE-RADIUS=500;X-TITLE=Görresstr. 6:geo:7.6615938,51.4332367
END:VEVENT
BEGIN:VEVENT
DTSTART;TZID=Europe/Berlin:20240304T163000
DTEND;TZID=Europe/Berlin:20240304T174500
DTSTAMP:20260419T153128
CREATED:20210920T100817Z
LAST-MODIFIED:20250116T081103Z
UID:10014408-1709569800-1709574300@otv1893.de
SUMMARY:Kinder-Leichtathletik
DESCRIPTION:Kinder U8-10 \n7-9 Jahre\nÜL: Petra Gieseler-Hirsch \nIm Winter von 16:30-17:30 Turnhalle Wienenweg\nIm Sommer von 16:30-17:45 Sportanlage Krähenacker
URL:https://otv1893.de/veranstaltung/kinder-leichtathletik/2024-03-04/
LOCATION:Bezirkssportanlage Am Krähenacker\, Rudolf-Lensing-Ring 86\, Meerbusch\, NRW\, 40670\, Deutschland
CATEGORIES:Leichtathletik
GEO:51.2702381;6.6072093
X-APPLE-STRUCTURED-LOCATION;VALUE=URI;X-ADDRESS=Bezirkssportanlage Am Krähenacker Rudolf-Lensing-Ring 86 Meerbusch NRW 40670 Deutschland;X-APPLE-RADIUS=500;X-TITLE=Rudolf-Lensing-Ring 86:geo:6.6072093,51.2702381
END:VEVENT
BEGIN:VEVENT
DTSTART;TZID=Europe/Berlin:20240304T163000
DTEND;TZID=Europe/Berlin:20240304T180000
DTSTAMP:20260419T153128
CREATED:20220327T150027Z
LAST-MODIFIED:20230510T100214Z
UID:10022869-1709569800-1709575200@otv1893.de
SUMMARY:Fördertraining
DESCRIPTION:Ül.: Lydia Domisch
URL:https://otv1893.de/veranstaltung/foerdertraining-2/2024-03-04/
LOCATION:Alte Realschul-TH Fröbelstraße
CATEGORIES:Turnen
END:VEVENT
BEGIN:VEVENT
DTSTART;TZID=Europe/Berlin:20240304T164500
DTEND;TZID=Europe/Berlin:20240304T181500
DTSTAMP:20260419T153128
CREATED:20230326T124849Z
LAST-MODIFIED:20230326T124849Z
UID:10015965-1709570700-1709576100@otv1893.de
SUMMARY:U11-/ U13-Training
DESCRIPTION:
URL:https://otv1893.de/veranstaltung/u11-u13-training/2024-03-04/
LOCATION:2-fach Turnhalle Städt. Realschule Osterath\, Görresstr. 6\, Meerbusch-Osterath\, 40670\, Deutschland
CATEGORIES:Badminton
ORGANIZER;CN="OTV Abteilung Badminton":MAILTO:max.frickel@web.de
GEO:51.2715;6.617342
X-APPLE-STRUCTURED-LOCATION;VALUE=URI;X-ADDRESS=2-fach Turnhalle Städt. Realschule Osterath Görresstr. 6 Meerbusch-Osterath 40670 Deutschland;X-APPLE-RADIUS=500;X-TITLE=Görresstr. 6:geo:6.617342,51.2715
END:VEVENT
BEGIN:VEVENT
DTSTART;TZID=Europe/Berlin:20240304T173000
DTEND;TZID=Europe/Berlin:20240304T183000
DTSTAMP:20260419T153128
CREATED:20230417T144853Z
LAST-MODIFIED:20230629T180532Z
UID:10025403-1709573400-1709577000@otv1893.de
SUMMARY:Wirbelsäulengymnastik
DESCRIPTION:Offen für alle OTV-Mitglieder. Für Sie und Ihn. \nNicht in den Schulferien oder an Feiertagen.  Sommerferien 2023 outdoor\, auf der Wiese neben der Turnhalle. \nWegen Urlaub der Übungsleiterin jedoch nicht in KW 32.-34 . \nBei Fragen ÜL Dagmar Paetzel kontaktieren.
URL:https://otv1893.de/veranstaltung/wirbelsaeulengymnastik/2024-03-04/
LOCATION:Turnhalle GGS Wienenweg\, Wienenweg 38\, 40670 Meerbusch\, NRW\, Deutschland
CATEGORIES:Gymnastik
GEO:51.2703186;6.6331219
X-APPLE-STRUCTURED-LOCATION;VALUE=URI;X-ADDRESS=Turnhalle GGS Wienenweg Wienenweg 38 40670 Meerbusch NRW Deutschland;X-APPLE-RADIUS=500;X-TITLE=Wienenweg 38:geo:6.6331219,51.2703186
END:VEVENT
BEGIN:VEVENT
DTSTART;TZID=Europe/Berlin:20240304T173000
DTEND;TZID=Europe/Berlin:20240304T184500
DTSTAMP:20260419T153128
CREATED:20231123T113955Z
LAST-MODIFIED:20240120T120919Z
UID:10030016-1709573400-1709577900@otv1893.de
SUMMARY:Pilates für Damen und Herren
DESCRIPTION:
URL:https://otv1893.de/veranstaltung/pilates-fuer-damen-und-herren/2024-03-04/
LOCATION:Gymnastikhalle Fröbelstraße\, Görresstr. 6\, 40670 Meerbusch\, NRW\, Deutschland
CATEGORIES:Gymnastik
GEO:51.4332367;7.6615938
X-APPLE-STRUCTURED-LOCATION;VALUE=URI;X-ADDRESS=Gymnastikhalle Fröbelstraße Görresstr. 6 40670 Meerbusch NRW Deutschland;X-APPLE-RADIUS=500;X-TITLE=Görresstr. 6:geo:7.6615938,51.4332367
END:VEVENT
BEGIN:VEVENT
DTSTART;TZID=Europe/Berlin:20240304T173000
DTEND;TZID=Europe/Berlin:20240304T190000
DTSTAMP:20260419T153128
CREATED:20220516T155922Z
LAST-MODIFIED:20250116T080711Z
UID:10044540-1709573400-1709578800@otv1893.de
SUMMARY:Kinder-Leichtathletik
DESCRIPTION:Kinder U12 \n9-11 Jahre\nÜL: Petra Gieseler-Hirsch \nIm Winter von 17:30-18:30 Turnhalle Wienenweg\nIm Sommer von 17:45-19:00 Sportanlage Krähenacker
URL:https://otv1893.de/veranstaltung/kinder-leichtathletik-duplicate-1/2024-03-04/
LOCATION:Bezirkssportanlage Am Krähenacker\, Rudolf-Lensing-Ring 86\, Meerbusch\, NRW\, 40670\, Deutschland
CATEGORIES:Leichtathletik
GEO:51.2702381;6.6072093
X-APPLE-STRUCTURED-LOCATION;VALUE=URI;X-ADDRESS=Bezirkssportanlage Am Krähenacker Rudolf-Lensing-Ring 86 Meerbusch NRW 40670 Deutschland;X-APPLE-RADIUS=500;X-TITLE=Rudolf-Lensing-Ring 86:geo:6.6072093,51.2702381
END:VEVENT
BEGIN:VEVENT
DTSTART;TZID=Europe/Berlin:20240304T180000
DTEND;TZID=Europe/Berlin:20240304T200000
DTSTAMP:20260419T153128
CREATED:20230801T170531Z
LAST-MODIFIED:20230801T170531Z
UID:10021185-1709575200-1709582400@otv1893.de
SUMMARY:WU20
DESCRIPTION:
URL:https://otv1893.de/veranstaltung/wu20/2024-03-04/
LOCATION:2- und 3-fach Turnhallen Städt. Meerbusch Gymnasium\, Mönkesweg 58\, Meerbusch - Strümp\, NRW\, 40670\, Deutschland
CATEGORIES:Volleyball
GEO:51.27803;6.65001
X-APPLE-STRUCTURED-LOCATION;VALUE=URI;X-ADDRESS=2- und 3-fach Turnhallen Städt. Meerbusch Gymnasium Mönkesweg 58 Meerbusch - Strümp NRW 40670 Deutschland;X-APPLE-RADIUS=500;X-TITLE=Mönkesweg 58:geo:6.65001,51.27803
END:VEVENT
BEGIN:VEVENT
DTSTART;TZID=Europe/Berlin:20240304T181500
DTEND;TZID=Europe/Berlin:20240304T191500
DTSTAMP:20260419T153128
CREATED:20230417T150236Z
LAST-MODIFIED:20240823T133746Z
UID:10016457-1709576100-1709579700@otv1893.de
SUMMARY:Gymnastik Damen 60 Plus
DESCRIPTION:ÜL: Heike Wolter. Offen für alle OTV-Mitglieder. \nKein Training in den Schulferien oder an Feiertagen. \nBei Rückfragen Heike Wolter kontaktieren.
URL:https://otv1893.de/veranstaltung/gymnastik-damen-60-plus/2024-03-04/
LOCATION:Alte Realschul-TH Fröbelstraße
CATEGORIES:Gymnastik
ORGANIZER;CN="OTV - Osterather Turnverein 1893 e.V.":MAILTO:buero@otv1893.de
END:VEVENT
BEGIN:VEVENT
DTSTART;TZID=Europe/Berlin:20240304T181500
DTEND;TZID=Europe/Berlin:20240304T193000
DTSTAMP:20260419T153128
CREATED:20230206T084754Z
LAST-MODIFIED:20230403T074929Z
UID:10015630-1709576100-1709580600@otv1893.de
SUMMARY:Lauftraining "Rund um Osterath"
DESCRIPTION:Laufstrecke: 10-15km je nach Saison / Wettkampfziel\nStartort: P&R Haltestelle Bovert\nAuf Anfrage \n 
URL:https://otv1893.de/veranstaltung/lauftraining-rund-um-osterath-2-2/2024-03-04/
LOCATION:P&R Haltestelle Bovert\, Meerbusch-Osterath\, NRW\, Deutschland
CATEGORIES:Leichtathletik
GEO:51.2667307831;6.6510214341
END:VEVENT
BEGIN:VEVENT
DTSTART;TZID=Europe/Berlin:20240304T181500
DTEND;TZID=Europe/Berlin:20240304T194500
DTSTAMP:20260419T153128
CREATED:20230326T124517Z
LAST-MODIFIED:20230619T122431Z
UID:10027528-1709576100-1709581500@otv1893.de
SUMMARY:U15-/ U19-Training
DESCRIPTION:
URL:https://otv1893.de/veranstaltung/u15-u19-training-2-2/2024-03-04/
LOCATION:2-fach Turnhalle Städt. Realschule Osterath\, Görresstr. 6\, Meerbusch-Osterath\, 40670\, Deutschland
CATEGORIES:Badminton
ORGANIZER;CN="OTV Abteilung Badminton":MAILTO:max.frickel@web.de
GEO:51.2715;6.617342
X-APPLE-STRUCTURED-LOCATION;VALUE=URI;X-ADDRESS=2-fach Turnhalle Städt. Realschule Osterath Görresstr. 6 Meerbusch-Osterath 40670 Deutschland;X-APPLE-RADIUS=500;X-TITLE=Görresstr. 6:geo:6.617342,51.2715
END:VEVENT
BEGIN:VEVENT
DTSTART;TZID=Europe/Berlin:20240304T191500
DTEND;TZID=Europe/Berlin:20240304T201500
DTSTAMP:20260419T153128
CREATED:20230417T150731Z
LAST-MODIFIED:20240823T133335Z
UID:10016397-1709579700-1709583300@otv1893.de
SUMMARY:Body Workout
DESCRIPTION:Offen für alle OTV Mitglieder. Training für den ganzen Körper. \nÜL: Birgit Mehmel \nTraining in den Ferien nur nach Absprache mit der Übungsleiterin
URL:https://otv1893.de/veranstaltung/body-workout/2024-03-04/
LOCATION:Alte Realschul-TH Fröbelstraße
CATEGORIES:Gymnastik
ORGANIZER;CN="OTV - Osterather Turnverein 1893 e.V.":MAILTO:buero@otv1893.de
END:VEVENT
BEGIN:VEVENT
DTSTART;TZID=Europe/Berlin:20240304T194500
DTEND;TZID=Europe/Berlin:20240304T220000
DTSTAMP:20260419T153128
CREATED:20230326T125711Z
LAST-MODIFIED:20230326T125711Z
UID:10016026-1709581500-1709589600@otv1893.de
SUMMARY:Senioren-Training
DESCRIPTION:
URL:https://otv1893.de/veranstaltung/senioren-training/2024-03-04/
LOCATION:2-fach Turnhalle Städt. Realschule Osterath\, Görresstr. 6\, Meerbusch-Osterath\, 40670\, Deutschland
CATEGORIES:Badminton
ORGANIZER;CN="OTV Abteilung Badminton":MAILTO:max.frickel@web.de
GEO:51.2715;6.617342
X-APPLE-STRUCTURED-LOCATION;VALUE=URI;X-ADDRESS=2-fach Turnhalle Städt. Realschule Osterath Görresstr. 6 Meerbusch-Osterath 40670 Deutschland;X-APPLE-RADIUS=500;X-TITLE=Görresstr. 6:geo:6.617342,51.2715
END:VEVENT
END:VCALENDAR