BEGIN:VCALENDAR
VERSION:2.0
PRODID:-//Osterather Turnverein 1893 e.V. - ECPv6.15.15//NONSGML v1.0//EN
CALSCALE:GREGORIAN
METHOD:PUBLISH
X-ORIGINAL-URL:https://otv1893.de
X-WR-CALDESC:Veranstaltungen für Osterather Turnverein 1893 e.V.
REFRESH-INTERVAL;VALUE=DURATION:PT1H
X-Robots-Tag:noindex
X-PUBLISHED-TTL:PT1H
BEGIN:VTIMEZONE
TZID:Europe/Berlin
BEGIN:DAYLIGHT
TZOFFSETFROM:+0100
TZOFFSETTO:+0200
TZNAME:CEST
DTSTART:20230326T010000
END:DAYLIGHT
BEGIN:STANDARD
TZOFFSETFROM:+0200
TZOFFSETTO:+0100
TZNAME:CET
DTSTART:20231029T010000
END:STANDARD
BEGIN:DAYLIGHT
TZOFFSETFROM:+0100
TZOFFSETTO:+0200
TZNAME:CEST
DTSTART:20240331T010000
END:DAYLIGHT
BEGIN:STANDARD
TZOFFSETFROM:+0200
TZOFFSETTO:+0100
TZNAME:CET
DTSTART:20241027T010000
END:STANDARD
BEGIN:DAYLIGHT
TZOFFSETFROM:+0100
TZOFFSETTO:+0200
TZNAME:CEST
DTSTART:20250330T010000
END:DAYLIGHT
BEGIN:STANDARD
TZOFFSETFROM:+0200
TZOFFSETTO:+0100
TZNAME:CET
DTSTART:20251026T010000
END:STANDARD
END:VTIMEZONE
BEGIN:VEVENT
DTSTART;TZID=Europe/Berlin:20241109T090000
DTEND;TZID=Europe/Berlin:20241109T170000
DTSTAMP:20260421T153554
CREATED:20240803T125338Z
LAST-MODIFIED:20241212T170150Z
UID:10038247-1731142800-1731171600@otv1893.de
SUMMARY:Anfänger Kyu-Turnier Senioren - Westerkappeln (09. NOV)
DESCRIPTION:
URL:https://otv1893.de/veranstaltung/anfaenger-kyu-turnier-senioren-westerkappeln-09-nov/
LOCATION:NRW
CATEGORIES:Judo
ATTACH;FMTTYPE=image/jpeg:https://otv1893.de/wp-content/uploads/2024/06/20240707_22729.jpg
END:VEVENT
BEGIN:VEVENT
DTSTART;TZID=Europe/Berlin:20241109T100000
DTEND;TZID=Europe/Berlin:20241109T130000
DTSTAMP:20260421T153554
CREATED:20210921T103532Z
LAST-MODIFIED:20210923T090419Z
UID:10023232-1731146400-1731157200@otv1893.de
SUMMARY:Long Run (Halb-) Marathon-Training
DESCRIPTION:Je nach Saison werden lange Läufe (15-35km) gelaufen
URL:https://otv1893.de/veranstaltung/long-run-halb-marathon-training/2024-11-09/
LOCATION:P&R Haltestelle Bovert\, Meerbusch-Osterath\, NRW\, Deutschland
CATEGORIES:Leichtathletik
GEO:51.2667307831;6.6510214341
END:VEVENT
BEGIN:VEVENT
DTSTART;TZID=Europe/Berlin:20241109T161500
DTEND;TZID=Europe/Berlin:20241109T181500
DTSTAMP:20260421T153554
CREATED:20240826T162626Z
LAST-MODIFIED:20240826T163433Z
UID:10041059-1731168900-1731176100@otv1893.de
SUMMARY:TSG Benrath vs. Osterather TV\, LL4M
DESCRIPTION:
URL:https://otv1893.de/veranstaltung/tsg-benrath-vs-osterather-tv-09-11-24-ll4m/
LOCATION:NRW
CATEGORIES:Volleyball
END:VEVENT
END:VCALENDAR