BEGIN:VCALENDAR
VERSION:2.0
PRODID:-//Osterather Turnverein 1893 e.V. - ECPv6.15.15//NONSGML v1.0//EN
CALSCALE:GREGORIAN
METHOD:PUBLISH
X-ORIGINAL-URL:https://otv1893.de
X-WR-CALDESC:Veranstaltungen für Osterather Turnverein 1893 e.V.
REFRESH-INTERVAL;VALUE=DURATION:PT1H
X-Robots-Tag:noindex
X-PUBLISHED-TTL:PT1H
BEGIN:VTIMEZONE
TZID:Europe/Berlin
BEGIN:DAYLIGHT
TZOFFSETFROM:+0100
TZOFFSETTO:+0200
TZNAME:CEST
DTSTART:20230326T010000
END:DAYLIGHT
BEGIN:STANDARD
TZOFFSETFROM:+0200
TZOFFSETTO:+0100
TZNAME:CET
DTSTART:20231029T010000
END:STANDARD
BEGIN:DAYLIGHT
TZOFFSETFROM:+0100
TZOFFSETTO:+0200
TZNAME:CEST
DTSTART:20240331T010000
END:DAYLIGHT
BEGIN:STANDARD
TZOFFSETFROM:+0200
TZOFFSETTO:+0100
TZNAME:CET
DTSTART:20241027T010000
END:STANDARD
BEGIN:DAYLIGHT
TZOFFSETFROM:+0100
TZOFFSETTO:+0200
TZNAME:CEST
DTSTART:20250330T010000
END:DAYLIGHT
BEGIN:STANDARD
TZOFFSETFROM:+0200
TZOFFSETTO:+0100
TZNAME:CET
DTSTART:20251026T010000
END:STANDARD
END:VTIMEZONE
BEGIN:VEVENT
DTSTART;TZID=Europe/Berlin:20241005T100000
DTEND;TZID=Europe/Berlin:20241005T130000
DTSTAMP:20260420T193913
CREATED:20210921T103532Z
LAST-MODIFIED:20210923T090419Z
UID:10023227-1728122400-1728133200@otv1893.de
SUMMARY:Long Run (Halb-) Marathon-Training
DESCRIPTION:Je nach Saison werden lange Läufe (15-35km) gelaufen
URL:https://otv1893.de/veranstaltung/long-run-halb-marathon-training/2024-10-05/
LOCATION:P&R Haltestelle Bovert\, Meerbusch-Osterath\, NRW\, Deutschland
CATEGORIES:Leichtathletik
GEO:51.2667307831;6.6510214341
END:VEVENT
BEGIN:VEVENT
DTSTART;TZID=Europe/Berlin:20241005T110000
DTEND;TZID=Europe/Berlin:20241005T130000
DTSTAMP:20260420T193913
CREATED:20240826T161806Z
LAST-MODIFIED:20240826T162226Z
UID:10041045-1728126000-1728133200@otv1893.de
SUMMARY:TSV Bayer Dormagen V vs. Osterather TV II\, KLNEGVMGDF
DESCRIPTION:
URL:https://otv1893.de/veranstaltung/tsv-bayer-dormagen-v-vs-osterather-tv-ii-05-10-24-klnegvmgdf/
CATEGORIES:Volleyball
END:VEVENT
BEGIN:VEVENT
DTSTART;TZID=Europe/Berlin:20241005T120000
DTEND;TZID=Europe/Berlin:20241005T140000
DTSTAMP:20260420T193913
CREATED:20240826T162626Z
LAST-MODIFIED:20240826T163537Z
UID:10041056-1728129600-1728136800@otv1893.de
SUMMARY:Verberger TV vs. Osterather TV\, LL4M
DESCRIPTION:
URL:https://otv1893.de/veranstaltung/verberger-tv-vs-osterather-tv-05-10-24-ll4m/
CATEGORIES:Volleyball
END:VEVENT
END:VCALENDAR