BEGIN:VCALENDAR
VERSION:2.0
PRODID:-//Osterather Turnverein 1893 e.V. - ECPv6.15.15//NONSGML v1.0//EN
CALSCALE:GREGORIAN
METHOD:PUBLISH
X-ORIGINAL-URL:https://otv1893.de
X-WR-CALDESC:Veranstaltungen für Osterather Turnverein 1893 e.V.
REFRESH-INTERVAL;VALUE=DURATION:PT1H
X-Robots-Tag:noindex
X-PUBLISHED-TTL:PT1H
BEGIN:VTIMEZONE
TZID:Europe/Berlin
BEGIN:DAYLIGHT
TZOFFSETFROM:+0100
TZOFFSETTO:+0200
TZNAME:CEST
DTSTART:20230326T010000
END:DAYLIGHT
BEGIN:STANDARD
TZOFFSETFROM:+0200
TZOFFSETTO:+0100
TZNAME:CET
DTSTART:20231029T010000
END:STANDARD
BEGIN:DAYLIGHT
TZOFFSETFROM:+0100
TZOFFSETTO:+0200
TZNAME:CEST
DTSTART:20240331T010000
END:DAYLIGHT
BEGIN:STANDARD
TZOFFSETFROM:+0200
TZOFFSETTO:+0100
TZNAME:CET
DTSTART:20241027T010000
END:STANDARD
BEGIN:DAYLIGHT
TZOFFSETFROM:+0100
TZOFFSETTO:+0200
TZNAME:CEST
DTSTART:20250330T010000
END:DAYLIGHT
BEGIN:STANDARD
TZOFFSETFROM:+0200
TZOFFSETTO:+0100
TZNAME:CET
DTSTART:20251026T010000
END:STANDARD
END:VTIMEZONE
BEGIN:VEVENT
DTSTART;TZID=Europe/Berlin:20240324T100000
DTEND;TZID=Europe/Berlin:20240324T110000
DTSTAMP:20260426T030100
CREATED:20230122T102920Z
LAST-MODIFIED:20240103T150258Z
UID:10030349-1711274400-1711278000@otv1893.de
SUMMARY:Lauftreff
DESCRIPTION:Der OTV-Lauftreff ist eine Veranstaltung für Jedermann. Eine Vereinsmitgliedschaft ist nicht erforderlich!
URL:https://otv1893.de/veranstaltung/lauftreff-2-3/2024-03-24/
LOCATION:Waldparkplatz L476 (exB9)\, NRW\, Deutschland
CATEGORIES:Leichtathletik
GEO:51.2658118625;6.66405617915
END:VEVENT
BEGIN:VEVENT
DTSTART;TZID=Europe/Berlin:20240324T170000
DTEND;TZID=Europe/Berlin:20240324T170000
DTSTAMP:20260426T030100
CREATED:20230722T114932Z
LAST-MODIFIED:20230722T114932Z
UID:10028103-1711299600-1711299600@otv1893.de
SUMMARY:OTV vs VV Humann Essen
DESCRIPTION:
URL:https://otv1893.de/veranstaltung/otv-vs-vv-humann-essen/
LOCATION:NRW
END:VEVENT
BEGIN:VEVENT
DTSTART;TZID=Europe/Berlin:20240324T170000
DTEND;TZID=Europe/Berlin:20240324T200000
DTSTAMP:20260426T030100
CREATED:20230722T123314Z
LAST-MODIFIED:20230722T123452Z
UID:10028140-1711299600-1711310400@otv1893.de
SUMMARY:OTV vs VV Humann Essen V
DESCRIPTION:
URL:https://otv1893.de/veranstaltung/otv-vs-vv-humann-essen-v/
LOCATION:2- und 3-fach Turnhallen Städt. Meerbusch Gymnasium\, Mönkesweg 58\, Meerbusch - Strümp\, NRW\, 40670\, Deutschland
CATEGORIES:Volleyball
GEO:51.27803;6.65001
X-APPLE-STRUCTURED-LOCATION;VALUE=URI;X-ADDRESS=2- und 3-fach Turnhallen Städt. Meerbusch Gymnasium Mönkesweg 58 Meerbusch - Strümp NRW 40670 Deutschland;X-APPLE-RADIUS=500;X-TITLE=Mönkesweg 58:geo:6.65001,51.27803
END:VEVENT
END:VCALENDAR