BEGIN:VCALENDAR
VERSION:2.0
PRODID:-//Osterather Turnverein 1893 e.V. - ECPv6.15.15//NONSGML v1.0//EN
CALSCALE:GREGORIAN
METHOD:PUBLISH
X-ORIGINAL-URL:https://otv1893.de
X-WR-CALDESC:Veranstaltungen für Osterather Turnverein 1893 e.V.
REFRESH-INTERVAL;VALUE=DURATION:PT1H
X-Robots-Tag:noindex
X-PUBLISHED-TTL:PT1H
BEGIN:VTIMEZONE
TZID:Europe/Berlin
BEGIN:DAYLIGHT
TZOFFSETFROM:+0100
TZOFFSETTO:+0200
TZNAME:CEST
DTSTART:20230326T010000
END:DAYLIGHT
BEGIN:STANDARD
TZOFFSETFROM:+0200
TZOFFSETTO:+0100
TZNAME:CET
DTSTART:20231029T010000
END:STANDARD
BEGIN:DAYLIGHT
TZOFFSETFROM:+0100
TZOFFSETTO:+0200
TZNAME:CEST
DTSTART:20240331T010000
END:DAYLIGHT
BEGIN:STANDARD
TZOFFSETFROM:+0200
TZOFFSETTO:+0100
TZNAME:CET
DTSTART:20241027T010000
END:STANDARD
BEGIN:DAYLIGHT
TZOFFSETFROM:+0100
TZOFFSETTO:+0200
TZNAME:CEST
DTSTART:20250330T010000
END:DAYLIGHT
BEGIN:STANDARD
TZOFFSETFROM:+0200
TZOFFSETTO:+0100
TZNAME:CET
DTSTART:20251026T010000
END:STANDARD
END:VTIMEZONE
BEGIN:VEVENT
DTSTART;TZID=Europe/Berlin:20240203T080000
DTEND;TZID=Europe/Berlin:20240204T170000
DTSTAMP:20260421T122857
CREATED:20231210T150353Z
LAST-MODIFIED:20240216T080056Z
UID:10031193-1706947200-1707066000@otv1893.de
SUMMARY:BEM U11 und U18 Mönchengladbach (03.-04. FEB)
DESCRIPTION:
URL:https://otv1893.de/veranstaltung/bem-u11-und-u18-moenchengladbach-03-04-feb/
CATEGORIES:Judo
ATTACH;FMTTYPE=image/jpeg:https://otv1893.de/wp-content/uploads/2023/10/DHM-2019-Laura.jpg
END:VEVENT
BEGIN:VEVENT
DTSTART;TZID=Europe/Berlin:20240203T100000
DTEND;TZID=Europe/Berlin:20240203T123000
DTSTAMP:20260421T122857
CREATED:20231209T222002Z
LAST-MODIFIED:20240216T080105Z
UID:10033326-1706954400-1706963400@otv1893.de
SUMMARY:OTV-Randori (03. FEB)
DESCRIPTION:
URL:https://otv1893.de/veranstaltung/otv-randori-03-feb/
CATEGORIES:Judo
ATTACH;FMTTYPE=image/jpeg:https://otv1893.de/wp-content/uploads/2023/08/IMG-20230603-WA0005-e1691835601533.jpg
END:VEVENT
BEGIN:VEVENT
DTSTART;TZID=Europe/Berlin:20240203T100000
DTEND;TZID=Europe/Berlin:20240203T130000
DTSTAMP:20260421T122857
CREATED:20210921T103532Z
LAST-MODIFIED:20210923T090419Z
UID:10023192-1706954400-1706965200@otv1893.de
SUMMARY:Long Run (Halb-) Marathon-Training
DESCRIPTION:Je nach Saison werden lange Läufe (15-35km) gelaufen
URL:https://otv1893.de/veranstaltung/long-run-halb-marathon-training/2024-02-03/
LOCATION:P&R Haltestelle Bovert\, Meerbusch-Osterath\, NRW\, Deutschland
CATEGORIES:Leichtathletik
GEO:51.2667307831;6.6510214341
END:VEVENT
BEGIN:VEVENT
DTSTART;TZID=Europe/Berlin:20240203T141500
DTEND;TZID=Europe/Berlin:20240203T161500
DTSTAMP:20260421T122857
CREATED:20230722T124506Z
LAST-MODIFIED:20230722T130254Z
UID:10028154-1706969700-1706976900@otv1893.de
SUMMARY:DJK Tusa 06 Düsseldorf II vs. OTV
DESCRIPTION:
URL:https://otv1893.de/veranstaltung/djk-tusa-06-duesseldorf-ii-vs-otv/
LOCATION:Gemeinschaftsgrundschule Sandheide (Halle 2)\, Daniel-Schreber-Weg\, 40699 Erkrath
CATEGORIES:Volleyball
END:VEVENT
END:VCALENDAR