BEGIN:VCALENDAR
VERSION:2.0
PRODID:-//Osterather Turnverein 1893 e.V. - ECPv6.15.15//NONSGML v1.0//EN
CALSCALE:GREGORIAN
METHOD:PUBLISH
X-WR-CALNAME:Osterather Turnverein 1893 e.V.
X-ORIGINAL-URL:https://otv1893.de
X-WR-CALDESC:Veranstaltungen für Osterather Turnverein 1893 e.V.
REFRESH-INTERVAL;VALUE=DURATION:PT1H
X-Robots-Tag:noindex
X-PUBLISHED-TTL:PT1H
BEGIN:VTIMEZONE
TZID:Europe/Berlin
BEGIN:DAYLIGHT
TZOFFSETFROM:+0100
TZOFFSETTO:+0200
TZNAME:CEST
DTSTART:20230326T010000
END:DAYLIGHT
BEGIN:STANDARD
TZOFFSETFROM:+0200
TZOFFSETTO:+0100
TZNAME:CET
DTSTART:20231029T010000
END:STANDARD
BEGIN:DAYLIGHT
TZOFFSETFROM:+0100
TZOFFSETTO:+0200
TZNAME:CEST
DTSTART:20240331T010000
END:DAYLIGHT
BEGIN:STANDARD
TZOFFSETFROM:+0200
TZOFFSETTO:+0100
TZNAME:CET
DTSTART:20241027T010000
END:STANDARD
BEGIN:DAYLIGHT
TZOFFSETFROM:+0100
TZOFFSETTO:+0200
TZNAME:CEST
DTSTART:20250330T010000
END:DAYLIGHT
BEGIN:STANDARD
TZOFFSETFROM:+0200
TZOFFSETTO:+0100
TZNAME:CET
DTSTART:20251026T010000
END:STANDARD
END:VTIMEZONE
BEGIN:VEVENT
DTSTART;TZID=Europe/Berlin:20240126T090000
DTEND;TZID=Europe/Berlin:20240126T100000
DTSTAMP:20260421T233856
CREATED:20220327T142835Z
LAST-MODIFIED:20230510T095904Z
UID:10022761-1706259600-1706263200@otv1893.de
SUMMARY:Eltern-Kind-Turnen ab 15 Mon.
DESCRIPTION:Ül.: Marie Basels
URL:https://otv1893.de/veranstaltung/eltern-kind-turnen-ab-15-mon/2024-01-26/
LOCATION:Gymnastikhalle /alte Realschulturnhalle\, Fröbelstr.\, NRW\, Deutschland
CATEGORIES:Turnen
GEO:51.4332367;7.6615938
END:VEVENT
BEGIN:VEVENT
DTSTART;TZID=Europe/Berlin:20240126T100000
DTEND;TZID=Europe/Berlin:20240126T110000
DTSTAMP:20260421T233856
CREATED:20220330T185559Z
LAST-MODIFIED:20230510T101051Z
UID:10022727-1706263200-1706266800@otv1893.de
SUMMARY:Eltern-Kind-Turnen ab 15 Mon. b
DESCRIPTION:Ül.: Maria Basels
URL:https://otv1893.de/veranstaltung/eltern-kind-turnen-ab-15-mon-2/2024-01-26/
LOCATION:Gymnastikhalle /alte Realschulturnhalle\, Fröbelstr.\, NRW\, Deutschland
CATEGORIES:Turnen
GEO:51.4332367;7.6615938
END:VEVENT
BEGIN:VEVENT
DTSTART;TZID=Europe/Berlin:20240126T110000
DTEND;TZID=Europe/Berlin:20240126T120000
DTSTAMP:20260421T233856
CREATED:20220330T201349Z
LAST-MODIFIED:20230510T095741Z
UID:10022693-1706266800-1706270400@otv1893.de
SUMMARY:Eltern-Kind-Turnen ab 15 Mon.
DESCRIPTION:Ül.: Maria Basels
URL:https://otv1893.de/veranstaltung/eltern-kind-turnen-ab-15-mon-3/2024-01-26/
LOCATION:NRW
CATEGORIES:Turnen
END:VEVENT
BEGIN:VEVENT
DTSTART;TZID=Europe/Berlin:20240126T163000
DTEND;TZID=Europe/Berlin:20240126T180000
DTSTAMP:20260421T233856
CREATED:20230124T230330Z
LAST-MODIFIED:20240301T105429Z
UID:10015070-1706286600-1706292000@otv1893.de
SUMMARY:Volley-Kids
DESCRIPTION:
URL:https://otv1893.de/veranstaltung/volley-kids/2024-01-26/
LOCATION:Turnhalle Städt. Gemeinschafts-Grundschule Wienenweg\, Wienenweg 38\, Meerbusch-Osterath\, NRW\, 40670\, Deutschland
CATEGORIES:Volleyball
GEO:51.27029;6.63279
X-APPLE-STRUCTURED-LOCATION;VALUE=URI;X-ADDRESS=Turnhalle Städt. Gemeinschafts-Grundschule Wienenweg Wienenweg 38 Meerbusch-Osterath NRW 40670 Deutschland;X-APPLE-RADIUS=500;X-TITLE=Wienenweg 38:geo:6.63279,51.27029
END:VEVENT
BEGIN:VEVENT
DTSTART;TZID=Europe/Berlin:20240126T170000
DTEND;TZID=Europe/Berlin:20240126T190000
DTSTAMP:20260421T233856
CREATED:20231019T192729Z
LAST-MODIFIED:20231019T192829Z
UID:10029721-1706288400-1706295600@otv1893.de
SUMMARY:Jugendtraining
DESCRIPTION:
URL:https://otv1893.de/veranstaltung/jugendtraining/2024-01-26/
LOCATION:2-fach Turnhallen Städt. Meerbusch Gymnasium\, Mönkesweg 58\, Meerbusch\, NRW\, 40670\, Deutschland
ORGANIZER;CN="OTV Abteilung Badminton":MAILTO:max.frickel@web.de
GEO:51.2780502;6.6495199
X-APPLE-STRUCTURED-LOCATION;VALUE=URI;X-ADDRESS=2-fach Turnhallen Städt. Meerbusch Gymnasium Mönkesweg 58 Meerbusch NRW 40670 Deutschland;X-APPLE-RADIUS=500;X-TITLE=Mönkesweg 58:geo:6.6495199,51.2780502
END:VEVENT
BEGIN:VEVENT
DTSTART;TZID=Europe/Berlin:20240126T174500
DTEND;TZID=Europe/Berlin:20240126T183000
DTSTAMP:20260421T233856
CREATED:20230124T230511Z
LAST-MODIFIED:20230128T154825Z
UID:10015139-1706291100-1706293800@otv1893.de
SUMMARY:Jugend-Nachwuchsgruppe
DESCRIPTION:
URL:https://otv1893.de/veranstaltung/jugend-nachwuchsgruppe/2024-01-26/
LOCATION:Turnhalle Städt. Gemeinschafts-Grundschule Wienenweg\, Wienenweg 38\, Meerbusch-Osterath\, NRW\, 40670\, Deutschland
CATEGORIES:Volleyball
GEO:51.27029;6.63279
X-APPLE-STRUCTURED-LOCATION;VALUE=URI;X-ADDRESS=Turnhalle Städt. Gemeinschafts-Grundschule Wienenweg Wienenweg 38 Meerbusch-Osterath NRW 40670 Deutschland;X-APPLE-RADIUS=500;X-TITLE=Wienenweg 38:geo:6.63279,51.27029
END:VEVENT
BEGIN:VEVENT
DTSTART;TZID=Europe/Berlin:20240126T180000
DTEND;TZID=Europe/Berlin:20240126T190000
DTSTAMP:20260421T233856
CREATED:20240103T151832Z
LAST-MODIFIED:20250416T090334Z
UID:10030933-1706292000-1706295600@otv1893.de
SUMMARY:Lauftreff
DESCRIPTION:Der OTV-Lauftreff ist eine Veranstaltung für Jedermann. Eine Vereinsmitgliedschaft ist nicht erforderlich!
URL:https://otv1893.de/veranstaltung/lauftreff/2024-01-26/
LOCATION:Insterburgerstraße (Parkplatz der Kleingartenanlage)\, NRW\, Deutschland
CATEGORIES:Leichtathletik
GEO:51.265242147;6.63097819881
END:VEVENT
BEGIN:VEVENT
DTSTART;TZID=Europe/Berlin:20240126T190000
DTEND;TZID=Europe/Berlin:20240126T220000
DTSTAMP:20260421T233856
CREATED:20230326T130338Z
LAST-MODIFIED:20230326T130357Z
UID:10016081-1706295600-1706306400@otv1893.de
SUMMARY:Senioren-Training
DESCRIPTION:
URL:https://otv1893.de/veranstaltung/senioren-training-2/2024-01-26/
LOCATION:2-fach Turnhallen Städt. Meerbusch Gymnasium\, Mönkesweg 58\, Meerbusch\, NRW\, 40670\, Deutschland
CATEGORIES:Badminton
ORGANIZER;CN="OTV Abteilung Badminton":MAILTO:max.frickel@web.de
GEO:51.2780502;6.6495199
X-APPLE-STRUCTURED-LOCATION;VALUE=URI;X-ADDRESS=2-fach Turnhallen Städt. Meerbusch Gymnasium Mönkesweg 58 Meerbusch NRW 40670 Deutschland;X-APPLE-RADIUS=500;X-TITLE=Mönkesweg 58:geo:6.6495199,51.2780502
END:VEVENT
BEGIN:VEVENT
DTSTART;TZID=Europe/Berlin:20240126T193000
DTEND;TZID=Europe/Berlin:20240126T203000
DTSTAMP:20260421T233856
CREATED:20230916T095108Z
LAST-MODIFIED:20231005T093622Z
UID:10029393-1706297400-1706301000@otv1893.de
SUMMARY:Osterather TV 1 - VfR Krefeld-Fisch. 2
DESCRIPTION:Ligen NRW 2023-24 - O19-S1 – O19-S1-BK – (049) Bezirksklasse Süd 1\nOsterather TV 1 - VfR Krefeld-Fisch. 2\nSpieltermin: Freitag\, 26. Januar 2024 19:30\nSpielort:\n40670 Meerbusch-Strümp\, Schulzentrum Strümp Halle 2\, Mönkesweg 58\nMönkesweg 58\n40670 Meerbusch-Strümp
URL:https://otv1893.de/veranstaltung/osterather-tv-1-vfr-krefeld-fisch-2-meerbusch-struemp/
LOCATION:Mönkesweg 58\, 40670\, Meerbusch-Strümp
CATEGORIES:Badminton
ORGANIZER;CN="OTV Abteilung Badminton":MAILTO:max.frickel@web.de
END:VEVENT
BEGIN:VEVENT
DTSTART;TZID=Europe/Berlin:20240126T200000
DTEND;TZID=Europe/Berlin:20240126T220000
DTSTAMP:20260421T233856
CREATED:20230810T201143Z
LAST-MODIFIED:20230810T201143Z
UID:10028862-1706299200-1706306400@otv1893.de
SUMMARY:Damen
DESCRIPTION:
URL:https://otv1893.de/veranstaltung/damen-2/2024-01-26/
LOCATION:Turnhalle Städt. Gemeinschafts-Grundschule Wienenweg\, Wienenweg 38\, Meerbusch-Osterath\, NRW\, 40670\, Deutschland
CATEGORIES:Volleyball
GEO:51.27029;6.63279
X-APPLE-STRUCTURED-LOCATION;VALUE=URI;X-ADDRESS=Turnhalle Städt. Gemeinschafts-Grundschule Wienenweg Wienenweg 38 Meerbusch-Osterath NRW 40670 Deutschland;X-APPLE-RADIUS=500;X-TITLE=Wienenweg 38:geo:6.63279,51.27029
END:VEVENT
END:VCALENDAR