BEGIN:VCALENDAR
VERSION:2.0
PRODID:-//Osterather Turnverein 1893 e.V. - ECPv6.15.15//NONSGML v1.0//EN
CALSCALE:GREGORIAN
METHOD:PUBLISH
X-WR-CALNAME:Osterather Turnverein 1893 e.V.
X-ORIGINAL-URL:https://otv1893.de
X-WR-CALDESC:Veranstaltungen für Osterather Turnverein 1893 e.V.
REFRESH-INTERVAL;VALUE=DURATION:PT1H
X-Robots-Tag:noindex
X-PUBLISHED-TTL:PT1H
BEGIN:VTIMEZONE
TZID:Europe/Berlin
BEGIN:DAYLIGHT
TZOFFSETFROM:+0100
TZOFFSETTO:+0200
TZNAME:CEST
DTSTART:20230326T010000
END:DAYLIGHT
BEGIN:STANDARD
TZOFFSETFROM:+0200
TZOFFSETTO:+0100
TZNAME:CET
DTSTART:20231029T010000
END:STANDARD
BEGIN:DAYLIGHT
TZOFFSETFROM:+0100
TZOFFSETTO:+0200
TZNAME:CEST
DTSTART:20240331T010000
END:DAYLIGHT
BEGIN:STANDARD
TZOFFSETFROM:+0200
TZOFFSETTO:+0100
TZNAME:CET
DTSTART:20241027T010000
END:STANDARD
BEGIN:DAYLIGHT
TZOFFSETFROM:+0100
TZOFFSETTO:+0200
TZNAME:CEST
DTSTART:20250330T010000
END:DAYLIGHT
BEGIN:STANDARD
TZOFFSETFROM:+0200
TZOFFSETTO:+0100
TZNAME:CET
DTSTART:20251026T010000
END:STANDARD
END:VTIMEZONE
BEGIN:VEVENT
DTSTART;TZID=Europe/Berlin:20240113T100000
DTEND;TZID=Europe/Berlin:20240113T130000
DTSTAMP:20260421T230947
CREATED:20210921T103532Z
LAST-MODIFIED:20210923T090419Z
UID:10023189-1705140000-1705150800@otv1893.de
SUMMARY:Long Run (Halb-) Marathon-Training
DESCRIPTION:Je nach Saison werden lange Läufe (15-35km) gelaufen
URL:https://otv1893.de/veranstaltung/long-run-halb-marathon-training/2024-01-13/
LOCATION:P&R Haltestelle Bovert\, Meerbusch-Osterath\, NRW\, Deutschland
CATEGORIES:Leichtathletik
GEO:51.2667307831;6.6510214341
END:VEVENT
BEGIN:VEVENT
DTSTART;TZID=Europe/Berlin:20240113T120000
DTEND;TZID=Europe/Berlin:20240113T140000
DTSTAMP:20260421T230947
CREATED:20230722T124506Z
LAST-MODIFIED:20230722T130143Z
UID:10028151-1705147200-1705154400@otv1893.de
SUMMARY:SG Langenfeld II vs. OTV
DESCRIPTION:
URL:https://otv1893.de/veranstaltung/sg-langenfeld-ii-vs-otv/
LOCATION:Konrad-Adenauer-Gymnasium\, Auf dem Sändchen 24\, 40764 Langenfeld
CATEGORIES:Volleyball
END:VEVENT
BEGIN:VEVENT
DTSTART;TZID=Europe/Berlin:20240113T160000
DTEND;TZID=Europe/Berlin:20240113T160000
DTSTAMP:20260421T230947
CREATED:20230722T115543Z
LAST-MODIFIED:20230722T115543Z
UID:10028106-1705161600-1705161600@otv1893.de
SUMMARY:TV Müllfort Bell vs OTV
DESCRIPTION:Hugo Junkers Gymnasium (41236 Mönchengladbach)
URL:https://otv1893.de/veranstaltung/tv-muellfort-bell-vs-otv/
LOCATION:NRW
END:VEVENT
BEGIN:VEVENT
DTSTART;TZID=Europe/Berlin:20240113T160000
DTEND;TZID=Europe/Berlin:20240113T180000
DTSTAMP:20260421T230947
CREATED:20230722T122724Z
LAST-MODIFIED:20230722T122906Z
UID:10028134-1705161600-1705168800@otv1893.de
SUMMARY:TV Müllfort Bell vs OTV
DESCRIPTION:Hugo Junkers Gymnasium (41236 Mönchengladbach)
URL:https://otv1893.de/veranstaltung/tv-muellfort-bell-vs-otv-2/
LOCATION:NRW
CATEGORIES:Volleyball
END:VEVENT
BEGIN:VEVENT
DTSTART;TZID=Europe/Berlin:20240113T180000
DTEND;TZID=Europe/Berlin:20240113T190000
DTSTAMP:20260421T230947
CREATED:20230916T095108Z
LAST-MODIFIED:20231005T093633Z
UID:10029392-1705168800-1705172400@otv1893.de
SUMMARY:KTSV Preu. Krefeld 1 - Osterather TV 1
DESCRIPTION:Ligen NRW 2023-24 - O19-S1 – O19-S1-BK – (049) Bezirksklasse Süd 1\nKTSV Preu. Krefeld 1 - Osterather TV 1\nSpieltermin: Samstag\, 13. Januar 2024 18:00\nSpielort:\n47803 Krefeld\, TH Gem.-Grundschule\, Girmesdyk 17/19\nGirmesdyk 17/19\n47803 Krefeld
URL:https://otv1893.de/veranstaltung/ktsv-preu-krefeld-1-osterather-tv-1-krefeld-2/
LOCATION:Girmesdyk 17/19\, 47803\, Krefeld
CATEGORIES:Badminton
END:VEVENT
END:VCALENDAR