BEGIN:VCALENDAR
VERSION:2.0
PRODID:-//Osterather Turnverein 1893 e.V. - ECPv6.15.15//NONSGML v1.0//EN
CALSCALE:GREGORIAN
METHOD:PUBLISH
X-ORIGINAL-URL:https://otv1893.de
X-WR-CALDESC:Veranstaltungen für Osterather Turnverein 1893 e.V.
REFRESH-INTERVAL;VALUE=DURATION:PT1H
X-Robots-Tag:noindex
X-PUBLISHED-TTL:PT1H
BEGIN:VTIMEZONE
TZID:Europe/Berlin
BEGIN:DAYLIGHT
TZOFFSETFROM:+0100
TZOFFSETTO:+0200
TZNAME:CEST
DTSTART:20220327T010000
END:DAYLIGHT
BEGIN:STANDARD
TZOFFSETFROM:+0200
TZOFFSETTO:+0100
TZNAME:CET
DTSTART:20221030T010000
END:STANDARD
BEGIN:DAYLIGHT
TZOFFSETFROM:+0100
TZOFFSETTO:+0200
TZNAME:CEST
DTSTART:20230326T010000
END:DAYLIGHT
BEGIN:STANDARD
TZOFFSETFROM:+0200
TZOFFSETTO:+0100
TZNAME:CET
DTSTART:20231029T010000
END:STANDARD
BEGIN:DAYLIGHT
TZOFFSETFROM:+0100
TZOFFSETTO:+0200
TZNAME:CEST
DTSTART:20240331T010000
END:DAYLIGHT
BEGIN:STANDARD
TZOFFSETFROM:+0200
TZOFFSETTO:+0100
TZNAME:CET
DTSTART:20241027T010000
END:STANDARD
END:VTIMEZONE
BEGIN:VEVENT
DTSTART;TZID=Europe/Berlin:20231209T100000
DTEND;TZID=Europe/Berlin:20231209T130000
DTSTAMP:20260424T183055
CREATED:20210921T103532Z
LAST-MODIFIED:20210923T090419Z
UID:10023184-1702116000-1702126800@otv1893.de
SUMMARY:Long Run (Halb-) Marathon-Training
DESCRIPTION:Je nach Saison werden lange Läufe (15-35km) gelaufen
URL:https://otv1893.de/veranstaltung/long-run-halb-marathon-training/2023-12-09/
LOCATION:P&R Haltestelle Bovert\, Meerbusch-Osterath\, NRW\, Deutschland
CATEGORIES:Leichtathletik
GEO:51.2667307831;6.6510214341
END:VEVENT
BEGIN:VEVENT
DTSTART;TZID=Europe/Berlin:20231209T100000
DTEND;TZID=Europe/Berlin:20231209T170000
DTSTAMP:20260424T183055
CREATED:20231023T144610Z
LAST-MODIFIED:20231210T122545Z
UID:10029996-1702116000-1702141200@otv1893.de
SUMMARY:Mixed-Mannschaftsturnier Senioren - Hattingen (09. Dezember)
DESCRIPTION:
URL:https://otv1893.de/veranstaltung/mixed-mannschaftsturnier-senioren-hattingen-09-dezember-2023/
LOCATION:NRW
CATEGORIES:Judo
ATTACH;FMTTYPE=image/jpeg:https://otv1893.de/wp-content/uploads/2023/10/Mixed-Turnier-2022-Aufwaermen-1-scaled.jpg
END:VEVENT
BEGIN:VEVENT
DTSTART;TZID=Europe/Berlin:20231209T160000
DTEND;TZID=Europe/Berlin:20231209T171000
DTSTAMP:20260424T183055
CREATED:20230919T131324Z
LAST-MODIFIED:20230919T131324Z
UID:10029591-1702137600-1702141800@otv1893.de
SUMMARY:Adler Königshof III - Osterather TV
DESCRIPTION:Handball Bezirksoberliga Männer
URL:https://otv1893.de/veranstaltung/adler-koenigshof-iii-osterather-tv/
LOCATION:Sporthalle Königshof\, Johannes-Blum-Straße 101\, Krefeld\, 47807\, Deutschland
CATEGORIES:Handball
GEO:51.3129061;6.5851006
X-APPLE-STRUCTURED-LOCATION;VALUE=URI;X-ADDRESS=Sporthalle Königshof Johannes-Blum-Straße 101 Krefeld 47807 Deutschland;X-APPLE-RADIUS=500;X-TITLE=Johannes-Blum-Straße 101:geo:6.5851006,51.3129061
END:VEVENT
BEGIN:VEVENT
DTSTART;TZID=Europe/Berlin:20231209T163000
DTEND;TZID=Europe/Berlin:20231209T183000
DTSTAMP:20260424T183055
CREATED:20230722T124506Z
LAST-MODIFIED:20230722T130533Z
UID:10028149-1702139400-1702146600@otv1893.de
SUMMARY:OTV vs. TSV Bayer Dormagen II
DESCRIPTION:
URL:https://otv1893.de/veranstaltung/otv-vs-tsv-bayer-dormagen-ii/
LOCATION:2- und 3-fach Turnhallen Städt. Meerbusch Gymnasium\, Mönkesweg 58\, Meerbusch - Strümp\, NRW\, 40670\, Deutschland
CATEGORIES:Volleyball
GEO:51.27803;6.65001
X-APPLE-STRUCTURED-LOCATION;VALUE=URI;X-ADDRESS=2- und 3-fach Turnhallen Städt. Meerbusch Gymnasium Mönkesweg 58 Meerbusch - Strümp NRW 40670 Deutschland;X-APPLE-RADIUS=500;X-TITLE=Mönkesweg 58:geo:6.65001,51.27803
END:VEVENT
BEGIN:VEVENT
DTSTART;TZID=Europe/Berlin:20231209T164000
DTEND;TZID=Europe/Berlin:20231209T175000
DTSTAMP:20260424T183055
CREATED:20230920T150704Z
LAST-MODIFIED:20230920T150704Z
UID:10029653-1702140000-1702144200@otv1893.de
SUMMARY:Borussia Mönchengladbach III - Osterather TV III
DESCRIPTION:Handball Kreisliga C Männer
URL:https://otv1893.de/veranstaltung/borussia-moenchengladbach-iii-osterather-tv-iii/
LOCATION:Math.-Nat.-Gymnasium\, Rheydter Str. 65\, Mönchengladbach\, 41065\, Deutschland
CATEGORIES:Handball
GEO:51.1888786;6.4386211
X-APPLE-STRUCTURED-LOCATION;VALUE=URI;X-ADDRESS=Math.-Nat.-Gymnasium Rheydter Str. 65 Mönchengladbach 41065 Deutschland;X-APPLE-RADIUS=500;X-TITLE=Rheydter Str. 65:geo:6.4386211,51.1888786
END:VEVENT
BEGIN:VEVENT
DTSTART;TZID=Europe/Berlin:20231209T180000
DTEND;TZID=Europe/Berlin:20231209T190000
DTSTAMP:20260424T183055
CREATED:20230916T095108Z
LAST-MODIFIED:20231005T093642Z
UID:10029391-1702144800-1702148400@otv1893.de
SUMMARY:Osterather TV 1 - Rheydter TV 1847 3
DESCRIPTION:Ligen NRW 2023-24 - O19-S1 – O19-S1-BK – (049) Bezirksklasse Süd 1\nOsterather TV 1 - Rheydter TV 1847 3\nSpieltermin: Samstag\, 9. Dezember 2023 18:00\nSpielort:\n40670 Meerbusch\, 2-fach TH Realschule Osterath\, Görresstr. 6\nGörresstr. 6\n40670 Meerbusch
URL:https://otv1893.de/veranstaltung/osterather-tv-1-rheydter-tv-1847-3-meerbusch/
LOCATION:Görresstr. 6\, 40670\, Meerbusch
CATEGORIES:Badminton
ORGANIZER;CN="OTV Abteilung Badminton":MAILTO:max.frickel@web.de
END:VEVENT
BEGIN:VEVENT
DTSTART;TZID=Europe/Berlin:20231209T200000
DTEND;TZID=Europe/Berlin:20231209T211000
DTSTAMP:20260424T183055
CREATED:20230919T133020Z
LAST-MODIFIED:20230919T133020Z
UID:10029600-1702152000-1702156200@otv1893.de
SUMMARY:TV Erkelenz 1860 - Osterather TV II
DESCRIPTION:Handball Kreisliga A Männer
URL:https://otv1893.de/veranstaltung/tv-erkelenz-1860-osterather-tv-ii/
LOCATION:Erka-Sporthalle\, Schulring\, Erkelenz\, 41812\, Deutschland
CATEGORIES:Handball
GEO:51.0797057;6.3068246
X-APPLE-STRUCTURED-LOCATION;VALUE=URI;X-ADDRESS=Erka-Sporthalle Schulring Erkelenz 41812 Deutschland;X-APPLE-RADIUS=500;X-TITLE=Schulring:geo:6.3068246,51.0797057
END:VEVENT
END:VCALENDAR